BEGIN:VCALENDAR
VERSION:2.0
PRODID:-//HGMS - Houston Gem &amp; Mineral Society - ECPv6.15.20//NONSGML v1.0//EN
CALSCALE:GREGORIAN
METHOD:PUBLISH
X-ORIGINAL-URL:https://hgms.org
X-WR-CALDESC:Events for HGMS - Houston Gem &amp; Mineral Society
REFRESH-INTERVAL;VALUE=DURATION:PT1H
X-Robots-Tag:noindex
X-PUBLISHED-TTL:PT1H
BEGIN:VTIMEZONE
TZID:America/Chicago
BEGIN:DAYLIGHT
TZOFFSETFROM:-0600
TZOFFSETTO:-0500
TZNAME:CDT
DTSTART:20240310T080000
END:DAYLIGHT
BEGIN:STANDARD
TZOFFSETFROM:-0500
TZOFFSETTO:-0600
TZNAME:CST
DTSTART:20241103T070000
END:STANDARD
BEGIN:DAYLIGHT
TZOFFSETFROM:-0600
TZOFFSETTO:-0500
TZNAME:CDT
DTSTART:20250309T080000
END:DAYLIGHT
BEGIN:STANDARD
TZOFFSETFROM:-0500
TZOFFSETTO:-0600
TZNAME:CST
DTSTART:20251102T070000
END:STANDARD
BEGIN:DAYLIGHT
TZOFFSETFROM:-0600
TZOFFSETTO:-0500
TZNAME:CDT
DTSTART:20260308T080000
END:DAYLIGHT
BEGIN:STANDARD
TZOFFSETFROM:-0500
TZOFFSETTO:-0600
TZNAME:CST
DTSTART:20261101T070000
END:STANDARD
BEGIN:DAYLIGHT
TZOFFSETFROM:-0600
TZOFFSETTO:-0500
TZNAME:CDT
DTSTART:20270314T080000
END:DAYLIGHT
BEGIN:STANDARD
TZOFFSETFROM:-0500
TZOFFSETTO:-0600
TZNAME:CST
DTSTART:20271107T070000
END:STANDARD
END:VTIMEZONE
BEGIN:VEVENT
DTSTART;TZID=America/Chicago:20260101T100000
DTEND;TZID=America/Chicago:20260101T150000
DTSTAMP:20260422T174811
CREATED:20250319T145607Z
LAST-MODIFIED:20250319T145607Z
UID:23300-1767261600-1767279600@hgms.org
SUMMARY:Open Shop - Thursday
DESCRIPTION:Shop available for HGMS Member Use Only – additional shop usage fees apply.
URL:https://hgms.org/event/open-shop-thursday/2026-01-01/
LOCATION:HGMS Clubhouse\, 10805 Brooklet Dr.\, Houston\, TX\, 77099\, United States
CATEGORIES:Open Shop
END:VEVENT
BEGIN:VEVENT
DTSTART;TZID=America/Chicago:20251231T100000
DTEND;TZID=America/Chicago:20251231T200000
DTSTAMP:20260422T174811
CREATED:20250319T145714Z
LAST-MODIFIED:20250319T150149Z
UID:22876-1767175200-1767211200@hgms.org
SUMMARY:Open Shop - Wednesday
DESCRIPTION:Shop available for HGMS Member Use Only – additional shop usage fees apply.
URL:https://hgms.org/event/open-shop-wednesday/2025-12-31/
LOCATION:HGMS Clubhouse\, 10805 Brooklet Dr.\, Houston\, TX\, 77099\, United States
CATEGORIES:Open Shop
END:VEVENT
BEGIN:VEVENT
DTSTART;TZID=America/Chicago:20251228T110000
DTEND;TZID=America/Chicago:20251228T160000
DTSTAMP:20260422T174811
CREATED:20250319T145402Z
LAST-MODIFIED:20250319T145402Z
UID:23004-1766919600-1766937600@hgms.org
SUMMARY:Open Shop - Sundays
DESCRIPTION:Shop available for HGMS Member Use Only – additional shop usage fees apply.
URL:https://hgms.org/event/open-shop-sundays/2025-12-28/
LOCATION:HGMS Clubhouse\, 10805 Brooklet Dr.\, Houston\, TX\, 77099\, United States
CATEGORIES:Open Shop
END:VEVENT
BEGIN:VEVENT
DTSTART;TZID=America/Chicago:20251227T100000
DTEND;TZID=America/Chicago:20251227T150000
DTSTAMP:20260422T174811
CREATED:20250319T145518Z
LAST-MODIFIED:20250319T145518Z
UID:23080-1766829600-1766847600@hgms.org
SUMMARY:Open Shop - Saturdays
DESCRIPTION:Shop available for HGMS Member Use Only – additional shop usage fees apply.
URL:https://hgms.org/event/open-shop-saturdays/2025-12-27/
LOCATION:HGMS Clubhouse\, 10805 Brooklet Dr.\, Houston\, TX\, 77099\, United States
CATEGORIES:Open Shop
END:VEVENT
BEGIN:VEVENT
DTSTART;TZID=America/Chicago:20251225T100000
DTEND;TZID=America/Chicago:20251225T150000
DTSTAMP:20260422T174811
CREATED:20250319T145607Z
LAST-MODIFIED:20250319T145607Z
UID:23298-1766656800-1766674800@hgms.org
SUMMARY:Open Shop - Thursday
DESCRIPTION:Shop available for HGMS Member Use Only – additional shop usage fees apply.
URL:https://hgms.org/event/open-shop-thursday/2025-12-25/
LOCATION:HGMS Clubhouse\, 10805 Brooklet Dr.\, Houston\, TX\, 77099\, United States
CATEGORIES:Open Shop
END:VEVENT
BEGIN:VEVENT
DTSTART;TZID=America/Chicago:20251224T100000
DTEND;TZID=America/Chicago:20251224T200000
DTSTAMP:20260422T174811
CREATED:20250319T145714Z
LAST-MODIFIED:20250319T150149Z
UID:22875-1766570400-1766606400@hgms.org
SUMMARY:Open Shop - Wednesday
DESCRIPTION:Shop available for HGMS Member Use Only – additional shop usage fees apply.
URL:https://hgms.org/event/open-shop-wednesday/2025-12-24/
LOCATION:HGMS Clubhouse\, 10805 Brooklet Dr.\, Houston\, TX\, 77099\, United States
CATEGORIES:Open Shop
END:VEVENT
BEGIN:VEVENT
DTSTART;TZID=America/Chicago:20251221T110000
DTEND;TZID=America/Chicago:20251221T160000
DTSTAMP:20260422T174811
CREATED:20250319T145402Z
LAST-MODIFIED:20250319T145402Z
UID:23000-1766314800-1766332800@hgms.org
SUMMARY:Open Shop - Sundays
DESCRIPTION:Shop available for HGMS Member Use Only – additional shop usage fees apply.
URL:https://hgms.org/event/open-shop-sundays/2025-12-21/
LOCATION:HGMS Clubhouse\, 10805 Brooklet Dr.\, Houston\, TX\, 77099\, United States
CATEGORIES:Open Shop
END:VEVENT
BEGIN:VEVENT
DTSTART;TZID=America/Chicago:20251220T100000
DTEND;TZID=America/Chicago:20251220T150000
DTSTAMP:20260422T174811
CREATED:20250319T145518Z
LAST-MODIFIED:20250319T145518Z
UID:23072-1766224800-1766242800@hgms.org
SUMMARY:Open Shop - Saturdays
DESCRIPTION:Shop available for HGMS Member Use Only – additional shop usage fees apply.
URL:https://hgms.org/event/open-shop-saturdays/2025-12-20/
LOCATION:HGMS Clubhouse\, 10805 Brooklet Dr.\, Houston\, TX\, 77099\, United States
CATEGORIES:Open Shop
END:VEVENT
BEGIN:VEVENT
DTSTART;TZID=America/Chicago:20251218T100000
DTEND;TZID=America/Chicago:20251218T150000
DTSTAMP:20260422T174811
CREATED:20250319T145607Z
LAST-MODIFIED:20250319T145607Z
UID:23294-1766052000-1766070000@hgms.org
SUMMARY:Open Shop - Thursday
DESCRIPTION:Shop available for HGMS Member Use Only – additional shop usage fees apply.
URL:https://hgms.org/event/open-shop-thursday/2025-12-18/
LOCATION:HGMS Clubhouse\, 10805 Brooklet Dr.\, Houston\, TX\, 77099\, United States
CATEGORIES:Open Shop
END:VEVENT
BEGIN:VEVENT
DTSTART;TZID=America/Chicago:20251217T100000
DTEND;TZID=America/Chicago:20251217T200000
DTSTAMP:20260422T174811
CREATED:20250319T145714Z
LAST-MODIFIED:20250319T150148Z
UID:22874-1765965600-1766001600@hgms.org
SUMMARY:Open Shop - Wednesday
DESCRIPTION:Shop available for HGMS Member Use Only – additional shop usage fees apply.
URL:https://hgms.org/event/open-shop-wednesday/2025-12-17/
LOCATION:HGMS Clubhouse\, 10805 Brooklet Dr.\, Houston\, TX\, 77099\, United States
CATEGORIES:Open Shop
END:VEVENT
BEGIN:VEVENT
DTSTART;TZID=America/Chicago:20251216T193000
DTEND;TZID=America/Chicago:20251216T210000
DTSTAMP:20260422T174811
CREATED:20211224T193622Z
LAST-MODIFIED:20211224T193622Z
UID:17705-1765913400-1765918800@hgms.org
SUMMARY:Paleo Section
DESCRIPTION:See the HGMS Events page for monthly topics and additional details.
URL:https://hgms.org/event/paleo-section/2025-12-16/
LOCATION:HGMS Clubhouse\, 10805 Brooklet Dr.\, Houston\, TX\, 77099\, United States
CATEGORIES:Meetings
END:VEVENT
BEGIN:VEVENT
DTSTART;TZID=America/Chicago:20251215T153000
DTEND;TZID=America/Chicago:20251215T193000
DTSTAMP:20260422T174811
CREATED:20251129T193245Z
LAST-MODIFIED:20251129T193245Z
UID:25921-1765812600-1765827000@hgms.org
SUMMARY:Beginning Wire-wrapped Pendant (Dec 15\, 2025)
DESCRIPTION:Instructor: Susan Burch (25 years of Wire-Wrapping)\nLocation: HGMS Clubhouse – Small Classroom\nCost: $52.00 + $5.00\, if tool rental is needed\nDates: Saturday\, December 13th from 10:00 AM to 3:00 PM  or\nMonday\, December 15th from 3:30 PM to 7:30 PM \nTOOLS AND SUPPLIES TO BRING: (or rent tools @ $5.00/student) \n\nChain-nose pliers\nFlat-nose pliers\nRound-nose pliers\nFlush wire cutter\n6” or 12” ruler\nFile\nPolishing cloth\nPen and paper (for notes and designing)\n*Magnifying lenses (Suggested if you have difficulty seeing small things)\n\nMATERIALS PROVIDED: (Included in cost) \n\nSmall polishing cloth (provided)\n18 X 25 mm stone (provided\, or you can bring your own)\n22 ga. square copper wire. (provided)\n20 ga. 1/2 round copper wire. (provided)\n1/2” masking tape (provided)\n\nNOTE: *Wires and stones are small\, if finger dexterity or eyesight cause you difficulty\, please take that into\naccount when booking your spot. Tool Rental\, if needed is $5.00/student.
URL:https://hgms.org/event/beginning-wire-wrapped-pendant-dec-15-2025/
LOCATION:HGMS Clubhouse\, 10805 Brooklet Dr.\, Houston\, TX\, 77099\, United States
CATEGORIES:Classes
ATTACH;FMTTYPE=image/jpeg:https://hgms.org/wp-content/uploads/2025/07/beg-wire-wrap-susan-burch.jpg
ORGANIZER;CN="HGMS Education":MAILTO:classes@hgms.org
END:VEVENT
BEGIN:VEVENT
DTSTART;TZID=America/Chicago:20251214T110000
DTEND;TZID=America/Chicago:20251214T160000
DTSTAMP:20260422T174811
CREATED:20250319T145402Z
LAST-MODIFIED:20250319T145402Z
UID:22999-1765710000-1765728000@hgms.org
SUMMARY:Open Shop - Sundays
DESCRIPTION:Shop available for HGMS Member Use Only – additional shop usage fees apply.
URL:https://hgms.org/event/open-shop-sundays/2025-12-14/
LOCATION:HGMS Clubhouse\, 10805 Brooklet Dr.\, Houston\, TX\, 77099\, United States
CATEGORIES:Open Shop
END:VEVENT
BEGIN:VEVENT
DTSTART;TZID=America/Chicago:20251213T100000
DTEND;TZID=America/Chicago:20251213T150000
DTSTAMP:20260422T174811
CREATED:20251129T192738Z
LAST-MODIFIED:20251129T193002Z
UID:25917-1765620000-1765638000@hgms.org
SUMMARY:Beginning Wire-wrapped Pendant (Dec 13\, 2025)
DESCRIPTION:Instructor: Susan Burch (25 years of Wire-Wrapping)\nLocation: HGMS Clubhouse – Small Classroom\nCost: $52.00 + $5.00\, if tool rental is needed\nDates: Saturday\, December 13th from 10:00 AM to 3:00 PM  or\nMonday\, December 15th from 3:30 PM to 7:30 PM \nTOOLS AND SUPPLIES TO BRING: (or rent tools @ $5.00/student) \n\nChain-nose pliers\nFlat-nose pliers\nRound-nose pliers\nFlush wire cutter\n6” or 12” ruler\nFile\nPolishing cloth\nPen and paper (for notes and designing)\n*Magnifying lenses (Suggested if you have difficulty seeing small things)\n\nMATERIALS PROVIDED: (Included in cost) \n\nSmall polishing cloth (provided)\n18 X 25 mm stone (provided\, or you can bring your own)\n22 ga. square copper wire. (provided)\n20 ga. 1/2 round copper wire. (provided)\n1/2” masking tape (provided)\n\nNOTE: *Wires and stones are small\, if finger dexterity or eyesight cause you difficulty\, please take that into\naccount when booking your spot. Tool Rental\, if needed is $5.00/student.
URL:https://hgms.org/event/beginning-wire-wrapped-pendant-dec-13-2025/
LOCATION:HGMS Clubhouse\, 10805 Brooklet Dr.\, Houston\, TX\, 77099\, United States
CATEGORIES:Classes
ATTACH;FMTTYPE=image/jpeg:https://hgms.org/wp-content/uploads/2025/07/beg-wire-wrap-susan-burch.jpg
ORGANIZER;CN="HGMS Education":MAILTO:classes@hgms.org
END:VEVENT
BEGIN:VEVENT
DTSTART;TZID=America/Chicago:20251213T100000
DTEND;TZID=America/Chicago:20251213T150000
DTSTAMP:20260422T174811
CREATED:20250319T145518Z
LAST-MODIFIED:20250319T145518Z
UID:23070-1765620000-1765638000@hgms.org
SUMMARY:Open Shop - Saturdays
DESCRIPTION:Shop available for HGMS Member Use Only – additional shop usage fees apply.
URL:https://hgms.org/event/open-shop-saturdays/2025-12-13/
LOCATION:HGMS Clubhouse\, 10805 Brooklet Dr.\, Houston\, TX\, 77099\, United States
CATEGORIES:Open Shop
END:VEVENT
BEGIN:VEVENT
DTSTART;TZID=America/Chicago:20251211T100000
DTEND;TZID=America/Chicago:20251211T150000
DTSTAMP:20260422T174811
CREATED:20250319T145607Z
LAST-MODIFIED:20250319T145607Z
UID:23292-1765447200-1765465200@hgms.org
SUMMARY:Open Shop - Thursday
DESCRIPTION:Shop available for HGMS Member Use Only – additional shop usage fees apply.
URL:https://hgms.org/event/open-shop-thursday/2025-12-11/
LOCATION:HGMS Clubhouse\, 10805 Brooklet Dr.\, Houston\, TX\, 77099\, United States
CATEGORIES:Open Shop
END:VEVENT
BEGIN:VEVENT
DTSTART;TZID=America/Chicago:20251210T100000
DTEND;TZID=America/Chicago:20251210T200000
DTSTAMP:20260422T174811
CREATED:20250319T145714Z
LAST-MODIFIED:20250319T150148Z
UID:22873-1765360800-1765396800@hgms.org
SUMMARY:Open Shop - Wednesday
DESCRIPTION:Shop available for HGMS Member Use Only – additional shop usage fees apply.
URL:https://hgms.org/event/open-shop-wednesday/2025-12-10/
LOCATION:HGMS Clubhouse\, 10805 Brooklet Dr.\, Houston\, TX\, 77099\, United States
CATEGORIES:Open Shop
END:VEVENT
BEGIN:VEVENT
DTSTART;TZID=America/Chicago:20251207T110000
DTEND;TZID=America/Chicago:20251207T160000
DTSTAMP:20260422T174811
CREATED:20250319T145402Z
LAST-MODIFIED:20250319T145402Z
UID:22998-1765105200-1765123200@hgms.org
SUMMARY:Open Shop - Sundays
DESCRIPTION:Shop available for HGMS Member Use Only – additional shop usage fees apply.
URL:https://hgms.org/event/open-shop-sundays/2025-12-07/
LOCATION:HGMS Clubhouse\, 10805 Brooklet Dr.\, Houston\, TX\, 77099\, United States
CATEGORIES:Open Shop
END:VEVENT
BEGIN:VEVENT
DTSTART;TZID=America/Chicago:20251206T100000
DTEND;TZID=America/Chicago:20251206T150000
DTSTAMP:20260422T174811
CREATED:20250319T145518Z
LAST-MODIFIED:20250319T145518Z
UID:23067-1765015200-1765033200@hgms.org
SUMMARY:Open Shop - Saturdays
DESCRIPTION:Shop available for HGMS Member Use Only – additional shop usage fees apply.
URL:https://hgms.org/event/open-shop-saturdays/2025-12-06/
LOCATION:HGMS Clubhouse\, 10805 Brooklet Dr.\, Houston\, TX\, 77099\, United States
CATEGORIES:Open Shop
END:VEVENT
BEGIN:VEVENT
DTSTART;TZID=America/Chicago:20251206T100000
DTEND;TZID=America/Chicago:20251206T120000
DTSTAMP:20260422T174811
CREATED:20211224T185132Z
LAST-MODIFIED:20211224T185132Z
UID:17672-1765015200-1765022400@hgms.org
SUMMARY:Youth Section
DESCRIPTION:Participants must be minimum age 5 to attend meetings and be accompanied by a parent or guardian at all times when at the clubhouse. Particpants must be active HGMS Youth Members or included in an active HGMS Family membership. \nMasks REQUIRED for all participants and observers. \nSee HGMS Events for additional program details.
URL:https://hgms.org/event/youth-section-9-2022-02-05/2025-12-06/
LOCATION:HGMS Clubhouse\, 10805 Brooklet Dr.\, Houston\, TX\, 77099\, United States
CATEGORIES:Meetings
END:VEVENT
BEGIN:VEVENT
DTSTART;TZID=America/Chicago:20251204T100000
DTEND;TZID=America/Chicago:20251204T150000
DTSTAMP:20260422T174811
CREATED:20250319T145607Z
LAST-MODIFIED:20250319T145607Z
UID:23291-1764842400-1764860400@hgms.org
SUMMARY:Open Shop - Thursday
DESCRIPTION:Shop available for HGMS Member Use Only – additional shop usage fees apply.
URL:https://hgms.org/event/open-shop-thursday/2025-12-04/
LOCATION:HGMS Clubhouse\, 10805 Brooklet Dr.\, Houston\, TX\, 77099\, United States
CATEGORIES:Open Shop
END:VEVENT
BEGIN:VEVENT
DTSTART;TZID=America/Chicago:20251203T120000
DTEND;TZID=America/Chicago:20251203T150000
DTSTAMP:20260422T174811
CREATED:20211224T193453Z
LAST-MODIFIED:20250923T020420Z
UID:23829-1764763200-1764774000@hgms.org
SUMMARY:Day Light Section
DESCRIPTION:See the HGMS Events page for monthly topics and additional details.
URL:https://hgms.org/event/day-light-section/2025-12-03/
LOCATION:HGMS Clubhouse\, 10805 Brooklet Dr.\, Houston\, TX\, 77099\, United States
CATEGORIES:Meetings
END:VEVENT
BEGIN:VEVENT
DTSTART;TZID=America/Chicago:20251203T100000
DTEND;TZID=America/Chicago:20251203T200000
DTSTAMP:20260422T174811
CREATED:20250319T145714Z
LAST-MODIFIED:20250319T150148Z
UID:22872-1764756000-1764792000@hgms.org
SUMMARY:Open Shop - Wednesday
DESCRIPTION:Shop available for HGMS Member Use Only – additional shop usage fees apply.
URL:https://hgms.org/event/open-shop-wednesday/2025-12-03/
LOCATION:HGMS Clubhouse\, 10805 Brooklet Dr.\, Houston\, TX\, 77099\, United States
CATEGORIES:Open Shop
END:VEVENT
BEGIN:VEVENT
DTSTART;TZID=America/Chicago:20251130T110000
DTEND;TZID=America/Chicago:20251130T160000
DTSTAMP:20260422T174811
CREATED:20250319T145402Z
LAST-MODIFIED:20250319T145402Z
UID:22997-1764500400-1764518400@hgms.org
SUMMARY:Open Shop - Sundays
DESCRIPTION:Shop available for HGMS Member Use Only – additional shop usage fees apply.
URL:https://hgms.org/event/open-shop-sundays/2025-11-30/
LOCATION:HGMS Clubhouse\, 10805 Brooklet Dr.\, Houston\, TX\, 77099\, United States
CATEGORIES:Open Shop
END:VEVENT
BEGIN:VEVENT
DTSTART;TZID=America/Chicago:20251129T100000
DTEND;TZID=America/Chicago:20251129T150000
DTSTAMP:20260422T174811
CREATED:20250319T145518Z
LAST-MODIFIED:20250319T145518Z
UID:23065-1764410400-1764428400@hgms.org
SUMMARY:Open Shop - Saturdays
DESCRIPTION:Shop available for HGMS Member Use Only – additional shop usage fees apply.
URL:https://hgms.org/event/open-shop-saturdays/2025-11-29/
LOCATION:HGMS Clubhouse\, 10805 Brooklet Dr.\, Houston\, TX\, 77099\, United States
CATEGORIES:Open Shop
END:VEVENT
BEGIN:VEVENT
DTSTART;TZID=America/Chicago:20251127T100000
DTEND;TZID=America/Chicago:20251127T150000
DTSTAMP:20260422T174811
CREATED:20250319T145607Z
LAST-MODIFIED:20250319T145607Z
UID:23289-1764237600-1764255600@hgms.org
SUMMARY:Open Shop - Thursday
DESCRIPTION:Shop available for HGMS Member Use Only – additional shop usage fees apply.
URL:https://hgms.org/event/open-shop-thursday/2025-11-27/
LOCATION:HGMS Clubhouse\, 10805 Brooklet Dr.\, Houston\, TX\, 77099\, United States
CATEGORIES:Open Shop
END:VEVENT
BEGIN:VEVENT
DTSTART;TZID=America/Chicago:20251126T100000
DTEND;TZID=America/Chicago:20251126T200000
DTSTAMP:20260422T174811
CREATED:20250319T145714Z
LAST-MODIFIED:20250319T150147Z
UID:22871-1764151200-1764187200@hgms.org
SUMMARY:Open Shop - Wednesday
DESCRIPTION:Shop available for HGMS Member Use Only – additional shop usage fees apply.
URL:https://hgms.org/event/open-shop-wednesday/2025-11-26/
LOCATION:HGMS Clubhouse\, 10805 Brooklet Dr.\, Houston\, TX\, 77099\, United States
CATEGORIES:Open Shop
END:VEVENT
BEGIN:VEVENT
DTSTART;TZID=America/Chicago:20251123T110000
DTEND;TZID=America/Chicago:20251123T160000
DTSTAMP:20260422T174811
CREATED:20250319T145402Z
LAST-MODIFIED:20250319T145402Z
UID:22996-1763895600-1763913600@hgms.org
SUMMARY:Open Shop - Sundays
DESCRIPTION:Shop available for HGMS Member Use Only – additional shop usage fees apply.
URL:https://hgms.org/event/open-shop-sundays/2025-11-23/
LOCATION:HGMS Clubhouse\, 10805 Brooklet Dr.\, Houston\, TX\, 77099\, United States
CATEGORIES:Open Shop
END:VEVENT
BEGIN:VEVENT
DTSTART;TZID=America/Chicago:20251122T100000
DTEND;TZID=America/Chicago:20251122T150000
DTSTAMP:20260422T174811
CREATED:20250319T145518Z
LAST-MODIFIED:20250319T145518Z
UID:23062-1763805600-1763823600@hgms.org
SUMMARY:Open Shop - Saturdays
DESCRIPTION:Shop available for HGMS Member Use Only – additional shop usage fees apply.
URL:https://hgms.org/event/open-shop-saturdays/2025-11-22/
LOCATION:HGMS Clubhouse\, 10805 Brooklet Dr.\, Houston\, TX\, 77099\, United States
CATEGORIES:Open Shop
END:VEVENT
BEGIN:VEVENT
DTSTART;TZID=America/Chicago:20251120T100000
DTEND;TZID=America/Chicago:20251120T150000
DTSTAMP:20260422T174811
CREATED:20250319T145607Z
LAST-MODIFIED:20250319T145607Z
UID:23287-1763632800-1763650800@hgms.org
SUMMARY:Open Shop - Thursday
DESCRIPTION:Shop available for HGMS Member Use Only – additional shop usage fees apply.
URL:https://hgms.org/event/open-shop-thursday/2025-11-20/
LOCATION:HGMS Clubhouse\, 10805 Brooklet Dr.\, Houston\, TX\, 77099\, United States
CATEGORIES:Open Shop
END:VEVENT
END:VCALENDAR