BEGIN:VCALENDAR
VERSION:2.0
PRODID:-//HGMS - Houston Gem &amp; Mineral Society - ECPv6.15.18//NONSGML v1.0//EN
CALSCALE:GREGORIAN
METHOD:PUBLISH
X-ORIGINAL-URL:https://hgms.org
X-WR-CALDESC:Events for HGMS - Houston Gem &amp; Mineral Society
REFRESH-INTERVAL;VALUE=DURATION:PT1H
X-Robots-Tag:noindex
X-PUBLISHED-TTL:PT1H
BEGIN:VTIMEZONE
TZID:America/Chicago
BEGIN:DAYLIGHT
TZOFFSETFROM:-0600
TZOFFSETTO:-0500
TZNAME:CDT
DTSTART:20250309T080000
END:DAYLIGHT
BEGIN:STANDARD
TZOFFSETFROM:-0500
TZOFFSETTO:-0600
TZNAME:CST
DTSTART:20251102T070000
END:STANDARD
BEGIN:DAYLIGHT
TZOFFSETFROM:-0600
TZOFFSETTO:-0500
TZNAME:CDT
DTSTART:20260308T080000
END:DAYLIGHT
BEGIN:STANDARD
TZOFFSETFROM:-0500
TZOFFSETTO:-0600
TZNAME:CST
DTSTART:20261101T070000
END:STANDARD
BEGIN:DAYLIGHT
TZOFFSETFROM:-0600
TZOFFSETTO:-0500
TZNAME:CDT
DTSTART:20270314T080000
END:DAYLIGHT
BEGIN:STANDARD
TZOFFSETFROM:-0500
TZOFFSETTO:-0600
TZNAME:CST
DTSTART:20271107T070000
END:STANDARD
END:VTIMEZONE
BEGIN:VEVENT
DTSTART;TZID=America/Chicago:20260606T100000
DTEND;TZID=America/Chicago:20260606T150000
DTSTAMP:20260421T124940
CREATED:20250319T145518Z
LAST-MODIFIED:20250319T145518Z
UID:23136-1780740000-1780758000@hgms.org
SUMMARY:Open Shop - Saturdays
DESCRIPTION:Shop available for HGMS Member Use Only – additional shop usage fees apply.
URL:https://hgms.org/event/open-shop-saturdays/2026-06-06/
LOCATION:HGMS Clubhouse\, 10805 Brooklet Dr.\, Houston\, TX\, 77099\, United States
CATEGORIES:Open Shop
END:VEVENT
BEGIN:VEVENT
DTSTART;TZID=America/Chicago:20260607T110000
DTEND;TZID=America/Chicago:20260607T160000
DTSTAMP:20260421T124940
CREATED:20250319T145402Z
LAST-MODIFIED:20250319T145402Z
UID:23058-1780830000-1780848000@hgms.org
SUMMARY:Open Shop - Sundays
DESCRIPTION:Shop available for HGMS Member Use Only – additional shop usage fees apply.
URL:https://hgms.org/event/open-shop-sundays/2026-06-07/
LOCATION:HGMS Clubhouse\, 10805 Brooklet Dr.\, Houston\, TX\, 77099\, United States
CATEGORIES:Open Shop
END:VEVENT
BEGIN:VEVENT
DTSTART;TZID=America/Chicago:20260610T100000
DTEND;TZID=America/Chicago:20260610T200000
DTSTAMP:20260421T124940
CREATED:20250319T145714Z
LAST-MODIFIED:20250319T150155Z
UID:22899-1781085600-1781121600@hgms.org
SUMMARY:Open Shop - Wednesday
DESCRIPTION:Shop available for HGMS Member Use Only – additional shop usage fees apply.
URL:https://hgms.org/event/open-shop-wednesday/2026-06-10/
LOCATION:HGMS Clubhouse\, 10805 Brooklet Dr.\, Houston\, TX\, 77099\, United States
CATEGORIES:Open Shop
END:VEVENT
BEGIN:VEVENT
DTSTART;TZID=America/Chicago:20260611T100000
DTEND;TZID=America/Chicago:20260611T150000
DTSTAMP:20260421T124940
CREATED:20250319T145607Z
LAST-MODIFIED:20250319T145607Z
UID:23337-1781172000-1781190000@hgms.org
SUMMARY:Open Shop - Thursday
DESCRIPTION:Shop available for HGMS Member Use Only – additional shop usage fees apply.
URL:https://hgms.org/event/open-shop-thursday/2026-06-11/
LOCATION:HGMS Clubhouse\, 10805 Brooklet Dr.\, Houston\, TX\, 77099\, United States
CATEGORIES:Open Shop
END:VEVENT
BEGIN:VEVENT
DTSTART;TZID=America/Chicago:20260613T100000
DTEND;TZID=America/Chicago:20260613T130000
DTSTAMP:20260421T124940
CREATED:20211224T192957Z
LAST-MODIFIED:20211224T192957Z
UID:26328-1781344800-1781355600@hgms.org
SUMMARY:Beading Section
DESCRIPTION:See the HGMS Events page for monthly topic and additional details.
URL:https://hgms.org/event/beading-section-2-2023-10-21/2026-06-13/
LOCATION:HGMS Clubhouse\, 10805 Brooklet Dr.\, Houston\, TX\, 77099\, United States
CATEGORIES:Meetings
END:VEVENT
BEGIN:VEVENT
DTSTART;TZID=America/Chicago:20260613T100000
DTEND;TZID=America/Chicago:20260613T150000
DTSTAMP:20260421T124940
CREATED:20250319T145518Z
LAST-MODIFIED:20250319T145518Z
UID:23137-1781344800-1781362800@hgms.org
SUMMARY:Open Shop - Saturdays
DESCRIPTION:Shop available for HGMS Member Use Only – additional shop usage fees apply.
URL:https://hgms.org/event/open-shop-saturdays/2026-06-13/
LOCATION:HGMS Clubhouse\, 10805 Brooklet Dr.\, Houston\, TX\, 77099\, United States
CATEGORIES:Open Shop
END:VEVENT
BEGIN:VEVENT
DTSTART;TZID=America/Chicago:20260614T110000
DTEND;TZID=America/Chicago:20260614T160000
DTSTAMP:20260421T124940
CREATED:20250319T145402Z
LAST-MODIFIED:20250319T145402Z
UID:23061-1781434800-1781452800@hgms.org
SUMMARY:Open Shop - Sundays
DESCRIPTION:Shop available for HGMS Member Use Only – additional shop usage fees apply.
URL:https://hgms.org/event/open-shop-sundays/2026-06-14/
LOCATION:HGMS Clubhouse\, 10805 Brooklet Dr.\, Houston\, TX\, 77099\, United States
CATEGORIES:Open Shop
END:VEVENT
BEGIN:VEVENT
DTSTART;TZID=America/Chicago:20260616T193000
DTEND;TZID=America/Chicago:20260616T210000
DTSTAMP:20260421T124940
CREATED:20211224T193622Z
LAST-MODIFIED:20211224T193622Z
UID:19376-1781638200-1781643600@hgms.org
SUMMARY:Paleo Section
DESCRIPTION:See the HGMS Events page for monthly topics and additional details.
URL:https://hgms.org/event/paleo-section/2026-06-16/
LOCATION:HGMS Clubhouse\, 10805 Brooklet Dr.\, Houston\, TX\, 77099\, United States
CATEGORIES:Meetings
END:VEVENT
BEGIN:VEVENT
DTSTART;TZID=America/Chicago:20260617T100000
DTEND;TZID=America/Chicago:20260617T200000
DTSTAMP:20260421T124940
CREATED:20250319T145714Z
LAST-MODIFIED:20250319T150155Z
UID:22900-1781690400-1781726400@hgms.org
SUMMARY:Open Shop - Wednesday
DESCRIPTION:Shop available for HGMS Member Use Only – additional shop usage fees apply.
URL:https://hgms.org/event/open-shop-wednesday/2026-06-17/
LOCATION:HGMS Clubhouse\, 10805 Brooklet Dr.\, Houston\, TX\, 77099\, United States
CATEGORIES:Open Shop
END:VEVENT
BEGIN:VEVENT
DTSTART;TZID=America/Chicago:20260618T100000
DTEND;TZID=America/Chicago:20260618T150000
DTSTAMP:20260421T124940
CREATED:20250319T145607Z
LAST-MODIFIED:20250319T145607Z
UID:23338-1781776800-1781794800@hgms.org
SUMMARY:Open Shop - Thursday
DESCRIPTION:Shop available for HGMS Member Use Only – additional shop usage fees apply.
URL:https://hgms.org/event/open-shop-thursday/2026-06-18/
LOCATION:HGMS Clubhouse\, 10805 Brooklet Dr.\, Houston\, TX\, 77099\, United States
CATEGORIES:Open Shop
END:VEVENT
BEGIN:VEVENT
DTSTART;TZID=America/Chicago:20260620T100000
DTEND;TZID=America/Chicago:20260620T150000
DTSTAMP:20260421T124940
CREATED:20250319T145518Z
LAST-MODIFIED:20250319T145518Z
UID:23141-1781949600-1781967600@hgms.org
SUMMARY:Open Shop - Saturdays
DESCRIPTION:Shop available for HGMS Member Use Only – additional shop usage fees apply.
URL:https://hgms.org/event/open-shop-saturdays/2026-06-20/
LOCATION:HGMS Clubhouse\, 10805 Brooklet Dr.\, Houston\, TX\, 77099\, United States
CATEGORIES:Open Shop
END:VEVENT
BEGIN:VEVENT
DTSTART;TZID=America/Chicago:20260621T110000
DTEND;TZID=America/Chicago:20260621T160000
DTSTAMP:20260421T124941
CREATED:20250319T145402Z
LAST-MODIFIED:20250319T145402Z
UID:23063-1782039600-1782057600@hgms.org
SUMMARY:Open Shop - Sundays
DESCRIPTION:Shop available for HGMS Member Use Only – additional shop usage fees apply.
URL:https://hgms.org/event/open-shop-sundays/2026-06-21/
LOCATION:HGMS Clubhouse\, 10805 Brooklet Dr.\, Houston\, TX\, 77099\, United States
CATEGORIES:Open Shop
END:VEVENT
BEGIN:VEVENT
DTSTART;TZID=America/Chicago:20260624T100000
DTEND;TZID=America/Chicago:20260624T200000
DTSTAMP:20260421T124941
CREATED:20250319T145714Z
LAST-MODIFIED:20250319T150155Z
UID:22901-1782295200-1782331200@hgms.org
SUMMARY:Open Shop - Wednesday
DESCRIPTION:Shop available for HGMS Member Use Only – additional shop usage fees apply.
URL:https://hgms.org/event/open-shop-wednesday/2026-06-24/
LOCATION:HGMS Clubhouse\, 10805 Brooklet Dr.\, Houston\, TX\, 77099\, United States
CATEGORIES:Open Shop
END:VEVENT
BEGIN:VEVENT
DTSTART;TZID=America/Chicago:20260625T100000
DTEND;TZID=America/Chicago:20260625T150000
DTSTAMP:20260421T124941
CREATED:20250319T145607Z
LAST-MODIFIED:20250319T145607Z
UID:23339-1782381600-1782399600@hgms.org
SUMMARY:Open Shop - Thursday
DESCRIPTION:Shop available for HGMS Member Use Only – additional shop usage fees apply.
URL:https://hgms.org/event/open-shop-thursday/2026-06-25/
LOCATION:HGMS Clubhouse\, 10805 Brooklet Dr.\, Houston\, TX\, 77099\, United States
CATEGORIES:Open Shop
END:VEVENT
BEGIN:VEVENT
DTSTART;TZID=America/Chicago:20260627T100000
DTEND;TZID=America/Chicago:20260627T150000
DTSTAMP:20260421T124941
CREATED:20250319T145518Z
LAST-MODIFIED:20250319T145518Z
UID:23144-1782554400-1782572400@hgms.org
SUMMARY:Open Shop - Saturdays
DESCRIPTION:Shop available for HGMS Member Use Only – additional shop usage fees apply.
URL:https://hgms.org/event/open-shop-saturdays/2026-06-27/
LOCATION:HGMS Clubhouse\, 10805 Brooklet Dr.\, Houston\, TX\, 77099\, United States
CATEGORIES:Open Shop
END:VEVENT
BEGIN:VEVENT
DTSTART;TZID=America/Chicago:20260628T110000
DTEND;TZID=America/Chicago:20260628T160000
DTSTAMP:20260421T124941
CREATED:20250319T145402Z
LAST-MODIFIED:20250319T145402Z
UID:23066-1782644400-1782662400@hgms.org
SUMMARY:Open Shop - Sundays
DESCRIPTION:Shop available for HGMS Member Use Only – additional shop usage fees apply.
URL:https://hgms.org/event/open-shop-sundays/2026-06-28/
LOCATION:HGMS Clubhouse\, 10805 Brooklet Dr.\, Houston\, TX\, 77099\, United States
CATEGORIES:Open Shop
END:VEVENT
BEGIN:VEVENT
DTSTART;TZID=America/Chicago:20260701T100000
DTEND;TZID=America/Chicago:20260701T200000
DTSTAMP:20260421T124941
CREATED:20250319T145714Z
LAST-MODIFIED:20250319T150155Z
UID:22902-1782900000-1782936000@hgms.org
SUMMARY:Open Shop - Wednesday
DESCRIPTION:Shop available for HGMS Member Use Only – additional shop usage fees apply.
URL:https://hgms.org/event/open-shop-wednesday/2026-07-01/
LOCATION:HGMS Clubhouse\, 10805 Brooklet Dr.\, Houston\, TX\, 77099\, United States
CATEGORIES:Open Shop
END:VEVENT
BEGIN:VEVENT
DTSTART;TZID=America/Chicago:20260701T120000
DTEND;TZID=America/Chicago:20260701T150000
DTSTAMP:20260421T124941
CREATED:20211224T193453Z
LAST-MODIFIED:20250923T020422Z
UID:23836-1782907200-1782918000@hgms.org
SUMMARY:Day Light Section
DESCRIPTION:See the HGMS Events page for monthly topics and additional details.
URL:https://hgms.org/event/day-light-section/2026-07-01/
LOCATION:HGMS Clubhouse\, 10805 Brooklet Dr.\, Houston\, TX\, 77099\, United States
CATEGORIES:Meetings
END:VEVENT
BEGIN:VEVENT
DTSTART;TZID=America/Chicago:20260702T100000
DTEND;TZID=America/Chicago:20260702T150000
DTSTAMP:20260421T124941
CREATED:20250319T145607Z
LAST-MODIFIED:20250319T145607Z
UID:23340-1782986400-1783004400@hgms.org
SUMMARY:Open Shop - Thursday
DESCRIPTION:Shop available for HGMS Member Use Only – additional shop usage fees apply.
URL:https://hgms.org/event/open-shop-thursday/2026-07-02/
LOCATION:HGMS Clubhouse\, 10805 Brooklet Dr.\, Houston\, TX\, 77099\, United States
CATEGORIES:Open Shop
END:VEVENT
BEGIN:VEVENT
DTSTART;TZID=America/Chicago:20260704T100000
DTEND;TZID=America/Chicago:20260704T120000
DTSTAMP:20260421T124941
CREATED:20211224T185132Z
LAST-MODIFIED:20211224T185132Z
UID:19502-1783159200-1783166400@hgms.org
SUMMARY:Youth Section
DESCRIPTION:Participants must be minimum age 5 to attend meetings and be accompanied by a parent or guardian at all times when at the clubhouse. Particpants must be active HGMS Youth Members or included in an active HGMS Family membership. \nMasks REQUIRED for all participants and observers. \nSee HGMS Events for additional program details.
URL:https://hgms.org/event/youth-section-9-2022-02-05/2026-07-04/
LOCATION:HGMS Clubhouse\, 10805 Brooklet Dr.\, Houston\, TX\, 77099\, United States
CATEGORIES:Meetings
END:VEVENT
BEGIN:VEVENT
DTSTART;TZID=America/Chicago:20260704T100000
DTEND;TZID=America/Chicago:20260704T150000
DTSTAMP:20260421T124941
CREATED:20250319T145518Z
LAST-MODIFIED:20250319T145518Z
UID:23146-1783159200-1783177200@hgms.org
SUMMARY:Open Shop - Saturdays
DESCRIPTION:Shop available for HGMS Member Use Only – additional shop usage fees apply.
URL:https://hgms.org/event/open-shop-saturdays/2026-07-04/
LOCATION:HGMS Clubhouse\, 10805 Brooklet Dr.\, Houston\, TX\, 77099\, United States
CATEGORIES:Open Shop
END:VEVENT
BEGIN:VEVENT
DTSTART;TZID=America/Chicago:20260705T110000
DTEND;TZID=America/Chicago:20260705T160000
DTSTAMP:20260421T124941
CREATED:20250319T145402Z
LAST-MODIFIED:20250319T145402Z
UID:23069-1783249200-1783267200@hgms.org
SUMMARY:Open Shop - Sundays
DESCRIPTION:Shop available for HGMS Member Use Only – additional shop usage fees apply.
URL:https://hgms.org/event/open-shop-sundays/2026-07-05/
LOCATION:HGMS Clubhouse\, 10805 Brooklet Dr.\, Houston\, TX\, 77099\, United States
CATEGORIES:Open Shop
END:VEVENT
BEGIN:VEVENT
DTSTART;TZID=America/Chicago:20260708T100000
DTEND;TZID=America/Chicago:20260708T200000
DTSTAMP:20260421T124941
CREATED:20250319T145714Z
LAST-MODIFIED:20250319T150155Z
UID:22903-1783504800-1783540800@hgms.org
SUMMARY:Open Shop - Wednesday
DESCRIPTION:Shop available for HGMS Member Use Only – additional shop usage fees apply.
URL:https://hgms.org/event/open-shop-wednesday/2026-07-08/
LOCATION:HGMS Clubhouse\, 10805 Brooklet Dr.\, Houston\, TX\, 77099\, United States
CATEGORIES:Open Shop
END:VEVENT
BEGIN:VEVENT
DTSTART;TZID=America/Chicago:20260709T100000
DTEND;TZID=America/Chicago:20260709T150000
DTSTAMP:20260421T124941
CREATED:20250319T145607Z
LAST-MODIFIED:20250319T145607Z
UID:23341-1783591200-1783609200@hgms.org
SUMMARY:Open Shop - Thursday
DESCRIPTION:Shop available for HGMS Member Use Only – additional shop usage fees apply.
URL:https://hgms.org/event/open-shop-thursday/2026-07-09/
LOCATION:HGMS Clubhouse\, 10805 Brooklet Dr.\, Houston\, TX\, 77099\, United States
CATEGORIES:Open Shop
END:VEVENT
BEGIN:VEVENT
DTSTART;TZID=America/Chicago:20260711T100000
DTEND;TZID=America/Chicago:20260711T130000
DTSTAMP:20260421T124941
CREATED:20211224T192957Z
LAST-MODIFIED:20211224T192957Z
UID:26329-1783764000-1783774800@hgms.org
SUMMARY:Beading Section
DESCRIPTION:See the HGMS Events page for monthly topic and additional details.
URL:https://hgms.org/event/beading-section-2-2023-10-21/2026-07-11/
LOCATION:HGMS Clubhouse\, 10805 Brooklet Dr.\, Houston\, TX\, 77099\, United States
CATEGORIES:Meetings
END:VEVENT
BEGIN:VEVENT
DTSTART;TZID=America/Chicago:20260711T100000
DTEND;TZID=America/Chicago:20260711T150000
DTSTAMP:20260421T124941
CREATED:20250319T145518Z
LAST-MODIFIED:20250319T145518Z
UID:23149-1783764000-1783782000@hgms.org
SUMMARY:Open Shop - Saturdays
DESCRIPTION:Shop available for HGMS Member Use Only – additional shop usage fees apply.
URL:https://hgms.org/event/open-shop-saturdays/2026-07-11/
LOCATION:HGMS Clubhouse\, 10805 Brooklet Dr.\, Houston\, TX\, 77099\, United States
CATEGORIES:Open Shop
END:VEVENT
BEGIN:VEVENT
DTSTART;TZID=America/Chicago:20260712T110000
DTEND;TZID=America/Chicago:20260712T160000
DTSTAMP:20260421T124941
CREATED:20250319T145402Z
LAST-MODIFIED:20250319T145402Z
UID:23071-1783854000-1783872000@hgms.org
SUMMARY:Open Shop - Sundays
DESCRIPTION:Shop available for HGMS Member Use Only – additional shop usage fees apply.
URL:https://hgms.org/event/open-shop-sundays/2026-07-12/
LOCATION:HGMS Clubhouse\, 10805 Brooklet Dr.\, Houston\, TX\, 77099\, United States
CATEGORIES:Open Shop
END:VEVENT
BEGIN:VEVENT
DTSTART;TZID=America/Chicago:20260715T100000
DTEND;TZID=America/Chicago:20260715T200000
DTSTAMP:20260421T124941
CREATED:20250319T145714Z
LAST-MODIFIED:20250319T150156Z
UID:22904-1784109600-1784145600@hgms.org
SUMMARY:Open Shop - Wednesday
DESCRIPTION:Shop available for HGMS Member Use Only – additional shop usage fees apply.
URL:https://hgms.org/event/open-shop-wednesday/2026-07-15/
LOCATION:HGMS Clubhouse\, 10805 Brooklet Dr.\, Houston\, TX\, 77099\, United States
CATEGORIES:Open Shop
END:VEVENT
BEGIN:VEVENT
DTSTART;TZID=America/Chicago:20260716T100000
DTEND;TZID=America/Chicago:20260716T150000
DTSTAMP:20260421T124941
CREATED:20250319T145607Z
LAST-MODIFIED:20250319T145607Z
UID:23342-1784196000-1784214000@hgms.org
SUMMARY:Open Shop - Thursday
DESCRIPTION:Shop available for HGMS Member Use Only – additional shop usage fees apply.
URL:https://hgms.org/event/open-shop-thursday/2026-07-16/
LOCATION:HGMS Clubhouse\, 10805 Brooklet Dr.\, Houston\, TX\, 77099\, United States
CATEGORIES:Open Shop
END:VEVENT
BEGIN:VEVENT
DTSTART;TZID=America/Chicago:20260718T100000
DTEND;TZID=America/Chicago:20260718T150000
DTSTAMP:20260421T124941
CREATED:20250319T145518Z
LAST-MODIFIED:20250319T145518Z
UID:23152-1784368800-1784386800@hgms.org
SUMMARY:Open Shop - Saturdays
DESCRIPTION:Shop available for HGMS Member Use Only – additional shop usage fees apply.
URL:https://hgms.org/event/open-shop-saturdays/2026-07-18/
LOCATION:HGMS Clubhouse\, 10805 Brooklet Dr.\, Houston\, TX\, 77099\, United States
CATEGORIES:Open Shop
END:VEVENT
END:VCALENDAR