BEGIN:VCALENDAR
VERSION:2.0
PRODID:-//HGMS - Houston Gem &amp; Mineral Society - ECPv6.15.20//NONSGML v1.0//EN
CALSCALE:GREGORIAN
METHOD:PUBLISH
X-WR-CALNAME:HGMS - Houston Gem &amp; Mineral Society
X-ORIGINAL-URL:https://hgms.org
X-WR-CALDESC:Events for HGMS - Houston Gem &amp; Mineral Society
REFRESH-INTERVAL;VALUE=DURATION:PT1H
X-Robots-Tag:noindex
X-PUBLISHED-TTL:PT1H
BEGIN:VTIMEZONE
TZID:America/Chicago
BEGIN:DAYLIGHT
TZOFFSETFROM:-0600
TZOFFSETTO:-0500
TZNAME:CDT
DTSTART:20260308T080000
END:DAYLIGHT
BEGIN:STANDARD
TZOFFSETFROM:-0500
TZOFFSETTO:-0600
TZNAME:CST
DTSTART:20261101T070000
END:STANDARD
BEGIN:DAYLIGHT
TZOFFSETFROM:-0600
TZOFFSETTO:-0500
TZNAME:CDT
DTSTART:20270314T080000
END:DAYLIGHT
BEGIN:STANDARD
TZOFFSETFROM:-0500
TZOFFSETTO:-0600
TZNAME:CST
DTSTART:20271107T070000
END:STANDARD
BEGIN:DAYLIGHT
TZOFFSETFROM:-0600
TZOFFSETTO:-0500
TZNAME:CDT
DTSTART:20280312T080000
END:DAYLIGHT
BEGIN:STANDARD
TZOFFSETFROM:-0500
TZOFFSETTO:-0600
TZNAME:CST
DTSTART:20281105T070000
END:STANDARD
END:VTIMEZONE
BEGIN:VEVENT
DTSTART;TZID=America/Chicago:20270929T100000
DTEND;TZID=America/Chicago:20270929T200000
DTSTAMP:20260425T231146
CREATED:20250319T145714Z
LAST-MODIFIED:20250319T145714Z
UID:24608-1822212000-1822248000@hgms.org
SUMMARY:Open Shop - Wednesday
DESCRIPTION:Shop available for HGMS Member Use Only – additional shop usage fees apply.
URL:https://hgms.org/event/open-shop-wednesday/2027-09-29/
LOCATION:HGMS Clubhouse\, 10805 Brooklet Dr.\, Houston\, TX\, 77099\, United States
CATEGORIES:Open Shop
END:VEVENT
BEGIN:VEVENT
DTSTART;TZID=America/Chicago:20270930T100000
DTEND;TZID=America/Chicago:20270930T150000
DTSTAMP:20260425T231146
CREATED:20250319T145607Z
LAST-MODIFIED:20250319T145607Z
UID:24634-1822298400-1822316400@hgms.org
SUMMARY:Open Shop - Thursday
DESCRIPTION:Shop available for HGMS Member Use Only – additional shop usage fees apply.
URL:https://hgms.org/event/open-shop-thursday/2027-09-30/
LOCATION:HGMS Clubhouse\, 10805 Brooklet Dr.\, Houston\, TX\, 77099\, United States
CATEGORIES:Open Shop
END:VEVENT
BEGIN:VEVENT
DTSTART;TZID=America/Chicago:20271002T100000
DTEND;TZID=America/Chicago:20271002T120000
DTSTAMP:20260425T231146
CREATED:20211224T185132Z
LAST-MODIFIED:20211224T185132Z
UID:24672-1822471200-1822478400@hgms.org
SUMMARY:Youth Section
DESCRIPTION:Participants must be minimum age 5 to attend meetings and be accompanied by a parent or guardian at all times when at the clubhouse. Particpants must be active HGMS Youth Members or included in an active HGMS Family membership. \nMasks REQUIRED for all participants and observers. \nSee HGMS Events for additional program details.
URL:https://hgms.org/event/youth-section-9-2022-02-05/2027-10-02/
LOCATION:HGMS Clubhouse\, 10805 Brooklet Dr.\, Houston\, TX\, 77099\, United States
CATEGORIES:Meetings
END:VEVENT
BEGIN:VEVENT
DTSTART;TZID=America/Chicago:20271002T100000
DTEND;TZID=America/Chicago:20271002T150000
DTSTAMP:20260425T231146
CREATED:20250319T145518Z
LAST-MODIFIED:20250319T145518Z
UID:24673-1822471200-1822489200@hgms.org
SUMMARY:Open Shop - Saturdays
DESCRIPTION:Shop available for HGMS Member Use Only – additional shop usage fees apply.
URL:https://hgms.org/event/open-shop-saturdays/2027-10-02/
LOCATION:HGMS Clubhouse\, 10805 Brooklet Dr.\, Houston\, TX\, 77099\, United States
CATEGORIES:Open Shop
END:VEVENT
BEGIN:VEVENT
DTSTART;TZID=America/Chicago:20271003T110000
DTEND;TZID=America/Chicago:20271003T160000
DTSTAMP:20260425T231146
CREATED:20250319T145402Z
LAST-MODIFIED:20250319T145402Z
UID:24674-1822561200-1822579200@hgms.org
SUMMARY:Open Shop - Sundays
DESCRIPTION:Shop available for HGMS Member Use Only – additional shop usage fees apply.
URL:https://hgms.org/event/open-shop-sundays/2027-10-03/
LOCATION:HGMS Clubhouse\, 10805 Brooklet Dr.\, Houston\, TX\, 77099\, United States
CATEGORIES:Open Shop
END:VEVENT
BEGIN:VEVENT
DTSTART;TZID=America/Chicago:20271006T100000
DTEND;TZID=America/Chicago:20271006T200000
DTSTAMP:20260425T231146
CREATED:20250319T145714Z
LAST-MODIFIED:20250319T145714Z
UID:24701-1822816800-1822852800@hgms.org
SUMMARY:Open Shop - Wednesday
DESCRIPTION:Shop available for HGMS Member Use Only – additional shop usage fees apply.
URL:https://hgms.org/event/open-shop-wednesday/2027-10-06/
LOCATION:HGMS Clubhouse\, 10805 Brooklet Dr.\, Houston\, TX\, 77099\, United States
CATEGORIES:Open Shop
END:VEVENT
BEGIN:VEVENT
DTSTART;TZID=America/Chicago:20271006T120000
DTEND;TZID=America/Chicago:20271006T150000
DTSTAMP:20260425T231146
CREATED:20211224T193453Z
LAST-MODIFIED:20211224T193453Z
UID:24700-1822824000-1822834800@hgms.org
SUMMARY:Day Light Section
DESCRIPTION:See the HGMS Events page for monthly topics and additional details.
URL:https://hgms.org/event/day-light-section/2027-10-06/
LOCATION:HGMS Clubhouse\, 10805 Brooklet Dr.\, Houston\, TX\, 77099\, United States
CATEGORIES:Meetings
END:VEVENT
BEGIN:VEVENT
DTSTART;TZID=America/Chicago:20271007T100000
DTEND;TZID=America/Chicago:20271007T150000
DTSTAMP:20260425T231146
CREATED:20250319T145607Z
LAST-MODIFIED:20250319T145607Z
UID:24705-1822903200-1822921200@hgms.org
SUMMARY:Open Shop - Thursday
DESCRIPTION:Shop available for HGMS Member Use Only – additional shop usage fees apply.
URL:https://hgms.org/event/open-shop-thursday/2027-10-07/
LOCATION:HGMS Clubhouse\, 10805 Brooklet Dr.\, Houston\, TX\, 77099\, United States
CATEGORIES:Open Shop
END:VEVENT
BEGIN:VEVENT
DTSTART;TZID=America/Chicago:20271009T100000
DTEND;TZID=America/Chicago:20271009T130000
DTSTAMP:20260425T231146
CREATED:20211224T192957Z
LAST-MODIFIED:20211224T192957Z
UID:26344-1823076000-1823086800@hgms.org
SUMMARY:Beading Section
DESCRIPTION:See the HGMS Events page for monthly topic and additional details.
URL:https://hgms.org/event/beading-section-2-2023-10-21/2027-10-09/
LOCATION:HGMS Clubhouse\, 10805 Brooklet Dr.\, Houston\, TX\, 77099\, United States
CATEGORIES:Meetings
END:VEVENT
BEGIN:VEVENT
DTSTART;TZID=America/Chicago:20271009T100000
DTEND;TZID=America/Chicago:20271009T150000
DTSTAMP:20260425T231146
CREATED:20250319T145518Z
LAST-MODIFIED:20250319T145518Z
UID:24719-1823076000-1823094000@hgms.org
SUMMARY:Open Shop - Saturdays
DESCRIPTION:Shop available for HGMS Member Use Only – additional shop usage fees apply.
URL:https://hgms.org/event/open-shop-saturdays/2027-10-09/
LOCATION:HGMS Clubhouse\, 10805 Brooklet Dr.\, Houston\, TX\, 77099\, United States
CATEGORIES:Open Shop
END:VEVENT
BEGIN:VEVENT
DTSTART;TZID=America/Chicago:20271010T110000
DTEND;TZID=America/Chicago:20271010T160000
DTSTAMP:20260425T231146
CREATED:20250319T145402Z
LAST-MODIFIED:20250319T145402Z
UID:24722-1823166000-1823184000@hgms.org
SUMMARY:Open Shop - Sundays
DESCRIPTION:Shop available for HGMS Member Use Only – additional shop usage fees apply.
URL:https://hgms.org/event/open-shop-sundays/2027-10-10/
LOCATION:HGMS Clubhouse\, 10805 Brooklet Dr.\, Houston\, TX\, 77099\, United States
CATEGORIES:Open Shop
END:VEVENT
BEGIN:VEVENT
DTSTART;TZID=America/Chicago:20271013T100000
DTEND;TZID=America/Chicago:20271013T200000
DTSTAMP:20260425T231146
CREATED:20250319T145714Z
LAST-MODIFIED:20250319T145714Z
UID:24728-1823421600-1823457600@hgms.org
SUMMARY:Open Shop - Wednesday
DESCRIPTION:Shop available for HGMS Member Use Only – additional shop usage fees apply.
URL:https://hgms.org/event/open-shop-wednesday/2027-10-13/
LOCATION:HGMS Clubhouse\, 10805 Brooklet Dr.\, Houston\, TX\, 77099\, United States
CATEGORIES:Open Shop
END:VEVENT
BEGIN:VEVENT
DTSTART;TZID=America/Chicago:20271014T100000
DTEND;TZID=America/Chicago:20271014T150000
DTSTAMP:20260425T231146
CREATED:20250319T145607Z
LAST-MODIFIED:20250319T145607Z
UID:24740-1823508000-1823526000@hgms.org
SUMMARY:Open Shop - Thursday
DESCRIPTION:Shop available for HGMS Member Use Only – additional shop usage fees apply.
URL:https://hgms.org/event/open-shop-thursday/2027-10-14/
LOCATION:HGMS Clubhouse\, 10805 Brooklet Dr.\, Houston\, TX\, 77099\, United States
CATEGORIES:Open Shop
END:VEVENT
BEGIN:VEVENT
DTSTART;TZID=America/Chicago:20271016T100000
DTEND;TZID=America/Chicago:20271016T150000
DTSTAMP:20260425T231146
CREATED:20250319T145518Z
LAST-MODIFIED:20250319T145518Z
UID:24758-1823680800-1823698800@hgms.org
SUMMARY:Open Shop - Saturdays
DESCRIPTION:Shop available for HGMS Member Use Only – additional shop usage fees apply.
URL:https://hgms.org/event/open-shop-saturdays/2027-10-16/
LOCATION:HGMS Clubhouse\, 10805 Brooklet Dr.\, Houston\, TX\, 77099\, United States
CATEGORIES:Open Shop
END:VEVENT
BEGIN:VEVENT
DTSTART;TZID=America/Chicago:20271017T110000
DTEND;TZID=America/Chicago:20271017T160000
DTSTAMP:20260425T231146
CREATED:20250319T145402Z
LAST-MODIFIED:20250319T145402Z
UID:24762-1823770800-1823788800@hgms.org
SUMMARY:Open Shop - Sundays
DESCRIPTION:Shop available for HGMS Member Use Only – additional shop usage fees apply.
URL:https://hgms.org/event/open-shop-sundays/2027-10-17/
LOCATION:HGMS Clubhouse\, 10805 Brooklet Dr.\, Houston\, TX\, 77099\, United States
CATEGORIES:Open Shop
END:VEVENT
BEGIN:VEVENT
DTSTART;TZID=America/Chicago:20271019T193000
DTEND;TZID=America/Chicago:20271019T210000
DTSTAMP:20260425T231146
CREATED:20211224T193622Z
LAST-MODIFIED:20211224T193622Z
UID:24769-1823974200-1823979600@hgms.org
SUMMARY:Paleo Section
DESCRIPTION:See the HGMS Events page for monthly topics and additional details.
URL:https://hgms.org/event/paleo-section/2027-10-19/
LOCATION:HGMS Clubhouse\, 10805 Brooklet Dr.\, Houston\, TX\, 77099\, United States
CATEGORIES:Meetings
END:VEVENT
BEGIN:VEVENT
DTSTART;TZID=America/Chicago:20271020T100000
DTEND;TZID=America/Chicago:20271020T200000
DTSTAMP:20260425T231146
CREATED:20250319T145714Z
LAST-MODIFIED:20250319T145714Z
UID:24773-1824026400-1824062400@hgms.org
SUMMARY:Open Shop - Wednesday
DESCRIPTION:Shop available for HGMS Member Use Only – additional shop usage fees apply.
URL:https://hgms.org/event/open-shop-wednesday/2027-10-20/
LOCATION:HGMS Clubhouse\, 10805 Brooklet Dr.\, Houston\, TX\, 77099\, United States
CATEGORIES:Open Shop
END:VEVENT
BEGIN:VEVENT
DTSTART;TZID=America/Chicago:20271021T100000
DTEND;TZID=America/Chicago:20271021T150000
DTSTAMP:20260425T231146
CREATED:20250319T145607Z
LAST-MODIFIED:20250319T145607Z
UID:24778-1824112800-1824130800@hgms.org
SUMMARY:Open Shop - Thursday
DESCRIPTION:Shop available for HGMS Member Use Only – additional shop usage fees apply.
URL:https://hgms.org/event/open-shop-thursday/2027-10-21/
LOCATION:HGMS Clubhouse\, 10805 Brooklet Dr.\, Houston\, TX\, 77099\, United States
CATEGORIES:Open Shop
END:VEVENT
BEGIN:VEVENT
DTSTART;TZID=America/Chicago:20271023T100000
DTEND;TZID=America/Chicago:20271023T150000
DTSTAMP:20260425T231146
CREATED:20250319T145518Z
LAST-MODIFIED:20250319T145518Z
UID:24793-1824285600-1824303600@hgms.org
SUMMARY:Open Shop - Saturdays
DESCRIPTION:Shop available for HGMS Member Use Only – additional shop usage fees apply.
URL:https://hgms.org/event/open-shop-saturdays/2027-10-23/
LOCATION:HGMS Clubhouse\, 10805 Brooklet Dr.\, Houston\, TX\, 77099\, United States
CATEGORIES:Open Shop
END:VEVENT
BEGIN:VEVENT
DTSTART;TZID=America/Chicago:20271024T110000
DTEND;TZID=America/Chicago:20271024T160000
DTSTAMP:20260425T231146
CREATED:20250319T145402Z
LAST-MODIFIED:20250319T145402Z
UID:24799-1824375600-1824393600@hgms.org
SUMMARY:Open Shop - Sundays
DESCRIPTION:Shop available for HGMS Member Use Only – additional shop usage fees apply.
URL:https://hgms.org/event/open-shop-sundays/2027-10-24/
LOCATION:HGMS Clubhouse\, 10805 Brooklet Dr.\, Houston\, TX\, 77099\, United States
CATEGORIES:Open Shop
END:VEVENT
BEGIN:VEVENT
DTSTART;TZID=America/Chicago:20271027T100000
DTEND;TZID=America/Chicago:20271027T200000
DTSTAMP:20260425T231146
CREATED:20250319T145714Z
LAST-MODIFIED:20250319T145714Z
UID:24828-1824631200-1824667200@hgms.org
SUMMARY:Open Shop - Wednesday
DESCRIPTION:Shop available for HGMS Member Use Only – additional shop usage fees apply.
URL:https://hgms.org/event/open-shop-wednesday/2027-10-27/
LOCATION:HGMS Clubhouse\, 10805 Brooklet Dr.\, Houston\, TX\, 77099\, United States
CATEGORIES:Open Shop
END:VEVENT
BEGIN:VEVENT
DTSTART;TZID=America/Chicago:20271028T100000
DTEND;TZID=America/Chicago:20271028T150000
DTSTAMP:20260425T231146
CREATED:20250319T145607Z
LAST-MODIFIED:20250319T145607Z
UID:24864-1824717600-1824735600@hgms.org
SUMMARY:Open Shop - Thursday
DESCRIPTION:Shop available for HGMS Member Use Only – additional shop usage fees apply.
URL:https://hgms.org/event/open-shop-thursday/2027-10-28/
LOCATION:HGMS Clubhouse\, 10805 Brooklet Dr.\, Houston\, TX\, 77099\, United States
CATEGORIES:Open Shop
END:VEVENT
BEGIN:VEVENT
DTSTART;TZID=America/Chicago:20271030T100000
DTEND;TZID=America/Chicago:20271030T150000
DTSTAMP:20260425T231146
CREATED:20250319T145518Z
LAST-MODIFIED:20250319T145518Z
UID:24922-1824890400-1824908400@hgms.org
SUMMARY:Open Shop - Saturdays
DESCRIPTION:Shop available for HGMS Member Use Only – additional shop usage fees apply.
URL:https://hgms.org/event/open-shop-saturdays/2027-10-30/
LOCATION:HGMS Clubhouse\, 10805 Brooklet Dr.\, Houston\, TX\, 77099\, United States
CATEGORIES:Open Shop
END:VEVENT
BEGIN:VEVENT
DTSTART;TZID=America/Chicago:20271031T110000
DTEND;TZID=America/Chicago:20271031T160000
DTSTAMP:20260425T231146
CREATED:20250319T145402Z
LAST-MODIFIED:20250319T145402Z
UID:24931-1824980400-1824998400@hgms.org
SUMMARY:Open Shop - Sundays
DESCRIPTION:Shop available for HGMS Member Use Only – additional shop usage fees apply.
URL:https://hgms.org/event/open-shop-sundays/2027-10-31/
LOCATION:HGMS Clubhouse\, 10805 Brooklet Dr.\, Houston\, TX\, 77099\, United States
CATEGORIES:Open Shop
END:VEVENT
BEGIN:VEVENT
DTSTART;TZID=America/Chicago:20271103T100000
DTEND;TZID=America/Chicago:20271103T200000
DTSTAMP:20260425T231146
CREATED:20250319T145714Z
LAST-MODIFIED:20250319T145714Z
UID:25018-1825236000-1825272000@hgms.org
SUMMARY:Open Shop - Wednesday
DESCRIPTION:Shop available for HGMS Member Use Only – additional shop usage fees apply.
URL:https://hgms.org/event/open-shop-wednesday/2027-11-03/
LOCATION:HGMS Clubhouse\, 10805 Brooklet Dr.\, Houston\, TX\, 77099\, United States
CATEGORIES:Open Shop
END:VEVENT
BEGIN:VEVENT
DTSTART;TZID=America/Chicago:20271103T120000
DTEND;TZID=America/Chicago:20271103T150000
DTSTAMP:20260425T231146
CREATED:20211224T193453Z
LAST-MODIFIED:20211224T193453Z
UID:25017-1825243200-1825254000@hgms.org
SUMMARY:Day Light Section
DESCRIPTION:See the HGMS Events page for monthly topics and additional details.
URL:https://hgms.org/event/day-light-section/2027-11-03/
LOCATION:HGMS Clubhouse\, 10805 Brooklet Dr.\, Houston\, TX\, 77099\, United States
CATEGORIES:Meetings
END:VEVENT
BEGIN:VEVENT
DTSTART;TZID=America/Chicago:20271104T100000
DTEND;TZID=America/Chicago:20271104T150000
DTSTAMP:20260425T231146
CREATED:20250319T145607Z
LAST-MODIFIED:20250319T145607Z
UID:25061-1825322400-1825340400@hgms.org
SUMMARY:Open Shop - Thursday
DESCRIPTION:Shop available for HGMS Member Use Only – additional shop usage fees apply.
URL:https://hgms.org/event/open-shop-thursday/2027-11-04/
LOCATION:HGMS Clubhouse\, 10805 Brooklet Dr.\, Houston\, TX\, 77099\, United States
CATEGORIES:Open Shop
END:VEVENT
BEGIN:VEVENT
DTSTART;TZID=America/Chicago:20271106T100000
DTEND;TZID=America/Chicago:20271106T120000
DTSTAMP:20260425T231146
CREATED:20211224T185132Z
LAST-MODIFIED:20211224T185132Z
UID:25298-1825495200-1825502400@hgms.org
SUMMARY:Youth Section
DESCRIPTION:Participants must be minimum age 5 to attend meetings and be accompanied by a parent or guardian at all times when at the clubhouse. Particpants must be active HGMS Youth Members or included in an active HGMS Family membership. \nMasks REQUIRED for all participants and observers. \nSee HGMS Events for additional program details.
URL:https://hgms.org/event/youth-section-9-2022-02-05/2027-11-06/
LOCATION:HGMS Clubhouse\, 10805 Brooklet Dr.\, Houston\, TX\, 77099\, United States
CATEGORIES:Meetings
END:VEVENT
BEGIN:VEVENT
DTSTART;TZID=America/Chicago:20271106T100000
DTEND;TZID=America/Chicago:20271106T150000
DTSTAMP:20260425T231146
CREATED:20250319T145518Z
LAST-MODIFIED:20250319T145518Z
UID:25299-1825495200-1825513200@hgms.org
SUMMARY:Open Shop - Saturdays
DESCRIPTION:Shop available for HGMS Member Use Only – additional shop usage fees apply.
URL:https://hgms.org/event/open-shop-saturdays/2027-11-06/
LOCATION:HGMS Clubhouse\, 10805 Brooklet Dr.\, Houston\, TX\, 77099\, United States
CATEGORIES:Open Shop
END:VEVENT
BEGIN:VEVENT
DTSTART;TZID=America/Chicago:20271107T110000
DTEND;TZID=America/Chicago:20271107T160000
DTSTAMP:20260425T231146
CREATED:20250319T145402Z
LAST-MODIFIED:20250319T145402Z
UID:25609-1825585200-1825603200@hgms.org
SUMMARY:Open Shop - Sundays
DESCRIPTION:Shop available for HGMS Member Use Only – additional shop usage fees apply.
URL:https://hgms.org/event/open-shop-sundays/2027-11-07/
LOCATION:HGMS Clubhouse\, 10805 Brooklet Dr.\, Houston\, TX\, 77099\, United States
CATEGORIES:Open Shop
END:VEVENT
END:VCALENDAR