BEGIN:VCALENDAR
VERSION:2.0
PRODID:-//HGMS - Houston Gem &amp; Mineral Society - ECPv6.15.20//NONSGML v1.0//EN
CALSCALE:GREGORIAN
METHOD:PUBLISH
X-WR-CALNAME:HGMS - Houston Gem &amp; Mineral Society
X-ORIGINAL-URL:https://hgms.org
X-WR-CALDESC:Events for HGMS - Houston Gem &amp; Mineral Society
REFRESH-INTERVAL;VALUE=DURATION:PT1H
X-Robots-Tag:noindex
X-PUBLISHED-TTL:PT1H
BEGIN:VTIMEZONE
TZID:America/Chicago
BEGIN:DAYLIGHT
TZOFFSETFROM:-0600
TZOFFSETTO:-0500
TZNAME:CDT
DTSTART:20260308T080000
END:DAYLIGHT
BEGIN:STANDARD
TZOFFSETFROM:-0500
TZOFFSETTO:-0600
TZNAME:CST
DTSTART:20261101T070000
END:STANDARD
BEGIN:DAYLIGHT
TZOFFSETFROM:-0600
TZOFFSETTO:-0500
TZNAME:CDT
DTSTART:20270314T080000
END:DAYLIGHT
BEGIN:STANDARD
TZOFFSETFROM:-0500
TZOFFSETTO:-0600
TZNAME:CST
DTSTART:20271107T070000
END:STANDARD
BEGIN:DAYLIGHT
TZOFFSETFROM:-0600
TZOFFSETTO:-0500
TZNAME:CDT
DTSTART:20280312T080000
END:DAYLIGHT
BEGIN:STANDARD
TZOFFSETFROM:-0500
TZOFFSETTO:-0600
TZNAME:CST
DTSTART:20281105T070000
END:STANDARD
END:VTIMEZONE
BEGIN:VEVENT
DTSTART;TZID=America/Chicago:20270530T110000
DTEND;TZID=America/Chicago:20270530T160000
DTSTAMP:20260425T102042
CREATED:20250319T145402Z
LAST-MODIFIED:20250319T145402Z
UID:23745-1811674800-1811692800@hgms.org
SUMMARY:Open Shop - Sundays
DESCRIPTION:Shop available for HGMS Member Use Only – additional shop usage fees apply.
URL:https://hgms.org/event/open-shop-sundays/2027-05-30/
LOCATION:HGMS Clubhouse\, 10805 Brooklet Dr.\, Houston\, TX\, 77099\, United States
CATEGORIES:Open Shop
END:VEVENT
BEGIN:VEVENT
DTSTART;TZID=America/Chicago:20270602T100000
DTEND;TZID=America/Chicago:20270602T200000
DTSTAMP:20260425T102042
CREATED:20250319T145714Z
LAST-MODIFIED:20250319T145714Z
UID:23796-1811930400-1811966400@hgms.org
SUMMARY:Open Shop - Wednesday
DESCRIPTION:Shop available for HGMS Member Use Only – additional shop usage fees apply.
URL:https://hgms.org/event/open-shop-wednesday/2027-06-02/
LOCATION:HGMS Clubhouse\, 10805 Brooklet Dr.\, Houston\, TX\, 77099\, United States
CATEGORIES:Open Shop
END:VEVENT
BEGIN:VEVENT
DTSTART;TZID=America/Chicago:20270602T120000
DTEND;TZID=America/Chicago:20270602T150000
DTSTAMP:20260425T102042
CREATED:20211224T193453Z
LAST-MODIFIED:20250923T020426Z
UID:23847-1811937600-1811948400@hgms.org
SUMMARY:Day Light Section
DESCRIPTION:See the HGMS Events page for monthly topics and additional details.
URL:https://hgms.org/event/day-light-section/2027-06-02/
LOCATION:HGMS Clubhouse\, 10805 Brooklet Dr.\, Houston\, TX\, 77099\, United States
CATEGORIES:Meetings
END:VEVENT
BEGIN:VEVENT
DTSTART;TZID=America/Chicago:20270603T100000
DTEND;TZID=America/Chicago:20270603T150000
DTSTAMP:20260425T102042
CREATED:20250319T145607Z
LAST-MODIFIED:20250319T145607Z
UID:23797-1812016800-1812034800@hgms.org
SUMMARY:Open Shop - Thursday
DESCRIPTION:Shop available for HGMS Member Use Only – additional shop usage fees apply.
URL:https://hgms.org/event/open-shop-thursday/2027-06-03/
LOCATION:HGMS Clubhouse\, 10805 Brooklet Dr.\, Houston\, TX\, 77099\, United States
CATEGORIES:Open Shop
END:VEVENT
BEGIN:VEVENT
DTSTART;TZID=America/Chicago:20270605T100000
DTEND;TZID=America/Chicago:20270605T120000
DTSTAMP:20260425T102042
CREATED:20211224T185132Z
LAST-MODIFIED:20211224T185132Z
UID:23898-1812189600-1812196800@hgms.org
SUMMARY:Youth Section
DESCRIPTION:Participants must be minimum age 5 to attend meetings and be accompanied by a parent or guardian at all times when at the clubhouse. Particpants must be active HGMS Youth Members or included in an active HGMS Family membership. \nMasks REQUIRED for all participants and observers. \nSee HGMS Events for additional program details.
URL:https://hgms.org/event/youth-section-9-2022-02-05/2027-06-05/
LOCATION:HGMS Clubhouse\, 10805 Brooklet Dr.\, Houston\, TX\, 77099\, United States
CATEGORIES:Meetings
END:VEVENT
BEGIN:VEVENT
DTSTART;TZID=America/Chicago:20270605T100000
DTEND;TZID=America/Chicago:20270605T150000
DTSTAMP:20260425T102042
CREATED:20250319T145518Z
LAST-MODIFIED:20250319T145518Z
UID:23899-1812189600-1812207600@hgms.org
SUMMARY:Open Shop - Saturdays
DESCRIPTION:Shop available for HGMS Member Use Only – additional shop usage fees apply.
URL:https://hgms.org/event/open-shop-saturdays/2027-06-05/
LOCATION:HGMS Clubhouse\, 10805 Brooklet Dr.\, Houston\, TX\, 77099\, United States
CATEGORIES:Open Shop
END:VEVENT
BEGIN:VEVENT
DTSTART;TZID=America/Chicago:20270606T110000
DTEND;TZID=America/Chicago:20270606T160000
DTSTAMP:20260425T102042
CREATED:20250319T145402Z
LAST-MODIFIED:20250319T145402Z
UID:23900-1812279600-1812297600@hgms.org
SUMMARY:Open Shop - Sundays
DESCRIPTION:Shop available for HGMS Member Use Only – additional shop usage fees apply.
URL:https://hgms.org/event/open-shop-sundays/2027-06-06/
LOCATION:HGMS Clubhouse\, 10805 Brooklet Dr.\, Houston\, TX\, 77099\, United States
CATEGORIES:Open Shop
END:VEVENT
BEGIN:VEVENT
DTSTART;TZID=America/Chicago:20270609T100000
DTEND;TZID=America/Chicago:20270609T200000
DTSTAMP:20260425T102042
CREATED:20250319T145714Z
LAST-MODIFIED:20250319T145714Z
UID:23906-1812535200-1812571200@hgms.org
SUMMARY:Open Shop - Wednesday
DESCRIPTION:Shop available for HGMS Member Use Only – additional shop usage fees apply.
URL:https://hgms.org/event/open-shop-wednesday/2027-06-09/
LOCATION:HGMS Clubhouse\, 10805 Brooklet Dr.\, Houston\, TX\, 77099\, United States
CATEGORIES:Open Shop
END:VEVENT
BEGIN:VEVENT
DTSTART;TZID=America/Chicago:20270610T100000
DTEND;TZID=America/Chicago:20270610T150000
DTSTAMP:20260425T102042
CREATED:20250319T145607Z
LAST-MODIFIED:20250319T145607Z
UID:23907-1812621600-1812639600@hgms.org
SUMMARY:Open Shop - Thursday
DESCRIPTION:Shop available for HGMS Member Use Only – additional shop usage fees apply.
URL:https://hgms.org/event/open-shop-thursday/2027-06-10/
LOCATION:HGMS Clubhouse\, 10805 Brooklet Dr.\, Houston\, TX\, 77099\, United States
CATEGORIES:Open Shop
END:VEVENT
BEGIN:VEVENT
DTSTART;TZID=America/Chicago:20270612T100000
DTEND;TZID=America/Chicago:20270612T130000
DTSTAMP:20260425T102042
CREATED:20211224T192957Z
LAST-MODIFIED:20211224T192957Z
UID:26340-1812794400-1812805200@hgms.org
SUMMARY:Beading Section
DESCRIPTION:See the HGMS Events page for monthly topic and additional details.
URL:https://hgms.org/event/beading-section-2-2023-10-21/2027-06-12/
LOCATION:HGMS Clubhouse\, 10805 Brooklet Dr.\, Houston\, TX\, 77099\, United States
CATEGORIES:Meetings
END:VEVENT
BEGIN:VEVENT
DTSTART;TZID=America/Chicago:20270612T100000
DTEND;TZID=America/Chicago:20270612T150000
DTSTAMP:20260425T102042
CREATED:20250319T145518Z
LAST-MODIFIED:20250319T145518Z
UID:23912-1812794400-1812812400@hgms.org
SUMMARY:Open Shop - Saturdays
DESCRIPTION:Shop available for HGMS Member Use Only – additional shop usage fees apply.
URL:https://hgms.org/event/open-shop-saturdays/2027-06-12/
LOCATION:HGMS Clubhouse\, 10805 Brooklet Dr.\, Houston\, TX\, 77099\, United States
CATEGORIES:Open Shop
END:VEVENT
BEGIN:VEVENT
DTSTART;TZID=America/Chicago:20270613T110000
DTEND;TZID=America/Chicago:20270613T160000
DTSTAMP:20260425T102042
CREATED:20250319T145402Z
LAST-MODIFIED:20250319T145402Z
UID:23921-1812884400-1812902400@hgms.org
SUMMARY:Open Shop - Sundays
DESCRIPTION:Shop available for HGMS Member Use Only – additional shop usage fees apply.
URL:https://hgms.org/event/open-shop-sundays/2027-06-13/
LOCATION:HGMS Clubhouse\, 10805 Brooklet Dr.\, Houston\, TX\, 77099\, United States
CATEGORIES:Open Shop
END:VEVENT
BEGIN:VEVENT
DTSTART;TZID=America/Chicago:20270615T193000
DTEND;TZID=America/Chicago:20270615T210000
DTSTAMP:20260425T102042
CREATED:20211224T193622Z
LAST-MODIFIED:20211224T193622Z
UID:23922-1813087800-1813093200@hgms.org
SUMMARY:Paleo Section
DESCRIPTION:See the HGMS Events page for monthly topics and additional details.
URL:https://hgms.org/event/paleo-section/2027-06-15/
LOCATION:HGMS Clubhouse\, 10805 Brooklet Dr.\, Houston\, TX\, 77099\, United States
CATEGORIES:Meetings
END:VEVENT
BEGIN:VEVENT
DTSTART;TZID=America/Chicago:20270616T100000
DTEND;TZID=America/Chicago:20270616T200000
DTSTAMP:20260425T102042
CREATED:20250319T145714Z
LAST-MODIFIED:20250319T145714Z
UID:23924-1813140000-1813176000@hgms.org
SUMMARY:Open Shop - Wednesday
DESCRIPTION:Shop available for HGMS Member Use Only – additional shop usage fees apply.
URL:https://hgms.org/event/open-shop-wednesday/2027-06-16/
LOCATION:HGMS Clubhouse\, 10805 Brooklet Dr.\, Houston\, TX\, 77099\, United States
CATEGORIES:Open Shop
END:VEVENT
BEGIN:VEVENT
DTSTART;TZID=America/Chicago:20270617T100000
DTEND;TZID=America/Chicago:20270617T150000
DTSTAMP:20260425T102042
CREATED:20250319T145607Z
LAST-MODIFIED:20250319T145607Z
UID:23925-1813226400-1813244400@hgms.org
SUMMARY:Open Shop - Thursday
DESCRIPTION:Shop available for HGMS Member Use Only – additional shop usage fees apply.
URL:https://hgms.org/event/open-shop-thursday/2027-06-17/
LOCATION:HGMS Clubhouse\, 10805 Brooklet Dr.\, Houston\, TX\, 77099\, United States
CATEGORIES:Open Shop
END:VEVENT
BEGIN:VEVENT
DTSTART;TZID=America/Chicago:20270619T100000
DTEND;TZID=America/Chicago:20270619T150000
DTSTAMP:20260425T102042
CREATED:20250319T145518Z
LAST-MODIFIED:20250319T145518Z
UID:23944-1813399200-1813417200@hgms.org
SUMMARY:Open Shop - Saturdays
DESCRIPTION:Shop available for HGMS Member Use Only – additional shop usage fees apply.
URL:https://hgms.org/event/open-shop-saturdays/2027-06-19/
LOCATION:HGMS Clubhouse\, 10805 Brooklet Dr.\, Houston\, TX\, 77099\, United States
CATEGORIES:Open Shop
END:VEVENT
BEGIN:VEVENT
DTSTART;TZID=America/Chicago:20270620T110000
DTEND;TZID=America/Chicago:20270620T160000
DTSTAMP:20260425T102042
CREATED:20250319T145402Z
LAST-MODIFIED:20250319T145402Z
UID:23949-1813489200-1813507200@hgms.org
SUMMARY:Open Shop - Sundays
DESCRIPTION:Shop available for HGMS Member Use Only – additional shop usage fees apply.
URL:https://hgms.org/event/open-shop-sundays/2027-06-20/
LOCATION:HGMS Clubhouse\, 10805 Brooklet Dr.\, Houston\, TX\, 77099\, United States
CATEGORIES:Open Shop
END:VEVENT
BEGIN:VEVENT
DTSTART;TZID=America/Chicago:20270623T100000
DTEND;TZID=America/Chicago:20270623T200000
DTSTAMP:20260425T102042
CREATED:20250319T145714Z
LAST-MODIFIED:20250319T145714Z
UID:23953-1813744800-1813780800@hgms.org
SUMMARY:Open Shop - Wednesday
DESCRIPTION:Shop available for HGMS Member Use Only – additional shop usage fees apply.
URL:https://hgms.org/event/open-shop-wednesday/2027-06-23/
LOCATION:HGMS Clubhouse\, 10805 Brooklet Dr.\, Houston\, TX\, 77099\, United States
CATEGORIES:Open Shop
END:VEVENT
BEGIN:VEVENT
DTSTART;TZID=America/Chicago:20270624T100000
DTEND;TZID=America/Chicago:20270624T150000
DTSTAMP:20260425T102042
CREATED:20250319T145607Z
LAST-MODIFIED:20250319T145607Z
UID:23971-1813831200-1813849200@hgms.org
SUMMARY:Open Shop - Thursday
DESCRIPTION:Shop available for HGMS Member Use Only – additional shop usage fees apply.
URL:https://hgms.org/event/open-shop-thursday/2027-06-24/
LOCATION:HGMS Clubhouse\, 10805 Brooklet Dr.\, Houston\, TX\, 77099\, United States
CATEGORIES:Open Shop
END:VEVENT
BEGIN:VEVENT
DTSTART;TZID=America/Chicago:20270626T100000
DTEND;TZID=America/Chicago:20270626T150000
DTSTAMP:20260425T102042
CREATED:20250319T145518Z
LAST-MODIFIED:20250319T145518Z
UID:23973-1814004000-1814022000@hgms.org
SUMMARY:Open Shop - Saturdays
DESCRIPTION:Shop available for HGMS Member Use Only – additional shop usage fees apply.
URL:https://hgms.org/event/open-shop-saturdays/2027-06-26/
LOCATION:HGMS Clubhouse\, 10805 Brooklet Dr.\, Houston\, TX\, 77099\, United States
CATEGORIES:Open Shop
END:VEVENT
BEGIN:VEVENT
DTSTART;TZID=America/Chicago:20270627T110000
DTEND;TZID=America/Chicago:20270627T160000
DTSTAMP:20260425T102042
CREATED:20250319T145402Z
LAST-MODIFIED:20250319T145402Z
UID:23974-1814094000-1814112000@hgms.org
SUMMARY:Open Shop - Sundays
DESCRIPTION:Shop available for HGMS Member Use Only – additional shop usage fees apply.
URL:https://hgms.org/event/open-shop-sundays/2027-06-27/
LOCATION:HGMS Clubhouse\, 10805 Brooklet Dr.\, Houston\, TX\, 77099\, United States
CATEGORIES:Open Shop
END:VEVENT
BEGIN:VEVENT
DTSTART;TZID=America/Chicago:20270630T100000
DTEND;TZID=America/Chicago:20270630T200000
DTSTAMP:20260425T102042
CREATED:20250319T145714Z
LAST-MODIFIED:20250319T145714Z
UID:23983-1814349600-1814385600@hgms.org
SUMMARY:Open Shop - Wednesday
DESCRIPTION:Shop available for HGMS Member Use Only – additional shop usage fees apply.
URL:https://hgms.org/event/open-shop-wednesday/2027-06-30/
LOCATION:HGMS Clubhouse\, 10805 Brooklet Dr.\, Houston\, TX\, 77099\, United States
CATEGORIES:Open Shop
END:VEVENT
BEGIN:VEVENT
DTSTART;TZID=America/Chicago:20270701T100000
DTEND;TZID=America/Chicago:20270701T150000
DTSTAMP:20260425T102042
CREATED:20250319T145607Z
LAST-MODIFIED:20250319T145607Z
UID:24007-1814436000-1814454000@hgms.org
SUMMARY:Open Shop - Thursday
DESCRIPTION:Shop available for HGMS Member Use Only – additional shop usage fees apply.
URL:https://hgms.org/event/open-shop-thursday/2027-07-01/
LOCATION:HGMS Clubhouse\, 10805 Brooklet Dr.\, Houston\, TX\, 77099\, United States
CATEGORIES:Open Shop
END:VEVENT
BEGIN:VEVENT
DTSTART;TZID=America/Chicago:20270703T100000
DTEND;TZID=America/Chicago:20270703T120000
DTSTAMP:20260425T102042
CREATED:20211224T185132Z
LAST-MODIFIED:20211224T185132Z
UID:24009-1814608800-1814616000@hgms.org
SUMMARY:Youth Section
DESCRIPTION:Participants must be minimum age 5 to attend meetings and be accompanied by a parent or guardian at all times when at the clubhouse. Particpants must be active HGMS Youth Members or included in an active HGMS Family membership. \nMasks REQUIRED for all participants and observers. \nSee HGMS Events for additional program details.
URL:https://hgms.org/event/youth-section-9-2022-02-05/2027-07-03/
LOCATION:HGMS Clubhouse\, 10805 Brooklet Dr.\, Houston\, TX\, 77099\, United States
CATEGORIES:Meetings
END:VEVENT
BEGIN:VEVENT
DTSTART;TZID=America/Chicago:20270703T100000
DTEND;TZID=America/Chicago:20270703T150000
DTSTAMP:20260425T102042
CREATED:20250319T145518Z
LAST-MODIFIED:20250319T145518Z
UID:24010-1814608800-1814626800@hgms.org
SUMMARY:Open Shop - Saturdays
DESCRIPTION:Shop available for HGMS Member Use Only – additional shop usage fees apply.
URL:https://hgms.org/event/open-shop-saturdays/2027-07-03/
LOCATION:HGMS Clubhouse\, 10805 Brooklet Dr.\, Houston\, TX\, 77099\, United States
CATEGORIES:Open Shop
END:VEVENT
BEGIN:VEVENT
DTSTART;TZID=America/Chicago:20270704T110000
DTEND;TZID=America/Chicago:20270704T160000
DTSTAMP:20260425T102042
CREATED:20250319T145402Z
LAST-MODIFIED:20250319T145402Z
UID:24011-1814698800-1814716800@hgms.org
SUMMARY:Open Shop - Sundays
DESCRIPTION:Shop available for HGMS Member Use Only – additional shop usage fees apply.
URL:https://hgms.org/event/open-shop-sundays/2027-07-04/
LOCATION:HGMS Clubhouse\, 10805 Brooklet Dr.\, Houston\, TX\, 77099\, United States
CATEGORIES:Open Shop
END:VEVENT
BEGIN:VEVENT
DTSTART;TZID=America/Chicago:20270707T100000
DTEND;TZID=America/Chicago:20270707T200000
DTSTAMP:20260425T102042
CREATED:20250319T145714Z
LAST-MODIFIED:20250319T145714Z
UID:24022-1814954400-1814990400@hgms.org
SUMMARY:Open Shop - Wednesday
DESCRIPTION:Shop available for HGMS Member Use Only – additional shop usage fees apply.
URL:https://hgms.org/event/open-shop-wednesday/2027-07-07/
LOCATION:HGMS Clubhouse\, 10805 Brooklet Dr.\, Houston\, TX\, 77099\, United States
CATEGORIES:Open Shop
END:VEVENT
BEGIN:VEVENT
DTSTART;TZID=America/Chicago:20270707T120000
DTEND;TZID=America/Chicago:20270707T150000
DTSTAMP:20260425T102042
CREATED:20211224T193453Z
LAST-MODIFIED:20250923T020426Z
UID:24021-1814961600-1814972400@hgms.org
SUMMARY:Day Light Section
DESCRIPTION:See the HGMS Events page for monthly topics and additional details.
URL:https://hgms.org/event/day-light-section/2027-07-07/
LOCATION:HGMS Clubhouse\, 10805 Brooklet Dr.\, Houston\, TX\, 77099\, United States
CATEGORIES:Meetings
END:VEVENT
BEGIN:VEVENT
DTSTART;TZID=America/Chicago:20270708T100000
DTEND;TZID=America/Chicago:20270708T150000
DTSTAMP:20260425T102042
CREATED:20250319T145607Z
LAST-MODIFIED:20250319T145607Z
UID:24024-1815040800-1815058800@hgms.org
SUMMARY:Open Shop - Thursday
DESCRIPTION:Shop available for HGMS Member Use Only – additional shop usage fees apply.
URL:https://hgms.org/event/open-shop-thursday/2027-07-08/
LOCATION:HGMS Clubhouse\, 10805 Brooklet Dr.\, Houston\, TX\, 77099\, United States
CATEGORIES:Open Shop
END:VEVENT
BEGIN:VEVENT
DTSTART;TZID=America/Chicago:20270710T100000
DTEND;TZID=America/Chicago:20270710T130000
DTSTAMP:20260425T102042
CREATED:20211224T192957Z
LAST-MODIFIED:20211224T192957Z
UID:26341-1815213600-1815224400@hgms.org
SUMMARY:Beading Section
DESCRIPTION:See the HGMS Events page for monthly topic and additional details.
URL:https://hgms.org/event/beading-section-2-2023-10-21/2027-07-10/
LOCATION:HGMS Clubhouse\, 10805 Brooklet Dr.\, Houston\, TX\, 77099\, United States
CATEGORIES:Meetings
END:VEVENT
END:VCALENDAR