BEGIN:VCALENDAR
VERSION:2.0
PRODID:-//HGMS - Houston Gem &amp; Mineral Society - ECPv6.15.20//NONSGML v1.0//EN
CALSCALE:GREGORIAN
METHOD:PUBLISH
X-ORIGINAL-URL:https://hgms.org
X-WR-CALDESC:Events for HGMS - Houston Gem &amp; Mineral Society
REFRESH-INTERVAL;VALUE=DURATION:PT1H
X-Robots-Tag:noindex
X-PUBLISHED-TTL:PT1H
BEGIN:VTIMEZONE
TZID:America/Chicago
BEGIN:DAYLIGHT
TZOFFSETFROM:-0600
TZOFFSETTO:-0500
TZNAME:CDT
DTSTART:20260308T080000
END:DAYLIGHT
BEGIN:STANDARD
TZOFFSETFROM:-0500
TZOFFSETTO:-0600
TZNAME:CST
DTSTART:20261101T070000
END:STANDARD
BEGIN:DAYLIGHT
TZOFFSETFROM:-0600
TZOFFSETTO:-0500
TZNAME:CDT
DTSTART:20270314T080000
END:DAYLIGHT
BEGIN:STANDARD
TZOFFSETFROM:-0500
TZOFFSETTO:-0600
TZNAME:CST
DTSTART:20271107T070000
END:STANDARD
BEGIN:DAYLIGHT
TZOFFSETFROM:-0600
TZOFFSETTO:-0500
TZNAME:CDT
DTSTART:20280312T080000
END:DAYLIGHT
BEGIN:STANDARD
TZOFFSETFROM:-0500
TZOFFSETTO:-0600
TZNAME:CST
DTSTART:20281105T070000
END:STANDARD
END:VTIMEZONE
BEGIN:VEVENT
DTSTART;TZID=America/Chicago:20270131T110000
DTEND;TZID=America/Chicago:20270131T160000
DTSTAMP:20260423T212920
CREATED:20250319T145402Z
LAST-MODIFIED:20250319T145402Z
UID:23154-1801393200-1801411200@hgms.org
SUMMARY:Open Shop - Sundays
DESCRIPTION:Shop available for HGMS Member Use Only – additional shop usage fees apply.
URL:https://hgms.org/event/open-shop-sundays/2027-01-31/
LOCATION:HGMS Clubhouse\, 10805 Brooklet Dr.\, Houston\, TX\, 77099\, United States
CATEGORIES:Open Shop
END:VEVENT
BEGIN:VEVENT
DTSTART;TZID=America/Chicago:20270203T100000
DTEND;TZID=America/Chicago:20270203T200000
DTSTAMP:20260423T212920
CREATED:20250319T145714Z
LAST-MODIFIED:20250319T150204Z
UID:22933-1801648800-1801684800@hgms.org
SUMMARY:Open Shop - Wednesday
DESCRIPTION:Shop available for HGMS Member Use Only – additional shop usage fees apply.
URL:https://hgms.org/event/open-shop-wednesday/2027-02-03/
LOCATION:HGMS Clubhouse\, 10805 Brooklet Dr.\, Houston\, TX\, 77099\, United States
CATEGORIES:Open Shop
END:VEVENT
BEGIN:VEVENT
DTSTART;TZID=America/Chicago:20270203T120000
DTEND;TZID=America/Chicago:20270203T150000
DTSTAMP:20260423T212920
CREATED:20211224T193453Z
LAST-MODIFIED:20250923T020425Z
UID:23843-1801656000-1801666800@hgms.org
SUMMARY:Day Light Section
DESCRIPTION:See the HGMS Events page for monthly topics and additional details.
URL:https://hgms.org/event/day-light-section/2027-02-03/
LOCATION:HGMS Clubhouse\, 10805 Brooklet Dr.\, Houston\, TX\, 77099\, United States
CATEGORIES:Meetings
END:VEVENT
BEGIN:VEVENT
DTSTART;TZID=America/Chicago:20270204T100000
DTEND;TZID=America/Chicago:20270204T150000
DTSTAMP:20260423T212920
CREATED:20250319T145607Z
LAST-MODIFIED:20250319T145607Z
UID:23371-1801735200-1801753200@hgms.org
SUMMARY:Open Shop - Thursday
DESCRIPTION:Shop available for HGMS Member Use Only – additional shop usage fees apply.
URL:https://hgms.org/event/open-shop-thursday/2027-02-04/
LOCATION:HGMS Clubhouse\, 10805 Brooklet Dr.\, Houston\, TX\, 77099\, United States
CATEGORIES:Open Shop
END:VEVENT
BEGIN:VEVENT
DTSTART;TZID=America/Chicago:20270206T100000
DTEND;TZID=America/Chicago:20270206T120000
DTSTAMP:20260423T212920
CREATED:20211224T185132Z
LAST-MODIFIED:20211224T185132Z
UID:21331-1801908000-1801915200@hgms.org
SUMMARY:Youth Section
DESCRIPTION:Participants must be minimum age 5 to attend meetings and be accompanied by a parent or guardian at all times when at the clubhouse. Particpants must be active HGMS Youth Members or included in an active HGMS Family membership. \nMasks REQUIRED for all participants and observers. \nSee HGMS Events for additional program details.
URL:https://hgms.org/event/youth-section-9-2022-02-05/2027-02-06/
LOCATION:HGMS Clubhouse\, 10805 Brooklet Dr.\, Houston\, TX\, 77099\, United States
CATEGORIES:Meetings
END:VEVENT
BEGIN:VEVENT
DTSTART;TZID=America/Chicago:20270206T100000
DTEND;TZID=America/Chicago:20270206T150000
DTSTAMP:20260423T212920
CREATED:20250319T145518Z
LAST-MODIFIED:20250319T145518Z
UID:23232-1801908000-1801926000@hgms.org
SUMMARY:Open Shop - Saturdays
DESCRIPTION:Shop available for HGMS Member Use Only – additional shop usage fees apply.
URL:https://hgms.org/event/open-shop-saturdays/2027-02-06/
LOCATION:HGMS Clubhouse\, 10805 Brooklet Dr.\, Houston\, TX\, 77099\, United States
CATEGORIES:Open Shop
END:VEVENT
BEGIN:VEVENT
DTSTART;TZID=America/Chicago:20270207T110000
DTEND;TZID=America/Chicago:20270207T160000
DTSTAMP:20260423T212920
CREATED:20250319T145402Z
LAST-MODIFIED:20250319T145402Z
UID:23156-1801998000-1802016000@hgms.org
SUMMARY:Open Shop - Sundays
DESCRIPTION:Shop available for HGMS Member Use Only – additional shop usage fees apply.
URL:https://hgms.org/event/open-shop-sundays/2027-02-07/
LOCATION:HGMS Clubhouse\, 10805 Brooklet Dr.\, Houston\, TX\, 77099\, United States
CATEGORIES:Open Shop
END:VEVENT
BEGIN:VEVENT
DTSTART;TZID=America/Chicago:20270210T100000
DTEND;TZID=America/Chicago:20270210T200000
DTSTAMP:20260423T212920
CREATED:20250319T145714Z
LAST-MODIFIED:20250319T150205Z
UID:22934-1802253600-1802289600@hgms.org
SUMMARY:Open Shop - Wednesday
DESCRIPTION:Shop available for HGMS Member Use Only – additional shop usage fees apply.
URL:https://hgms.org/event/open-shop-wednesday/2027-02-10/
LOCATION:HGMS Clubhouse\, 10805 Brooklet Dr.\, Houston\, TX\, 77099\, United States
CATEGORIES:Open Shop
END:VEVENT
BEGIN:VEVENT
DTSTART;TZID=America/Chicago:20270211T100000
DTEND;TZID=America/Chicago:20270211T150000
DTSTAMP:20260423T212920
CREATED:20250319T145607Z
LAST-MODIFIED:20250319T145607Z
UID:23372-1802340000-1802358000@hgms.org
SUMMARY:Open Shop - Thursday
DESCRIPTION:Shop available for HGMS Member Use Only – additional shop usage fees apply.
URL:https://hgms.org/event/open-shop-thursday/2027-02-11/
LOCATION:HGMS Clubhouse\, 10805 Brooklet Dr.\, Houston\, TX\, 77099\, United States
CATEGORIES:Open Shop
END:VEVENT
BEGIN:VEVENT
DTSTART;TZID=America/Chicago:20270213T100000
DTEND;TZID=America/Chicago:20270213T130000
DTSTAMP:20260423T212920
CREATED:20211224T192957Z
LAST-MODIFIED:20211224T192957Z
UID:26336-1802512800-1802523600@hgms.org
SUMMARY:Beading Section
DESCRIPTION:See the HGMS Events page for monthly topic and additional details.
URL:https://hgms.org/event/beading-section-2-2023-10-21/2027-02-13/
LOCATION:HGMS Clubhouse\, 10805 Brooklet Dr.\, Houston\, TX\, 77099\, United States
CATEGORIES:Meetings
END:VEVENT
BEGIN:VEVENT
DTSTART;TZID=America/Chicago:20270213T100000
DTEND;TZID=America/Chicago:20270213T150000
DTSTAMP:20260423T212920
CREATED:20250319T145518Z
LAST-MODIFIED:20250319T145518Z
UID:23233-1802512800-1802530800@hgms.org
SUMMARY:Open Shop - Saturdays
DESCRIPTION:Shop available for HGMS Member Use Only – additional shop usage fees apply.
URL:https://hgms.org/event/open-shop-saturdays/2027-02-13/
LOCATION:HGMS Clubhouse\, 10805 Brooklet Dr.\, Houston\, TX\, 77099\, United States
CATEGORIES:Open Shop
END:VEVENT
BEGIN:VEVENT
DTSTART;TZID=America/Chicago:20270214T110000
DTEND;TZID=America/Chicago:20270214T160000
DTSTAMP:20260423T212920
CREATED:20250319T145402Z
LAST-MODIFIED:20250319T145402Z
UID:23157-1802602800-1802620800@hgms.org
SUMMARY:Open Shop - Sundays
DESCRIPTION:Shop available for HGMS Member Use Only – additional shop usage fees apply.
URL:https://hgms.org/event/open-shop-sundays/2027-02-14/
LOCATION:HGMS Clubhouse\, 10805 Brooklet Dr.\, Houston\, TX\, 77099\, United States
CATEGORIES:Open Shop
END:VEVENT
BEGIN:VEVENT
DTSTART;TZID=America/Chicago:20270216T193000
DTEND;TZID=America/Chicago:20270216T210000
DTSTAMP:20260423T212920
CREATED:20211224T193622Z
LAST-MODIFIED:20211224T193622Z
UID:21367-1802806200-1802811600@hgms.org
SUMMARY:Paleo Section
DESCRIPTION:See the HGMS Events page for monthly topics and additional details.
URL:https://hgms.org/event/paleo-section/2027-02-16/
LOCATION:HGMS Clubhouse\, 10805 Brooklet Dr.\, Houston\, TX\, 77099\, United States
CATEGORIES:Meetings
END:VEVENT
BEGIN:VEVENT
DTSTART;TZID=America/Chicago:20270217T100000
DTEND;TZID=America/Chicago:20270217T200000
DTSTAMP:20260423T212920
CREATED:20250319T145714Z
LAST-MODIFIED:20250319T150206Z
UID:22935-1802858400-1802894400@hgms.org
SUMMARY:Open Shop - Wednesday
DESCRIPTION:Shop available for HGMS Member Use Only – additional shop usage fees apply.
URL:https://hgms.org/event/open-shop-wednesday/2027-02-17/
LOCATION:HGMS Clubhouse\, 10805 Brooklet Dr.\, Houston\, TX\, 77099\, United States
CATEGORIES:Open Shop
END:VEVENT
BEGIN:VEVENT
DTSTART;TZID=America/Chicago:20270218T100000
DTEND;TZID=America/Chicago:20270218T150000
DTSTAMP:20260423T212920
CREATED:20250319T145607Z
LAST-MODIFIED:20250319T145607Z
UID:23373-1802944800-1802962800@hgms.org
SUMMARY:Open Shop - Thursday
DESCRIPTION:Shop available for HGMS Member Use Only – additional shop usage fees apply.
URL:https://hgms.org/event/open-shop-thursday/2027-02-18/
LOCATION:HGMS Clubhouse\, 10805 Brooklet Dr.\, Houston\, TX\, 77099\, United States
CATEGORIES:Open Shop
END:VEVENT
BEGIN:VEVENT
DTSTART;TZID=America/Chicago:20270220T100000
DTEND;TZID=America/Chicago:20270220T150000
DTSTAMP:20260423T212920
CREATED:20250319T145518Z
LAST-MODIFIED:20250319T145518Z
UID:23236-1803117600-1803135600@hgms.org
SUMMARY:Open Shop - Saturdays
DESCRIPTION:Shop available for HGMS Member Use Only – additional shop usage fees apply.
URL:https://hgms.org/event/open-shop-saturdays/2027-02-20/
LOCATION:HGMS Clubhouse\, 10805 Brooklet Dr.\, Houston\, TX\, 77099\, United States
CATEGORIES:Open Shop
END:VEVENT
BEGIN:VEVENT
DTSTART;TZID=America/Chicago:20270221T110000
DTEND;TZID=America/Chicago:20270221T160000
DTSTAMP:20260423T212920
CREATED:20250319T145402Z
LAST-MODIFIED:20250319T145402Z
UID:23161-1803207600-1803225600@hgms.org
SUMMARY:Open Shop - Sundays
DESCRIPTION:Shop available for HGMS Member Use Only – additional shop usage fees apply.
URL:https://hgms.org/event/open-shop-sundays/2027-02-21/
LOCATION:HGMS Clubhouse\, 10805 Brooklet Dr.\, Houston\, TX\, 77099\, United States
CATEGORIES:Open Shop
END:VEVENT
BEGIN:VEVENT
DTSTART;TZID=America/Chicago:20270224T100000
DTEND;TZID=America/Chicago:20270224T200000
DTSTAMP:20260423T212920
CREATED:20250319T145714Z
LAST-MODIFIED:20250319T150206Z
UID:22936-1803463200-1803499200@hgms.org
SUMMARY:Open Shop - Wednesday
DESCRIPTION:Shop available for HGMS Member Use Only – additional shop usage fees apply.
URL:https://hgms.org/event/open-shop-wednesday/2027-02-24/
LOCATION:HGMS Clubhouse\, 10805 Brooklet Dr.\, Houston\, TX\, 77099\, United States
CATEGORIES:Open Shop
END:VEVENT
BEGIN:VEVENT
DTSTART;TZID=America/Chicago:20270225T100000
DTEND;TZID=America/Chicago:20270225T150000
DTSTAMP:20260423T212920
CREATED:20250319T145607Z
LAST-MODIFIED:20250319T145607Z
UID:23374-1803549600-1803567600@hgms.org
SUMMARY:Open Shop - Thursday
DESCRIPTION:Shop available for HGMS Member Use Only – additional shop usage fees apply.
URL:https://hgms.org/event/open-shop-thursday/2027-02-25/
LOCATION:HGMS Clubhouse\, 10805 Brooklet Dr.\, Houston\, TX\, 77099\, United States
CATEGORIES:Open Shop
END:VEVENT
BEGIN:VEVENT
DTSTART;TZID=America/Chicago:20270227T100000
DTEND;TZID=America/Chicago:20270227T150000
DTSTAMP:20260423T212920
CREATED:20250319T145518Z
LAST-MODIFIED:20250319T145518Z
UID:23238-1803722400-1803740400@hgms.org
SUMMARY:Open Shop - Saturdays
DESCRIPTION:Shop available for HGMS Member Use Only – additional shop usage fees apply.
URL:https://hgms.org/event/open-shop-saturdays/2027-02-27/
LOCATION:HGMS Clubhouse\, 10805 Brooklet Dr.\, Houston\, TX\, 77099\, United States
CATEGORIES:Open Shop
END:VEVENT
BEGIN:VEVENT
DTSTART;TZID=America/Chicago:20270228T110000
DTEND;TZID=America/Chicago:20270228T160000
DTSTAMP:20260423T212920
CREATED:20250319T145402Z
LAST-MODIFIED:20250319T145402Z
UID:23163-1803812400-1803830400@hgms.org
SUMMARY:Open Shop - Sundays
DESCRIPTION:Shop available for HGMS Member Use Only – additional shop usage fees apply.
URL:https://hgms.org/event/open-shop-sundays/2027-02-28/
LOCATION:HGMS Clubhouse\, 10805 Brooklet Dr.\, Houston\, TX\, 77099\, United States
CATEGORIES:Open Shop
END:VEVENT
BEGIN:VEVENT
DTSTART;TZID=America/Chicago:20270303T100000
DTEND;TZID=America/Chicago:20270303T200000
DTSTAMP:20260423T212920
CREATED:20250319T145714Z
LAST-MODIFIED:20250319T150206Z
UID:22937-1804068000-1804104000@hgms.org
SUMMARY:Open Shop - Wednesday
DESCRIPTION:Shop available for HGMS Member Use Only – additional shop usage fees apply.
URL:https://hgms.org/event/open-shop-wednesday/2027-03-03/
LOCATION:HGMS Clubhouse\, 10805 Brooklet Dr.\, Houston\, TX\, 77099\, United States
CATEGORIES:Open Shop
END:VEVENT
BEGIN:VEVENT
DTSTART;TZID=America/Chicago:20270303T120000
DTEND;TZID=America/Chicago:20270303T150000
DTSTAMP:20260423T212920
CREATED:20211224T193453Z
LAST-MODIFIED:20250923T020426Z
UID:23844-1804075200-1804086000@hgms.org
SUMMARY:Day Light Section
DESCRIPTION:See the HGMS Events page for monthly topics and additional details.
URL:https://hgms.org/event/day-light-section/2027-03-03/
LOCATION:HGMS Clubhouse\, 10805 Brooklet Dr.\, Houston\, TX\, 77099\, United States
CATEGORIES:Meetings
END:VEVENT
BEGIN:VEVENT
DTSTART;TZID=America/Chicago:20270304T100000
DTEND;TZID=America/Chicago:20270304T150000
DTSTAMP:20260423T212920
CREATED:20250319T145607Z
LAST-MODIFIED:20250319T145607Z
UID:23375-1804154400-1804172400@hgms.org
SUMMARY:Open Shop - Thursday
DESCRIPTION:Shop available for HGMS Member Use Only – additional shop usage fees apply.
URL:https://hgms.org/event/open-shop-thursday/2027-03-04/
LOCATION:HGMS Clubhouse\, 10805 Brooklet Dr.\, Houston\, TX\, 77099\, United States
CATEGORIES:Open Shop
END:VEVENT
BEGIN:VEVENT
DTSTART;TZID=America/Chicago:20270306T100000
DTEND;TZID=America/Chicago:20270306T120000
DTSTAMP:20260423T212920
CREATED:20211224T185132Z
LAST-MODIFIED:20211224T185132Z
UID:21481-1804327200-1804334400@hgms.org
SUMMARY:Youth Section
DESCRIPTION:Participants must be minimum age 5 to attend meetings and be accompanied by a parent or guardian at all times when at the clubhouse. Particpants must be active HGMS Youth Members or included in an active HGMS Family membership. \nMasks REQUIRED for all participants and observers. \nSee HGMS Events for additional program details.
URL:https://hgms.org/event/youth-section-9-2022-02-05/2027-03-06/
LOCATION:HGMS Clubhouse\, 10805 Brooklet Dr.\, Houston\, TX\, 77099\, United States
CATEGORIES:Meetings
END:VEVENT
BEGIN:VEVENT
DTSTART;TZID=America/Chicago:20270306T100000
DTEND;TZID=America/Chicago:20270306T150000
DTSTAMP:20260423T212920
CREATED:20250319T145518Z
LAST-MODIFIED:20250319T145518Z
UID:23239-1804327200-1804345200@hgms.org
SUMMARY:Open Shop - Saturdays
DESCRIPTION:Shop available for HGMS Member Use Only – additional shop usage fees apply.
URL:https://hgms.org/event/open-shop-saturdays/2027-03-06/
LOCATION:HGMS Clubhouse\, 10805 Brooklet Dr.\, Houston\, TX\, 77099\, United States
CATEGORIES:Open Shop
END:VEVENT
BEGIN:VEVENT
DTSTART;TZID=America/Chicago:20270307T110000
DTEND;TZID=America/Chicago:20270307T160000
DTSTAMP:20260423T212920
CREATED:20250319T145402Z
LAST-MODIFIED:20250319T145402Z
UID:23165-1804417200-1804435200@hgms.org
SUMMARY:Open Shop - Sundays
DESCRIPTION:Shop available for HGMS Member Use Only – additional shop usage fees apply.
URL:https://hgms.org/event/open-shop-sundays/2027-03-07/
LOCATION:HGMS Clubhouse\, 10805 Brooklet Dr.\, Houston\, TX\, 77099\, United States
CATEGORIES:Open Shop
END:VEVENT
BEGIN:VEVENT
DTSTART;TZID=America/Chicago:20270310T100000
DTEND;TZID=America/Chicago:20270310T200000
DTSTAMP:20260423T212920
CREATED:20250319T145714Z
LAST-MODIFIED:20250319T150206Z
UID:22938-1804672800-1804708800@hgms.org
SUMMARY:Open Shop - Wednesday
DESCRIPTION:Shop available for HGMS Member Use Only – additional shop usage fees apply.
URL:https://hgms.org/event/open-shop-wednesday/2027-03-10/
LOCATION:HGMS Clubhouse\, 10805 Brooklet Dr.\, Houston\, TX\, 77099\, United States
CATEGORIES:Open Shop
END:VEVENT
BEGIN:VEVENT
DTSTART;TZID=America/Chicago:20270311T100000
DTEND;TZID=America/Chicago:20270311T150000
DTSTAMP:20260423T212920
CREATED:20250319T145607Z
LAST-MODIFIED:20250319T145607Z
UID:23376-1804759200-1804777200@hgms.org
SUMMARY:Open Shop - Thursday
DESCRIPTION:Shop available for HGMS Member Use Only – additional shop usage fees apply.
URL:https://hgms.org/event/open-shop-thursday/2027-03-11/
LOCATION:HGMS Clubhouse\, 10805 Brooklet Dr.\, Houston\, TX\, 77099\, United States
CATEGORIES:Open Shop
END:VEVENT
BEGIN:VEVENT
DTSTART;TZID=America/Chicago:20270313T100000
DTEND;TZID=America/Chicago:20270313T130000
DTSTAMP:20260423T212920
CREATED:20211224T192957Z
LAST-MODIFIED:20211224T192957Z
UID:26337-1804932000-1804942800@hgms.org
SUMMARY:Beading Section
DESCRIPTION:See the HGMS Events page for monthly topic and additional details.
URL:https://hgms.org/event/beading-section-2-2023-10-21/2027-03-13/
LOCATION:HGMS Clubhouse\, 10805 Brooklet Dr.\, Houston\, TX\, 77099\, United States
CATEGORIES:Meetings
END:VEVENT
END:VCALENDAR