BEGIN:VCALENDAR
VERSION:2.0
PRODID:-//HGMS - Houston Gem &amp; Mineral Society - ECPv6.15.20//NONSGML v1.0//EN
CALSCALE:GREGORIAN
METHOD:PUBLISH
X-WR-CALNAME:HGMS - Houston Gem &amp; Mineral Society
X-ORIGINAL-URL:https://hgms.org
X-WR-CALDESC:Events for HGMS - Houston Gem &amp; Mineral Society
REFRESH-INTERVAL;VALUE=DURATION:PT1H
X-Robots-Tag:noindex
X-PUBLISHED-TTL:PT1H
BEGIN:VTIMEZONE
TZID:America/Chicago
BEGIN:DAYLIGHT
TZOFFSETFROM:-0600
TZOFFSETTO:-0500
TZNAME:CDT
DTSTART:20240310T080000
END:DAYLIGHT
BEGIN:STANDARD
TZOFFSETFROM:-0500
TZOFFSETTO:-0600
TZNAME:CST
DTSTART:20241103T070000
END:STANDARD
BEGIN:DAYLIGHT
TZOFFSETFROM:-0600
TZOFFSETTO:-0500
TZNAME:CDT
DTSTART:20250309T080000
END:DAYLIGHT
BEGIN:STANDARD
TZOFFSETFROM:-0500
TZOFFSETTO:-0600
TZNAME:CST
DTSTART:20251102T070000
END:STANDARD
BEGIN:DAYLIGHT
TZOFFSETFROM:-0600
TZOFFSETTO:-0500
TZNAME:CDT
DTSTART:20260308T080000
END:DAYLIGHT
BEGIN:STANDARD
TZOFFSETFROM:-0500
TZOFFSETTO:-0600
TZNAME:CST
DTSTART:20261101T070000
END:STANDARD
END:VTIMEZONE
BEGIN:VEVENT
DTSTART;TZID=America/Chicago:20251026T110000
DTEND;TZID=America/Chicago:20251026T160000
DTSTAMP:20260423T014547
CREATED:20250319T145402Z
LAST-MODIFIED:20250319T145402Z
UID:22992-1761476400-1761494400@hgms.org
SUMMARY:Open Shop - Sundays
DESCRIPTION:Shop available for HGMS Member Use Only – additional shop usage fees apply.
URL:https://hgms.org/event/open-shop-sundays/2025-10-26/
LOCATION:HGMS Clubhouse\, 10805 Brooklet Dr.\, Houston\, TX\, 77099\, United States
CATEGORIES:Open Shop
END:VEVENT
BEGIN:VEVENT
DTSTART;TZID=America/Chicago:20251025T100000
DTEND;TZID=America/Chicago:20251025T150000
DTSTAMP:20260423T014547
CREATED:20250319T145518Z
LAST-MODIFIED:20250319T145518Z
UID:23052-1761386400-1761404400@hgms.org
SUMMARY:Open Shop - Saturdays
DESCRIPTION:Shop available for HGMS Member Use Only – additional shop usage fees apply.
URL:https://hgms.org/event/open-shop-saturdays/2025-10-25/
LOCATION:HGMS Clubhouse\, 10805 Brooklet Dr.\, Houston\, TX\, 77099\, United States
CATEGORIES:Open Shop
END:VEVENT
BEGIN:VEVENT
DTSTART;TZID=America/Chicago:20251023T100000
DTEND;TZID=America/Chicago:20251023T150000
DTSTAMP:20260423T014547
CREATED:20250319T145607Z
LAST-MODIFIED:20250319T145607Z
UID:23281-1761213600-1761231600@hgms.org
SUMMARY:Open Shop - Thursday
DESCRIPTION:Shop available for HGMS Member Use Only – additional shop usage fees apply.
URL:https://hgms.org/event/open-shop-thursday/2025-10-23/
LOCATION:HGMS Clubhouse\, 10805 Brooklet Dr.\, Houston\, TX\, 77099\, United States
CATEGORIES:Open Shop
END:VEVENT
BEGIN:VEVENT
DTSTART;TZID=America/Chicago:20251022T100000
DTEND;TZID=America/Chicago:20251022T200000
DTSTAMP:20260423T014547
CREATED:20250319T145714Z
LAST-MODIFIED:20250319T150147Z
UID:22866-1761127200-1761163200@hgms.org
SUMMARY:Open Shop - Wednesday
DESCRIPTION:Shop available for HGMS Member Use Only – additional shop usage fees apply.
URL:https://hgms.org/event/open-shop-wednesday/2025-10-22/
LOCATION:HGMS Clubhouse\, 10805 Brooklet Dr.\, Houston\, TX\, 77099\, United States
CATEGORIES:Open Shop
END:VEVENT
BEGIN:VEVENT
DTSTART;TZID=America/Chicago:20251021T193000
DTEND;TZID=America/Chicago:20251021T210000
DTSTAMP:20260423T014547
CREATED:20211224T193622Z
LAST-MODIFIED:20211224T193622Z
UID:16689-1761075000-1761080400@hgms.org
SUMMARY:Paleo Section
DESCRIPTION:See the HGMS Events page for monthly topics and additional details.
URL:https://hgms.org/event/paleo-section/2025-10-21/
LOCATION:HGMS Clubhouse\, 10805 Brooklet Dr.\, Houston\, TX\, 77099\, United States
CATEGORIES:Meetings
END:VEVENT
BEGIN:VEVENT
DTSTART;TZID=America/Chicago:20251020T154500
DTEND;TZID=America/Chicago:20251020T191500
DTSTAMP:20260423T014547
CREATED:20250908T172632Z
LAST-MODIFIED:20250908T172632Z
UID:24421-1760975100-1760987700@hgms.org
SUMMARY:Basic Wire-wrapped Pendant Class (Oct 20\, 2025)
DESCRIPTION:Instructor: Susan Burch (25 years of Wire-Wrapping)\nLocation: HGMS Clubhouse – Large Meeting Room\nCost: $52.00 + $5.00\, if tool rental is needed\nDates: Saturday\, October 11th from 10:00 AM to 2:30 PM  or\nMonday\, October 20th from 3:45 PM to 7:15 PM \nTOOLS AND SUPPLIES TO BRING: (or rent tools @ $5.00/student) \n\nChain-nose pliers\nFlat-nose pliers\nRound-nose pliers\nFlush wire cutter\n6” or 12” ruler\nFile\nPolishing cloth\nPen and paper (for notes and designing)\n*Magnifying lenses (Suggested if you have difficulty seeing small things)\n\nMATERIALS PROVIDED: (Included in cost) \n\nSmall polishing cloth (provided)\n18 X 25 mm stone (provided\, or you can bring your own)\n22 ga. square copper wire. (provided)\n20 ga. 1/2 round copper wire. (provided)\n1/2” masking tape (provided)\n\nNOTE: *Wires and stones are small\, if finger dexterity or eyesight cause you difficulty\, please take that into\naccount when booking your spot. Tool Rental\, if needed is $5.00/student.
URL:https://hgms.org/event/basic-wire-wrapped-pendant-class-oct-20-2025/
LOCATION:HGMS Clubhouse\, 10805 Brooklet Dr.\, Houston\, TX\, 77099\, United States
CATEGORIES:Classes
ATTACH;FMTTYPE=image/jpeg:https://hgms.org/wp-content/uploads/2025/07/beg-wire-wrap-susan-burch.jpg
ORGANIZER;CN="HGMS Education":MAILTO:classes@hgms.org
END:VEVENT
BEGIN:VEVENT
DTSTART;TZID=America/Chicago:20251019T120000
DTEND;TZID=America/Chicago:20251019T170000
DTSTAMP:20260423T014547
CREATED:20250921T214424Z
LAST-MODIFIED:20250921T214424Z
UID:24461-1760875200-1760893200@hgms.org
SUMMARY:Wide Band Textured Rings Class (Oct 19\, 2025)
DESCRIPTION:Learn to make and texture a 6mm wide band ring from scratch. The class will cover creating rings and the fundamentals of finishing a piece (the key to making it look professional). If you’ve taken the Textured Stacking Rings class\, you’ll see how different working with a wide band from sheet is. Each student will create 1 silver ring. \nThis class is appropriate for the beginning silversmith or for expanding one’s knowledge of basic ring making. No prior metalsmithing knowledge is required. \n\n5 hour class (12:00 – 5:00pm)\nMax 6 students\, min 4\nCost – $130 member; $162 nonmember\nStudents will learn to\n\nCalculate length needed for ring size\nForm & solder ring band\nPolishing & finishing\nTexturing using various tools\n\n\nMaterials provided by instructor\nClass to be held in clubhouse Jewelry Studio. Will overlap open studio hours but will extend into after hours.\nStudents must bring a mask (N95 or KN95)
URL:https://hgms.org/event/wide-band-textured-rings-class-oct-19-2025/
LOCATION:HGMS Clubhouse\, 10805 Brooklet Dr.\, Houston\, TX\, 77099\, United States
CATEGORIES:Classes
ATTACH;FMTTYPE=image/jpeg:https://hgms.org/wp-content/uploads/2024/11/wide-band-textured-rings-class-web.jpg
ORGANIZER;CN="HGMS Education":MAILTO:classes@hgms.org
END:VEVENT
BEGIN:VEVENT
DTSTART;TZID=America/Chicago:20251019T110000
DTEND;TZID=America/Chicago:20251019T160000
DTSTAMP:20260423T014547
CREATED:20250319T145402Z
LAST-MODIFIED:20250319T145402Z
UID:22991-1760871600-1760889600@hgms.org
SUMMARY:Open Shop - Sundays
DESCRIPTION:Shop available for HGMS Member Use Only – additional shop usage fees apply.
URL:https://hgms.org/event/open-shop-sundays/2025-10-19/
LOCATION:HGMS Clubhouse\, 10805 Brooklet Dr.\, Houston\, TX\, 77099\, United States
CATEGORIES:Open Shop
END:VEVENT
BEGIN:VEVENT
DTSTART;TZID=America/Chicago:20251018T100000
DTEND;TZID=America/Chicago:20251018T150000
DTSTAMP:20260423T014547
CREATED:20250319T145518Z
LAST-MODIFIED:20250319T145518Z
UID:23050-1760781600-1760799600@hgms.org
SUMMARY:Open Shop - Saturdays
DESCRIPTION:Shop available for HGMS Member Use Only – additional shop usage fees apply.
URL:https://hgms.org/event/open-shop-saturdays/2025-10-18/
LOCATION:HGMS Clubhouse\, 10805 Brooklet Dr.\, Houston\, TX\, 77099\, United States
CATEGORIES:Open Shop
END:VEVENT
BEGIN:VEVENT
DTSTART;TZID=America/Chicago:20251016T100000
DTEND;TZID=America/Chicago:20251016T150000
DTSTAMP:20260423T014547
CREATED:20250319T145607Z
LAST-MODIFIED:20250319T145607Z
UID:23279-1760608800-1760626800@hgms.org
SUMMARY:Open Shop - Thursday
DESCRIPTION:Shop available for HGMS Member Use Only – additional shop usage fees apply.
URL:https://hgms.org/event/open-shop-thursday/2025-10-16/
LOCATION:HGMS Clubhouse\, 10805 Brooklet Dr.\, Houston\, TX\, 77099\, United States
CATEGORIES:Open Shop
END:VEVENT
BEGIN:VEVENT
DTSTART;TZID=America/Chicago:20251015T100000
DTEND;TZID=America/Chicago:20251015T200000
DTSTAMP:20260423T014547
CREATED:20250319T145714Z
LAST-MODIFIED:20250319T150146Z
UID:22865-1760522400-1760558400@hgms.org
SUMMARY:Open Shop - Wednesday
DESCRIPTION:Shop available for HGMS Member Use Only – additional shop usage fees apply.
URL:https://hgms.org/event/open-shop-wednesday/2025-10-15/
LOCATION:HGMS Clubhouse\, 10805 Brooklet Dr.\, Houston\, TX\, 77099\, United States
CATEGORIES:Open Shop
END:VEVENT
BEGIN:VEVENT
DTSTART;TZID=America/Chicago:20251012T110000
DTEND;TZID=America/Chicago:20251012T160000
DTSTAMP:20260423T014547
CREATED:20250319T145402Z
LAST-MODIFIED:20250319T145402Z
UID:22990-1760266800-1760284800@hgms.org
SUMMARY:Open Shop - Sundays
DESCRIPTION:Shop available for HGMS Member Use Only – additional shop usage fees apply.
URL:https://hgms.org/event/open-shop-sundays/2025-10-12/
LOCATION:HGMS Clubhouse\, 10805 Brooklet Dr.\, Houston\, TX\, 77099\, United States
CATEGORIES:Open Shop
END:VEVENT
BEGIN:VEVENT
DTSTART;TZID=America/Chicago:20251011T100000
DTEND;TZID=America/Chicago:20251011T150000
DTSTAMP:20260423T014547
CREATED:20250319T145518Z
LAST-MODIFIED:20250319T145518Z
UID:23040-1760176800-1760194800@hgms.org
SUMMARY:Open Shop - Saturdays
DESCRIPTION:Shop available for HGMS Member Use Only – additional shop usage fees apply.
URL:https://hgms.org/event/open-shop-saturdays/2025-10-11/
LOCATION:HGMS Clubhouse\, 10805 Brooklet Dr.\, Houston\, TX\, 77099\, United States
CATEGORIES:Open Shop
END:VEVENT
BEGIN:VEVENT
DTSTART;TZID=America/Chicago:20251011T100000
DTEND;TZID=America/Chicago:20251011T143000
DTSTAMP:20260423T014547
CREATED:20250908T170602Z
LAST-MODIFIED:20250908T171326Z
UID:24417-1760176800-1760193000@hgms.org
SUMMARY:Basic Wire-wrapped Pendant Class (Oct 11\, 2025)
DESCRIPTION:Instructor: Susan Burch (25 years of Wire-Wrapping)\nLocation: HGMS Clubhouse – Large Meeting Room\nCost: $52.00 + $5.00\, if tool rental is needed\nDates: Saturday\, October 11th from 10:00 AM to 2:30 PM  or\nMonday\, October 20th from 3:45 PM to 7:15 PM \nTOOLS AND SUPPLIES TO BRING: (or rent tools @ $5.00/student) \n\nChain-nose pliers\nFlat-nose pliers\nRound-nose pliers\nFlush wire cutter\n6” or 12” ruler\nFile\nPolishing cloth\nPen and paper (for notes and designing)\n*Magnifying lenses (Suggested if you have difficulty seeing small things)\n\nMATERIALS PROVIDED: (Included in cost) \n\nSmall polishing cloth (provided)\n18 X 25 mm stone (provided\, or you can bring your own)\n22 ga. square copper wire. (provided)\n20 ga. 1/2 round copper wire. (provided)\n1/2” masking tape (provided)\n\nNOTE: *Wires and stones are small\, if finger dexterity or eyesight cause you difficulty\, please take that into\naccount when booking your spot. Tool Rental\, if needed is $5.00/student.
URL:https://hgms.org/event/basic-wire-wrapped-pendant-class-oct-11-2025/
LOCATION:HGMS Clubhouse\, 10805 Brooklet Dr.\, Houston\, TX\, 77099\, United States
CATEGORIES:Classes
ATTACH;FMTTYPE=image/jpeg:https://hgms.org/wp-content/uploads/2025/07/beg-wire-wrap-susan-burch.jpg
ORGANIZER;CN="HGMS Education":MAILTO:classes@hgms.org
END:VEVENT
BEGIN:VEVENT
DTSTART;TZID=America/Chicago:20251009T100000
DTEND;TZID=America/Chicago:20251009T150000
DTSTAMP:20260423T014547
CREATED:20250319T145607Z
LAST-MODIFIED:20250319T145607Z
UID:23277-1760004000-1760022000@hgms.org
SUMMARY:Open Shop - Thursday
DESCRIPTION:Shop available for HGMS Member Use Only – additional shop usage fees apply.
URL:https://hgms.org/event/open-shop-thursday/2025-10-09/
LOCATION:HGMS Clubhouse\, 10805 Brooklet Dr.\, Houston\, TX\, 77099\, United States
CATEGORIES:Open Shop
END:VEVENT
BEGIN:VEVENT
DTSTART;TZID=America/Chicago:20251008T100000
DTEND;TZID=America/Chicago:20251008T200000
DTSTAMP:20260423T014547
CREATED:20250319T145714Z
LAST-MODIFIED:20250319T150145Z
UID:22864-1759917600-1759953600@hgms.org
SUMMARY:Open Shop - Wednesday
DESCRIPTION:Shop available for HGMS Member Use Only – additional shop usage fees apply.
URL:https://hgms.org/event/open-shop-wednesday/2025-10-08/
LOCATION:HGMS Clubhouse\, 10805 Brooklet Dr.\, Houston\, TX\, 77099\, United States
CATEGORIES:Open Shop
END:VEVENT
BEGIN:VEVENT
DTSTART;TZID=America/Chicago:20251005T110000
DTEND;TZID=America/Chicago:20251005T160000
DTSTAMP:20260423T014547
CREATED:20250319T145402Z
LAST-MODIFIED:20250319T145402Z
UID:22989-1759662000-1759680000@hgms.org
SUMMARY:Open Shop - Sundays
DESCRIPTION:Shop available for HGMS Member Use Only – additional shop usage fees apply.
URL:https://hgms.org/event/open-shop-sundays/2025-10-05/
LOCATION:HGMS Clubhouse\, 10805 Brooklet Dr.\, Houston\, TX\, 77099\, United States
CATEGORIES:Open Shop
END:VEVENT
BEGIN:VEVENT
DTSTART;TZID=America/Chicago:20251004T100000
DTEND;TZID=America/Chicago:20251004T150000
DTSTAMP:20260423T014547
CREATED:20250319T145518Z
LAST-MODIFIED:20250319T145518Z
UID:23038-1759572000-1759590000@hgms.org
SUMMARY:Open Shop - Saturdays
DESCRIPTION:Shop available for HGMS Member Use Only – additional shop usage fees apply.
URL:https://hgms.org/event/open-shop-saturdays/2025-10-04/
LOCATION:HGMS Clubhouse\, 10805 Brooklet Dr.\, Houston\, TX\, 77099\, United States
CATEGORIES:Open Shop
END:VEVENT
BEGIN:VEVENT
DTSTART;TZID=America/Chicago:20251004T100000
DTEND;TZID=America/Chicago:20251004T120000
DTSTAMP:20260423T014547
CREATED:20211224T185132Z
LAST-MODIFIED:20211224T185132Z
UID:16332-1759572000-1759579200@hgms.org
SUMMARY:Youth Section
DESCRIPTION:Participants must be minimum age 5 to attend meetings and be accompanied by a parent or guardian at all times when at the clubhouse. Particpants must be active HGMS Youth Members or included in an active HGMS Family membership. \nMasks REQUIRED for all participants and observers. \nSee HGMS Events for additional program details.
URL:https://hgms.org/event/youth-section-9-2022-02-05/2025-10-04/
LOCATION:HGMS Clubhouse\, 10805 Brooklet Dr.\, Houston\, TX\, 77099\, United States
CATEGORIES:Meetings
END:VEVENT
BEGIN:VEVENT
DTSTART;TZID=America/Chicago:20251002T100000
DTEND;TZID=America/Chicago:20251002T150000
DTSTAMP:20260423T014547
CREATED:20250319T145607Z
LAST-MODIFIED:20250319T145607Z
UID:23276-1759399200-1759417200@hgms.org
SUMMARY:Open Shop - Thursday
DESCRIPTION:Shop available for HGMS Member Use Only – additional shop usage fees apply.
URL:https://hgms.org/event/open-shop-thursday/2025-10-02/
LOCATION:HGMS Clubhouse\, 10805 Brooklet Dr.\, Houston\, TX\, 77099\, United States
CATEGORIES:Open Shop
END:VEVENT
BEGIN:VEVENT
DTSTART;TZID=America/Chicago:20251001T120000
DTEND;TZID=America/Chicago:20251001T150000
DTSTAMP:20260423T014547
CREATED:20211224T193453Z
LAST-MODIFIED:20250923T020420Z
UID:23827-1759320000-1759330800@hgms.org
SUMMARY:Day Light Section
DESCRIPTION:See the HGMS Events page for monthly topics and additional details.
URL:https://hgms.org/event/day-light-section/2025-10-01/
LOCATION:HGMS Clubhouse\, 10805 Brooklet Dr.\, Houston\, TX\, 77099\, United States
CATEGORIES:Meetings
END:VEVENT
BEGIN:VEVENT
DTSTART;TZID=America/Chicago:20251001T100000
DTEND;TZID=America/Chicago:20251001T200000
DTSTAMP:20260423T014547
CREATED:20250319T145714Z
LAST-MODIFIED:20250319T150145Z
UID:22863-1759312800-1759348800@hgms.org
SUMMARY:Open Shop - Wednesday
DESCRIPTION:Shop available for HGMS Member Use Only – additional shop usage fees apply.
URL:https://hgms.org/event/open-shop-wednesday/2025-10-01/
LOCATION:HGMS Clubhouse\, 10805 Brooklet Dr.\, Houston\, TX\, 77099\, United States
CATEGORIES:Open Shop
END:VEVENT
BEGIN:VEVENT
DTSTART;TZID=America/Chicago:20250928T110000
DTEND;TZID=America/Chicago:20250928T160000
DTSTAMP:20260423T014547
CREATED:20250319T145402Z
LAST-MODIFIED:20250319T145402Z
UID:22988-1759057200-1759075200@hgms.org
SUMMARY:Open Shop - Sundays
DESCRIPTION:Shop available for HGMS Member Use Only – additional shop usage fees apply.
URL:https://hgms.org/event/open-shop-sundays/2025-09-28/
LOCATION:HGMS Clubhouse\, 10805 Brooklet Dr.\, Houston\, TX\, 77099\, United States
CATEGORIES:Open Shop
END:VEVENT
BEGIN:VEVENT
DTSTART;TZID=America/Chicago:20250927T100000
DTEND;TZID=America/Chicago:20250927T150000
DTSTAMP:20260423T014547
CREATED:20250319T145518Z
LAST-MODIFIED:20250319T145518Z
UID:23035-1758967200-1758985200@hgms.org
SUMMARY:Open Shop - Saturdays
DESCRIPTION:Shop available for HGMS Member Use Only – additional shop usage fees apply.
URL:https://hgms.org/event/open-shop-saturdays/2025-09-27/
LOCATION:HGMS Clubhouse\, 10805 Brooklet Dr.\, Houston\, TX\, 77099\, United States
CATEGORIES:Open Shop
END:VEVENT
BEGIN:VEVENT
DTSTART;TZID=America/Chicago:20250925T100000
DTEND;TZID=America/Chicago:20250925T150000
DTSTAMP:20260423T014547
CREATED:20250319T145607Z
LAST-MODIFIED:20250319T145607Z
UID:23275-1758794400-1758812400@hgms.org
SUMMARY:Open Shop - Thursday
DESCRIPTION:Shop available for HGMS Member Use Only – additional shop usage fees apply.
URL:https://hgms.org/event/open-shop-thursday/2025-09-25/
LOCATION:HGMS Clubhouse\, 10805 Brooklet Dr.\, Houston\, TX\, 77099\, United States
CATEGORIES:Open Shop
END:VEVENT
BEGIN:VEVENT
DTSTART;TZID=America/Chicago:20250924T100000
DTEND;TZID=America/Chicago:20250924T200000
DTSTAMP:20260423T014547
CREATED:20250319T145714Z
LAST-MODIFIED:20250319T150145Z
UID:22862-1758708000-1758744000@hgms.org
SUMMARY:Open Shop - Wednesday
DESCRIPTION:Shop available for HGMS Member Use Only – additional shop usage fees apply.
URL:https://hgms.org/event/open-shop-wednesday/2025-09-24/
LOCATION:HGMS Clubhouse\, 10805 Brooklet Dr.\, Houston\, TX\, 77099\, United States
CATEGORIES:Open Shop
END:VEVENT
BEGIN:VEVENT
DTSTART;TZID=America/Chicago:20250921T110000
DTEND;TZID=America/Chicago:20250921T160000
DTSTAMP:20260423T014547
CREATED:20250319T145402Z
LAST-MODIFIED:20250319T145402Z
UID:22987-1758452400-1758470400@hgms.org
SUMMARY:Open Shop - Sundays
DESCRIPTION:Shop available for HGMS Member Use Only – additional shop usage fees apply.
URL:https://hgms.org/event/open-shop-sundays/2025-09-21/
LOCATION:HGMS Clubhouse\, 10805 Brooklet Dr.\, Houston\, TX\, 77099\, United States
CATEGORIES:Open Shop
END:VEVENT
BEGIN:VEVENT
DTSTART;TZID=America/Chicago:20250920T100000
DTEND;TZID=America/Chicago:20250920T150000
DTSTAMP:20260423T014547
CREATED:20250319T145518Z
LAST-MODIFIED:20250319T145518Z
UID:23034-1758362400-1758380400@hgms.org
SUMMARY:Open Shop - Saturdays
DESCRIPTION:Shop available for HGMS Member Use Only – additional shop usage fees apply.
URL:https://hgms.org/event/open-shop-saturdays/2025-09-20/
LOCATION:HGMS Clubhouse\, 10805 Brooklet Dr.\, Houston\, TX\, 77099\, United States
CATEGORIES:Open Shop
END:VEVENT
BEGIN:VEVENT
DTSTART;TZID=America/Chicago:20250918T100000
DTEND;TZID=America/Chicago:20250918T150000
DTSTAMP:20260423T014547
CREATED:20250319T145607Z
LAST-MODIFIED:20250319T145607Z
UID:23273-1758189600-1758207600@hgms.org
SUMMARY:Open Shop - Thursday
DESCRIPTION:Shop available for HGMS Member Use Only – additional shop usage fees apply.
URL:https://hgms.org/event/open-shop-thursday/2025-09-18/
LOCATION:HGMS Clubhouse\, 10805 Brooklet Dr.\, Houston\, TX\, 77099\, United States
CATEGORIES:Open Shop
END:VEVENT
BEGIN:VEVENT
DTSTART;TZID=America/Chicago:20250917T100000
DTEND;TZID=America/Chicago:20250917T200000
DTSTAMP:20260423T014547
CREATED:20250319T145714Z
LAST-MODIFIED:20250319T150145Z
UID:22861-1758103200-1758139200@hgms.org
SUMMARY:Open Shop - Wednesday
DESCRIPTION:Shop available for HGMS Member Use Only – additional shop usage fees apply.
URL:https://hgms.org/event/open-shop-wednesday/2025-09-17/
LOCATION:HGMS Clubhouse\, 10805 Brooklet Dr.\, Houston\, TX\, 77099\, United States
CATEGORIES:Open Shop
END:VEVENT
END:VCALENDAR