BEGIN:VCALENDAR
VERSION:2.0
PRODID:-//HGMS - Houston Gem &amp; Mineral Society - ECPv6.15.18//NONSGML v1.0//EN
CALSCALE:GREGORIAN
METHOD:PUBLISH
X-WR-CALNAME:HGMS - Houston Gem &amp; Mineral Society
X-ORIGINAL-URL:https://hgms.org
X-WR-CALDESC:Events for HGMS - Houston Gem &amp; Mineral Society
REFRESH-INTERVAL;VALUE=DURATION:PT1H
X-Robots-Tag:noindex
X-PUBLISHED-TTL:PT1H
BEGIN:VTIMEZONE
TZID:America/Chicago
BEGIN:DAYLIGHT
TZOFFSETFROM:-0600
TZOFFSETTO:-0500
TZNAME:CDT
DTSTART:20250309T080000
END:DAYLIGHT
BEGIN:STANDARD
TZOFFSETFROM:-0500
TZOFFSETTO:-0600
TZNAME:CST
DTSTART:20251102T070000
END:STANDARD
BEGIN:DAYLIGHT
TZOFFSETFROM:-0600
TZOFFSETTO:-0500
TZNAME:CDT
DTSTART:20260308T080000
END:DAYLIGHT
BEGIN:STANDARD
TZOFFSETFROM:-0500
TZOFFSETTO:-0600
TZNAME:CST
DTSTART:20261101T070000
END:STANDARD
BEGIN:DAYLIGHT
TZOFFSETFROM:-0600
TZOFFSETTO:-0500
TZNAME:CDT
DTSTART:20270314T080000
END:DAYLIGHT
BEGIN:STANDARD
TZOFFSETFROM:-0500
TZOFFSETTO:-0600
TZNAME:CST
DTSTART:20271107T070000
END:STANDARD
BEGIN:DAYLIGHT
TZOFFSETFROM:-0600
TZOFFSETTO:-0500
TZNAME:CDT
DTSTART:20280312T080000
END:DAYLIGHT
BEGIN:STANDARD
TZOFFSETFROM:-0500
TZOFFSETTO:-0600
TZNAME:CST
DTSTART:20281105T070000
END:STANDARD
BEGIN:DAYLIGHT
TZOFFSETFROM:-0600
TZOFFSETTO:-0500
TZNAME:CDT
DTSTART:20290311T080000
END:DAYLIGHT
BEGIN:STANDARD
TZOFFSETFROM:-0500
TZOFFSETTO:-0600
TZNAME:CST
DTSTART:20291104T070000
END:STANDARD
END:VTIMEZONE
BEGIN:VEVENT
DTSTART;TZID=America/Chicago:20260516T100000
DTEND;TZID=America/Chicago:20260516T120000
DTSTAMP:20260421T095003
CREATED:20211224T185336Z
LAST-MODIFIED:20211224T185336Z
UID:19208-1778925600-1778932800@hgms.org
SUMMARY:Youth Section
DESCRIPTION:Participants must be minimum age 5 to attend meetings and be accompanied by a parent or guardian at all times when at the clubhouse. Particpants must be active HGMS Youth Members or included in an active HGMS Family membership. \nMasks REQUIRED for all participants and observers. \nSee HGMS Events for additional program details.
URL:https://hgms.org/event/youth-section-10/2026-05-16/
END:VEVENT
BEGIN:VEVENT
DTSTART;TZID=America/Chicago:20260620T100000
DTEND;TZID=America/Chicago:20260620T120000
DTSTAMP:20260421T095003
CREATED:20211224T185336Z
LAST-MODIFIED:20211224T185336Z
UID:19394-1781949600-1781956800@hgms.org
SUMMARY:Youth Section
DESCRIPTION:Participants must be minimum age 5 to attend meetings and be accompanied by a parent or guardian at all times when at the clubhouse. Particpants must be active HGMS Youth Members or included in an active HGMS Family membership. \nMasks REQUIRED for all participants and observers. \nSee HGMS Events for additional program details.
URL:https://hgms.org/event/youth-section-10/2026-06-20/
END:VEVENT
BEGIN:VEVENT
DTSTART;TZID=America/Chicago:20260718T100000
DTEND;TZID=America/Chicago:20260718T120000
DTSTAMP:20260421T095003
CREATED:20211224T185336Z
LAST-MODIFIED:20211224T185336Z
UID:19531-1784368800-1784376000@hgms.org
SUMMARY:Youth Section
DESCRIPTION:Participants must be minimum age 5 to attend meetings and be accompanied by a parent or guardian at all times when at the clubhouse. Particpants must be active HGMS Youth Members or included in an active HGMS Family membership. \nMasks REQUIRED for all participants and observers. \nSee HGMS Events for additional program details.
URL:https://hgms.org/event/youth-section-10/2026-07-18/
END:VEVENT
BEGIN:VEVENT
DTSTART;TZID=America/Chicago:20260815T100000
DTEND;TZID=America/Chicago:20260815T120000
DTSTAMP:20260421T095003
CREATED:20211224T185336Z
LAST-MODIFIED:20211224T185336Z
UID:19673-1786788000-1786795200@hgms.org
SUMMARY:Youth Section
DESCRIPTION:Participants must be minimum age 5 to attend meetings and be accompanied by a parent or guardian at all times when at the clubhouse. Particpants must be active HGMS Youth Members or included in an active HGMS Family membership. \nMasks REQUIRED for all participants and observers. \nSee HGMS Events for additional program details.
URL:https://hgms.org/event/youth-section-10/2026-08-15/
END:VEVENT
BEGIN:VEVENT
DTSTART;TZID=America/Chicago:20260919T100000
DTEND;TZID=America/Chicago:20260919T120000
DTSTAMP:20260421T095003
CREATED:20211224T185336Z
LAST-MODIFIED:20211224T185336Z
UID:19937-1789812000-1789819200@hgms.org
SUMMARY:Youth Section
DESCRIPTION:Participants must be minimum age 5 to attend meetings and be accompanied by a parent or guardian at all times when at the clubhouse. Particpants must be active HGMS Youth Members or included in an active HGMS Family membership. \nMasks REQUIRED for all participants and observers. \nSee HGMS Events for additional program details.
URL:https://hgms.org/event/youth-section-10/2026-09-19/
END:VEVENT
BEGIN:VEVENT
DTSTART;TZID=America/Chicago:20261017T100000
DTEND;TZID=America/Chicago:20261017T120000
DTSTAMP:20260421T095003
CREATED:20211224T185336Z
LAST-MODIFIED:20211224T185336Z
UID:20126-1792231200-1792238400@hgms.org
SUMMARY:Youth Section
DESCRIPTION:Participants must be minimum age 5 to attend meetings and be accompanied by a parent or guardian at all times when at the clubhouse. Particpants must be active HGMS Youth Members or included in an active HGMS Family membership. \nMasks REQUIRED for all participants and observers. \nSee HGMS Events for additional program details.
URL:https://hgms.org/event/youth-section-10/2026-10-17/
END:VEVENT
BEGIN:VEVENT
DTSTART;TZID=America/Chicago:20261121T100000
DTEND;TZID=America/Chicago:20261121T120000
DTSTAMP:20260421T095003
CREATED:20211224T185336Z
LAST-MODIFIED:20211224T185336Z
UID:20964-1795255200-1795262400@hgms.org
SUMMARY:Youth Section
DESCRIPTION:Participants must be minimum age 5 to attend meetings and be accompanied by a parent or guardian at all times when at the clubhouse. Particpants must be active HGMS Youth Members or included in an active HGMS Family membership. \nMasks REQUIRED for all participants and observers. \nSee HGMS Events for additional program details.
URL:https://hgms.org/event/youth-section-10/2026-11-21/
END:VEVENT
BEGIN:VEVENT
DTSTART;TZID=America/Chicago:20270116T100000
DTEND;TZID=America/Chicago:20270116T120000
DTSTAMP:20260421T095003
CREATED:20211224T185336Z
LAST-MODIFIED:20211224T185336Z
UID:21247-1800093600-1800100800@hgms.org
SUMMARY:Youth Section
DESCRIPTION:Participants must be minimum age 5 to attend meetings and be accompanied by a parent or guardian at all times when at the clubhouse. Particpants must be active HGMS Youth Members or included in an active HGMS Family membership. \nMasks REQUIRED for all participants and observers. \nSee HGMS Events for additional program details.
URL:https://hgms.org/event/youth-section-10/2027-01-16/
END:VEVENT
BEGIN:VEVENT
DTSTART;TZID=America/Chicago:20270220T100000
DTEND;TZID=America/Chicago:20270220T120000
DTSTAMP:20260421T095003
CREATED:20211224T185336Z
LAST-MODIFIED:20211224T185336Z
UID:21394-1803117600-1803124800@hgms.org
SUMMARY:Youth Section
DESCRIPTION:Participants must be minimum age 5 to attend meetings and be accompanied by a parent or guardian at all times when at the clubhouse. Particpants must be active HGMS Youth Members or included in an active HGMS Family membership. \nMasks REQUIRED for all participants and observers. \nSee HGMS Events for additional program details.
URL:https://hgms.org/event/youth-section-10/2027-02-20/
END:VEVENT
BEGIN:VEVENT
DTSTART;TZID=America/Chicago:20270320T100000
DTEND;TZID=America/Chicago:20270320T120000
DTSTAMP:20260421T095003
CREATED:20211224T185336Z
LAST-MODIFIED:20211224T185336Z
UID:23412-1805536800-1805544000@hgms.org
SUMMARY:Youth Section
DESCRIPTION:Participants must be minimum age 5 to attend meetings and be accompanied by a parent or guardian at all times when at the clubhouse. Particpants must be active HGMS Youth Members or included in an active HGMS Family membership. \nMasks REQUIRED for all participants and observers. \nSee HGMS Events for additional program details.
URL:https://hgms.org/event/youth-section-10/2027-03-20/
END:VEVENT
BEGIN:VEVENT
DTSTART;TZID=America/Chicago:20270417T100000
DTEND;TZID=America/Chicago:20270417T120000
DTSTAMP:20260421T095003
CREATED:20211224T185336Z
LAST-MODIFIED:20211224T185336Z
UID:23570-1807956000-1807963200@hgms.org
SUMMARY:Youth Section
DESCRIPTION:Participants must be minimum age 5 to attend meetings and be accompanied by a parent or guardian at all times when at the clubhouse. Particpants must be active HGMS Youth Members or included in an active HGMS Family membership. \nMasks REQUIRED for all participants and observers. \nSee HGMS Events for additional program details.
URL:https://hgms.org/event/youth-section-10/2027-04-17/
END:VEVENT
BEGIN:VEVENT
DTSTART;TZID=America/Chicago:20270515T100000
DTEND;TZID=America/Chicago:20270515T120000
DTSTAMP:20260421T095003
CREATED:20211224T185336Z
LAST-MODIFIED:20211224T185336Z
UID:23690-1810375200-1810382400@hgms.org
SUMMARY:Youth Section
DESCRIPTION:Participants must be minimum age 5 to attend meetings and be accompanied by a parent or guardian at all times when at the clubhouse. Particpants must be active HGMS Youth Members or included in an active HGMS Family membership. \nMasks REQUIRED for all participants and observers. \nSee HGMS Events for additional program details.
URL:https://hgms.org/event/youth-section-10/2027-05-15/
END:VEVENT
BEGIN:VEVENT
DTSTART;TZID=America/Chicago:20270619T100000
DTEND;TZID=America/Chicago:20270619T120000
DTSTAMP:20260421T095003
CREATED:20211224T185336Z
LAST-MODIFIED:20211224T185336Z
UID:23942-1813399200-1813406400@hgms.org
SUMMARY:Youth Section
DESCRIPTION:Participants must be minimum age 5 to attend meetings and be accompanied by a parent or guardian at all times when at the clubhouse. Particpants must be active HGMS Youth Members or included in an active HGMS Family membership. \nMasks REQUIRED for all participants and observers. \nSee HGMS Events for additional program details.
URL:https://hgms.org/event/youth-section-10/2027-06-19/
END:VEVENT
BEGIN:VEVENT
DTSTART;TZID=America/Chicago:20270717T100000
DTEND;TZID=America/Chicago:20270717T120000
DTSTAMP:20260421T095003
CREATED:20211224T185336Z
LAST-MODIFIED:20211224T185336Z
UID:24058-1815818400-1815825600@hgms.org
SUMMARY:Youth Section
DESCRIPTION:Participants must be minimum age 5 to attend meetings and be accompanied by a parent or guardian at all times when at the clubhouse. Particpants must be active HGMS Youth Members or included in an active HGMS Family membership. \nMasks REQUIRED for all participants and observers. \nSee HGMS Events for additional program details.
URL:https://hgms.org/event/youth-section-10/2027-07-17/
END:VEVENT
BEGIN:VEVENT
DTSTART;TZID=America/Chicago:20270821T100000
DTEND;TZID=America/Chicago:20270821T120000
DTSTAMP:20260421T095003
CREATED:20211224T185336Z
LAST-MODIFIED:20211224T185336Z
UID:24296-1818842400-1818849600@hgms.org
SUMMARY:Youth Section
DESCRIPTION:Participants must be minimum age 5 to attend meetings and be accompanied by a parent or guardian at all times when at the clubhouse. Particpants must be active HGMS Youth Members or included in an active HGMS Family membership. \nMasks REQUIRED for all participants and observers. \nSee HGMS Events for additional program details.
URL:https://hgms.org/event/youth-section-10/2027-08-21/
END:VEVENT
BEGIN:VEVENT
DTSTART;TZID=America/Chicago:20270918T100000
DTEND;TZID=America/Chicago:20270918T120000
DTSTAMP:20260421T095003
CREATED:20211224T185336Z
LAST-MODIFIED:20211224T185336Z
UID:24455-1821261600-1821268800@hgms.org
SUMMARY:Youth Section
DESCRIPTION:Participants must be minimum age 5 to attend meetings and be accompanied by a parent or guardian at all times when at the clubhouse. Particpants must be active HGMS Youth Members or included in an active HGMS Family membership. \nMasks REQUIRED for all participants and observers. \nSee HGMS Events for additional program details.
URL:https://hgms.org/event/youth-section-10/2027-09-18/
END:VEVENT
BEGIN:VEVENT
DTSTART;TZID=America/Chicago:20271016T100000
DTEND;TZID=America/Chicago:20271016T120000
DTSTAMP:20260421T095003
CREATED:20211224T185336Z
LAST-MODIFIED:20211224T185336Z
UID:24756-1823680800-1823688000@hgms.org
SUMMARY:Youth Section
DESCRIPTION:Participants must be minimum age 5 to attend meetings and be accompanied by a parent or guardian at all times when at the clubhouse. Particpants must be active HGMS Youth Members or included in an active HGMS Family membership. \nMasks REQUIRED for all participants and observers. \nSee HGMS Events for additional program details.
URL:https://hgms.org/event/youth-section-10/2027-10-16/
END:VEVENT
BEGIN:VEVENT
DTSTART;TZID=America/Chicago:20271120T100000
DTEND;TZID=America/Chicago:20271120T120000
DTSTAMP:20260421T095003
CREATED:20211224T185336Z
LAST-MODIFIED:20211224T185336Z
UID:25893-1826704800-1826712000@hgms.org
SUMMARY:Youth Section
DESCRIPTION:Participants must be minimum age 5 to attend meetings and be accompanied by a parent or guardian at all times when at the clubhouse. Particpants must be active HGMS Youth Members or included in an active HGMS Family membership. \nMasks REQUIRED for all participants and observers. \nSee HGMS Events for additional program details.
URL:https://hgms.org/event/youth-section-10/2027-11-20/
END:VEVENT
BEGIN:VEVENT
DTSTART;TZID=America/Chicago:20280115T100000
DTEND;TZID=America/Chicago:20280115T120000
DTSTAMP:20260421T095003
CREATED:20211224T185336Z
LAST-MODIFIED:20211224T185336Z
UID:26177-1831543200-1831550400@hgms.org
SUMMARY:Youth Section
DESCRIPTION:Participants must be minimum age 5 to attend meetings and be accompanied by a parent or guardian at all times when at the clubhouse. Particpants must be active HGMS Youth Members or included in an active HGMS Family membership. \nMasks REQUIRED for all participants and observers. \nSee HGMS Events for additional program details.
URL:https://hgms.org/event/youth-section-10/2028-01-15/
END:VEVENT
BEGIN:VEVENT
DTSTART;TZID=America/Chicago:20280219T100000
DTEND;TZID=America/Chicago:20280219T120000
DTSTAMP:20260421T095003
CREATED:20211224T185336Z
LAST-MODIFIED:20211224T185336Z
UID:26378-1834567200-1834574400@hgms.org
SUMMARY:Youth Section
DESCRIPTION:Participants must be minimum age 5 to attend meetings and be accompanied by a parent or guardian at all times when at the clubhouse. Particpants must be active HGMS Youth Members or included in an active HGMS Family membership. \nMasks REQUIRED for all participants and observers. \nSee HGMS Events for additional program details.
URL:https://hgms.org/event/youth-section-10/2028-02-19/
END:VEVENT
BEGIN:VEVENT
DTSTART;TZID=America/Chicago:20280318T100000
DTEND;TZID=America/Chicago:20280318T120000
DTSTAMP:20260421T095003
CREATED:20211224T185336Z
LAST-MODIFIED:20211224T185336Z
UID:26546-1836986400-1836993600@hgms.org
SUMMARY:Youth Section
DESCRIPTION:Participants must be minimum age 5 to attend meetings and be accompanied by a parent or guardian at all times when at the clubhouse. Particpants must be active HGMS Youth Members or included in an active HGMS Family membership. \nMasks REQUIRED for all participants and observers. \nSee HGMS Events for additional program details.
URL:https://hgms.org/event/youth-section-10/2028-03-18/
END:VEVENT
BEGIN:VEVENT
DTSTART;TZID=America/Chicago:20280415T100000
DTEND;TZID=America/Chicago:20280415T120000
DTSTAMP:20260421T095003
CREATED:20211224T185336Z
LAST-MODIFIED:20211224T185336Z
UID:26733-1839405600-1839412800@hgms.org
SUMMARY:Youth Section
DESCRIPTION:Participants must be minimum age 5 to attend meetings and be accompanied by a parent or guardian at all times when at the clubhouse. Particpants must be active HGMS Youth Members or included in an active HGMS Family membership. \nMasks REQUIRED for all participants and observers. \nSee HGMS Events for additional program details.
URL:https://hgms.org/event/youth-section-10/2028-04-15/
END:VEVENT
END:VCALENDAR