BEGIN:VCALENDAR
VERSION:2.0
PRODID:-//HGMS - Houston Gem &amp; Mineral Society - ECPv6.15.18//NONSGML v1.0//EN
CALSCALE:GREGORIAN
METHOD:PUBLISH
X-WR-CALNAME:HGMS - Houston Gem &amp; Mineral Society
X-ORIGINAL-URL:https://hgms.org
X-WR-CALDESC:Events for HGMS - Houston Gem &amp; Mineral Society
REFRESH-INTERVAL;VALUE=DURATION:PT1H
X-Robots-Tag:noindex
X-PUBLISHED-TTL:PT1H
BEGIN:VTIMEZONE
TZID:America/Chicago
BEGIN:DAYLIGHT
TZOFFSETFROM:-0600
TZOFFSETTO:-0500
TZNAME:CDT
DTSTART:20240310T080000
END:DAYLIGHT
BEGIN:STANDARD
TZOFFSETFROM:-0500
TZOFFSETTO:-0600
TZNAME:CST
DTSTART:20241103T070000
END:STANDARD
BEGIN:DAYLIGHT
TZOFFSETFROM:-0600
TZOFFSETTO:-0500
TZNAME:CDT
DTSTART:20250309T080000
END:DAYLIGHT
BEGIN:STANDARD
TZOFFSETFROM:-0500
TZOFFSETTO:-0600
TZNAME:CST
DTSTART:20251102T070000
END:STANDARD
BEGIN:DAYLIGHT
TZOFFSETFROM:-0600
TZOFFSETTO:-0500
TZNAME:CDT
DTSTART:20260308T080000
END:DAYLIGHT
BEGIN:STANDARD
TZOFFSETFROM:-0500
TZOFFSETTO:-0600
TZNAME:CST
DTSTART:20261101T070000
END:STANDARD
END:VTIMEZONE
BEGIN:VEVENT
DTSTART;TZID=America/Chicago:20250618T100000
DTEND;TZID=America/Chicago:20250619T143000
DTSTAMP:20260420T054606
CREATED:20250519T211350Z
LAST-MODIFIED:20250519T211350Z
UID:23697-1750240800-1750343400@hgms.org
SUMMARY:Beginning Enamel (Jun 18 & 19\, 2025)
DESCRIPTION:CLASS DESCRIPTION:  BEGINNING ENAMEL PENDANT:   \nDeborah Kirkpatrick will teach the fundamentals of vitreous enameling in this two-day class. Skills include metal preparation\, sifting\, wet-packing and counter enameling. We will be transferring the image of a simple sunflower and filling it with colors using both transparent and opaque enamels. We will also cover attaching glass balls to the enamel and applying a black outline to refine the piece. \n  \nDATES:  This is a 2-day class starting on Wed.\, June 18th continuing on Thurs.\, June 19th \nTIME:  from Wed\, 10:00 AM to 3:00 PM\, Thurs 10:00 AM to 2:30 PM\, with a short break for lunch each day \nLOCATION:  HGMS METALSMITH SHOP AT CLUBHOUSE \nCOST: Member cost $225.00; Non-Member Cost $250.00 \nMINIMUM class size is 4; MAXIMUM class size is 6 \nMATERIALS INCLUDED:  Enamels\, copper blank\, a very small liner brush and all other equipment will be provided\, along with an inexpensive bezel setting for the finished enamel. \n  \nOTHER REQUIREMENTS: \n\n Students must wear cotton clothing and closed-toe shoes\nStudents must bring an N-95 particle mask\nStudents must bring small craft paintbrushes such as:\n\nhttps://www.michaels.com/product/golden-synthetic-round-acrylic-brushes-4pc-by-artists-loft-necessities-10171138?com_id=PLP_RecentlyViewed&path=recentlyViewedPlp or these https://www.hobbylobby.com/art-supplies/brushes/curate-colour-mini-paint-brushes—9-piece-set/p/64228?queryId=0bfc822da7b2e36ac6ab1fe7be252283. \n  \nDeborah Kirkpatrick is a former Artist in Residence at the Center for Contemporary Crafts\, SNAG\, HMAG\, GANA\, HGMS and GIA member. \nThis is an example of the piece we will be making. \nBeginning Enamel Pendant \nHere are examples of some past students’ work:
URL:https://hgms.org/event/beginning-enamel-jun-18-19-2025/
LOCATION:HGMS Clubhouse\, 10805 Brooklet Dr.\, Houston\, TX\, 77099\, United States
CATEGORIES:Classes
ATTACH;FMTTYPE=image/jpeg:https://hgms.org/wp-content/uploads/2025/03/Beginning-Enamel-HGMS-Class-scaled.jpg
ORGANIZER;CN="HGMS Education":MAILTO:classes@hgms.org
END:VEVENT
END:VCALENDAR