BEGIN:VCALENDAR
VERSION:2.0
PRODID:-//HGMS - Houston Gem &amp; Mineral Society - ECPv6.15.18//NONSGML v1.0//EN
CALSCALE:GREGORIAN
METHOD:PUBLISH
X-ORIGINAL-URL:https://hgms.org
X-WR-CALDESC:Events for HGMS - Houston Gem &amp; Mineral Society
REFRESH-INTERVAL;VALUE=DURATION:PT1H
X-Robots-Tag:noindex
X-PUBLISHED-TTL:PT1H
BEGIN:VTIMEZONE
TZID:America/Chicago
BEGIN:DAYLIGHT
TZOFFSETFROM:-0600
TZOFFSETTO:-0500
TZNAME:CDT
DTSTART:20240310T080000
END:DAYLIGHT
BEGIN:STANDARD
TZOFFSETFROM:-0500
TZOFFSETTO:-0600
TZNAME:CST
DTSTART:20241103T070000
END:STANDARD
BEGIN:DAYLIGHT
TZOFFSETFROM:-0600
TZOFFSETTO:-0500
TZNAME:CDT
DTSTART:20250309T080000
END:DAYLIGHT
BEGIN:STANDARD
TZOFFSETFROM:-0500
TZOFFSETTO:-0600
TZNAME:CST
DTSTART:20251102T070000
END:STANDARD
BEGIN:DAYLIGHT
TZOFFSETFROM:-0600
TZOFFSETTO:-0500
TZNAME:CDT
DTSTART:20260308T080000
END:DAYLIGHT
BEGIN:STANDARD
TZOFFSETFROM:-0500
TZOFFSETTO:-0600
TZNAME:CST
DTSTART:20261101T070000
END:STANDARD
END:VTIMEZONE
BEGIN:VEVENT
DTSTART;TZID=America/Chicago:20250406T120000
DTEND;TZID=America/Chicago:20250406T170000
DTSTAMP:20260420T090329
CREATED:20250312T230524Z
LAST-MODIFIED:20250330T164054Z
UID:21494-1743940800-1743958800@hgms.org
SUMMARY:Textured Stacking Rings (Apr 6\, 2025)
DESCRIPTION:Learn to make and texture a set of stacking rings from scratch. This class is appropriate for the beginning silversmith or for expanding one’s knowledge of basic ring making. The class will cover creating rings and the fundamentals of finishing a piece (the key to making it look\nprofessional). Each student will leave with 1-2 rings. \n\n5 hour class (12:00 – 5:00pm)\nMax 6 students\, min 3\nCost – $96/student (member); $120/student (nonmember)\nStudents will learn to\no Calculate length needed for ring size\no Form & solder ring band\no Polishing &amp; finishing\no Texturing using various tools\nMaterials provided by instructor; tools provided by HGMS\nClass is to be held in clubhouse Jewelry Studio. Will overlap open studio hours but will\nextend into after hours.\nStudents must bring a mask (N95 or KN95) – this is to protect your lungs from metal dust\nMust be 18 or older\nDeadline to register for class: April 4
URL:https://hgms.org/event/textured-stacking-rings-apr-6-2025/
LOCATION:HGMS Clubhouse\, 10805 Brooklet Dr.\, Houston\, TX\, 77099\, United States
CATEGORIES:Classes
ATTACH;FMTTYPE=image/jpeg:https://hgms.org/wp-content/uploads/2025/03/Stacking-rings-scaled.jpg
ORGANIZER;CN="HGMS Education":MAILTO:classes@hgms.org
END:VEVENT
BEGIN:VEVENT
DTSTART;TZID=America/Chicago:20250416T100000
DTEND;TZID=America/Chicago:20250417T150000
DTSTAMP:20260420T090329
CREATED:20250313T215126Z
LAST-MODIFIED:20250313T215126Z
UID:21512-1744797600-1744902000@hgms.org
SUMMARY:Beginning Enamel (Apr 16 & 17\, 2025)
DESCRIPTION:CLASS DESCRIPTION:  BEGINNING ENAMEL PENDANT:   \nDeborah Kirkpatrick will teach the fundamentals of vitreous enameling in this two-day class. Skills include metal preparation\, sifting\, wet-packing and counter enameling. We will be transferring the image of a simple sunflower and filling it with colors using both transparent and opaque enamels. We will also cover attaching glass balls to the enamel and applying a black outline to refine the piece. \n  \nDATES:  This is a 2-day class starting on Wed.\, April 16th continuing on Thurs.\, April 17th \nTIME:  from 10:00 AM to 3:00 PM with a short break for lunch each day \nLOCATION:  HGMS METALSMITH SHOP AT CLUBHOUSE \nCOST: Member cost $225.00; Non-Member Cost $250.00 \nMINIMUM class size is 4; MAXIMUM class size is 6 \nMATERIALS INCLUDED:  Enamels\, copper blank\, a very small liner brush and all other equipment will be provided\, along with an inexpensive bezel setting for the finished enamel. \n  \nOTHER REQUIREMENTS: \n\n Students must wear cotton clothing and closed-toe shoes\nStudents must bring an N-95 particle mask\nStudents must bring small craft paintbrushes such as:\n\nhttps://www.michaels.com/product/golden-synthetic-round-acrylic-brushes-4pc-by-artists-loft-necessities-10171138?com_id=PLP_RecentlyViewed&path=recentlyViewedPlp or these https://www.hobbylobby.com/art-supplies/brushes/curate-colour-mini-paint-brushes—9-piece-set/p/64228?queryId=0bfc822da7b2e36ac6ab1fe7be252283. \n  \nDeborah Kirkpatrick is a former Artist in Residence at the Center for Contemporary Crafts\, SNAG\, HMAG\, GANA\, HGMS and GIA member.
URL:https://hgms.org/event/beginning-enamel-apr-16-17-2025/
LOCATION:HGMS Clubhouse\, 10805 Brooklet Dr.\, Houston\, TX\, 77099\, United States
CATEGORIES:Classes
ATTACH;FMTTYPE=image/jpeg:https://hgms.org/wp-content/uploads/2025/03/Beginning-Enamel-HGMS-Class-scaled.jpg
ORGANIZER;CN="HGMS Education":MAILTO:classes@hgms.org
END:VEVENT
BEGIN:VEVENT
DTSTART;TZID=America/Chicago:20250427T120000
DTEND;TZID=America/Chicago:20250427T160000
DTSTAMP:20260420T090329
CREATED:20250312T231448Z
LAST-MODIFIED:20250330T163904Z
UID:21499-1745755200-1745769600@hgms.org
SUMMARY:Twisted Hoop Earrings (Apr 27\, 2025)
DESCRIPTION:Twisted Hoop Earrings\nLearn to make a pair of twisted hoop earrings from scratch! This class is appropriate for the beginning silversmith or for expanding one’s knowledge of basic silversmithing.\nThe class will cover the fundamentals of creating twists in square wire\, forming hoops\, and soldering earring posts. All pieces will be in sterling silver. Each student will leave with a pair of hoop earrings in the size of their choice (up to 5.5” length total). \n\n4-hour class (12:00 – 4:00pm)\nMax 6 students\, min 4\nCost – $98/student (members)\, $120 (non-member)\nTool rental is included\nClass is to be held in clubhouse Jewelry Studio\nWe will discuss how to use these techniques to make other hoop earrings (simple or\nwith twisted wire)\nMust be 18 or older\nDeadline to register for class: April 24
URL:https://hgms.org/event/twisted-hoop-earrings-apr-27-2025/
LOCATION:HGMS Clubhouse\, 10805 Brooklet Dr.\, Houston\, TX\, 77099\, United States
CATEGORIES:Classes
ATTACH;FMTTYPE=image/jpeg:https://hgms.org/wp-content/uploads/2025/03/Twisted-Hoops.jpg
ORGANIZER;CN="HGMS Education":MAILTO:classes@hgms.org
END:VEVENT
END:VCALENDAR