BEGIN:VCALENDAR
VERSION:2.0
PRODID:-//HGMS - Houston Gem &amp; Mineral Society - ECPv6.15.20//NONSGML v1.0//EN
CALSCALE:GREGORIAN
METHOD:PUBLISH
X-WR-CALNAME:HGMS - Houston Gem &amp; Mineral Society
X-ORIGINAL-URL:https://hgms.org
X-WR-CALDESC:Events for HGMS - Houston Gem &amp; Mineral Society
REFRESH-INTERVAL;VALUE=DURATION:PT1H
X-Robots-Tag:noindex
X-PUBLISHED-TTL:PT1H
BEGIN:VTIMEZONE
TZID:America/Chicago
BEGIN:DAYLIGHT
TZOFFSETFROM:-0600
TZOFFSETTO:-0500
TZNAME:CDT
DTSTART:20220313T080000
END:DAYLIGHT
BEGIN:STANDARD
TZOFFSETFROM:-0500
TZOFFSETTO:-0600
TZNAME:CST
DTSTART:20221106T070000
END:STANDARD
BEGIN:DAYLIGHT
TZOFFSETFROM:-0600
TZOFFSETTO:-0500
TZNAME:CDT
DTSTART:20230312T080000
END:DAYLIGHT
BEGIN:STANDARD
TZOFFSETFROM:-0500
TZOFFSETTO:-0600
TZNAME:CST
DTSTART:20231105T070000
END:STANDARD
BEGIN:DAYLIGHT
TZOFFSETFROM:-0600
TZOFFSETTO:-0500
TZNAME:CDT
DTSTART:20240310T080000
END:DAYLIGHT
BEGIN:STANDARD
TZOFFSETFROM:-0500
TZOFFSETTO:-0600
TZNAME:CST
DTSTART:20241103T070000
END:STANDARD
END:VTIMEZONE
BEGIN:VEVENT
DTSTART;TZID=America/Chicago:20230916T123000
DTEND;TZID=America/Chicago:20230916T173000
DTSTAMP:20260423T125301
CREATED:20230820T041828Z
LAST-MODIFIED:20230821T153745Z
UID:15934-1694867400-1694885400@hgms.org
SUMMARY:Textured Rings Class (Sept 16\, 2023)
DESCRIPTION:TEXTURED RING CLASS:  Carmen Fraticelli – Saturday\, September 16th from 12:30 to 5:30 PM \nLearn to make and texture a set of stacking rings from scratch with Carmen Fraticelli. This class is appropriate for the beginning silversmith or for expanding one’s knowledge of basic ring making. The class will cover creating rings and the fundamentals of finishing a piece (the key to making it look professional). Each student will leave with 1-2 rings and a set of basic finishing tools. \n• 5 hour class (12:30 – 5:30pm)  \n• Max 4 students\, min 2  \n• Cost – $85/student for HGMS members and $100 for non-members \n• Students will leave with 1-2 finished rings\, brass and/or sterling silver\, and a set of finishing/polishing tools \nLearning to: \n▪ Calculate length needed for ring size \n▪ Form & solder ring band \n▪ Polishing & finishing using a flex shaft \n▪ Texturing using hammers\, chisels\, and burs \n▪ A toolbox rental is included with the class. No additional tools are required. \n• Materials\, polishing and texturing tools provided by instructor \n• Class to be held in clubhouse Jewelry Studio. Will overlap open studio hours but will extend into after hours. \n  \nCarmen Fraticelli has been silversmithing full-time for 3 years\, and part-time for over 10.  She supervises the Jewelry Studio several times a month to provide members with assistance in progressing their projects.
URL:https://hgms.org/event/textured-rings-class-09-16-2023/
LOCATION:HGMS Clubhouse\, 10805 Brooklet Dr.\, Houston\, TX\, 77099\, United States
CATEGORIES:Classes
ATTACH;FMTTYPE=image/jpeg:https://hgms.org/wp-content/uploads/2023/05/Textured-Stacking-Rings-Carmen-6-17-23.jpg
ORGANIZER;CN="HGMS Education":MAILTO:classes@hgms.org
END:VEVENT
BEGIN:VEVENT
DTSTART;TZID=America/Chicago:20230929T120000
DTEND;TZID=America/Chicago:20230929T160000
DTSTAMP:20260423T125301
CREATED:20230820T035836Z
LAST-MODIFIED:20230820T035836Z
UID:15927-1695988800-1696003200@hgms.org
SUMMARY:JEWELRY DESIGN (DAY CLASS) Sept 29\, 2023
DESCRIPTION:JEWELRY DESIGN (DAY CLASS)  \nDate:  Friday\, September 29th       Time:   Noon to 4:00 pm        \nThis course will introduce you to the toolbox of ideas and workflow that allow you to transform your inspiration into jewelry that reflects your personal taste and style.  You’ll have more confidence in your designs and will be able to solve design issues before you start fabricating. \nDuring the four-hour class we’ll learn about design principles\, look at a lot of jewelry designs and practice the kind of activities you can use to create your own designs at home.  Students should bring a pair of scissors\, a 12” ruler and a fine line black marker like an ultra-fine Sharpie. A class handout will be provided online after class but feel free to bring note-taking materials with you. \nThese principles are applicable to all areas of jewelry making: beading\, wire wrapping\, metalsmithing\, lapidary and mixed media. \nCost: $35 \nLocation:  Middle Classroom or General Meeting Room\, depending on enrollment \n 
URL:https://hgms.org/event/jewelry-design-day-class-092923/
LOCATION:HGMS Clubhouse\, 10805 Brooklet Dr.\, Houston\, TX\, 77099\, United States
CATEGORIES:Classes
ATTACH;FMTTYPE=image/jpeg:https://hgms.org/wp-content/uploads/2023/08/Jewelry-Design-Class.jpg
ORGANIZER;CN="HGMS Education":MAILTO:classes@hgms.org
END:VEVENT
BEGIN:VEVENT
DTSTART;TZID=America/Chicago:20230930T123000
DTEND;TZID=America/Chicago:20230930T173000
DTSTAMP:20260423T125301
CREATED:20230820T040734Z
LAST-MODIFIED:20240107T160704Z
UID:15930-1696077000-1696095000@hgms.org
SUMMARY:Textured Rings Class (Sept 30\, 2023)
DESCRIPTION:TEXTURED RING CLASS:  Carmen Fraticelli – Saturday\, September 30th from 12:30 to 5:30 PM \nLearn to make and texture a set of stacking rings from scratch with Carmen Fraticelli. This class is appropriate for the beginning silversmith or for expanding one’s knowledge of basic ring making. The class will cover creating rings and the fundamentals of finishing a piece (the key to making it look professional). Each student will leave with 1-2 rings and a set of basic finishing tools. \n• 5 hour class (12:30 – 5:30pm)  \n• Max 4 students\, min 2  \n• Cost – $85/student for HGMS members and $100 for non-members \n• Students will leave with 1-2 finished rings\, brass and/or sterling silver\, and a set of finishing/polishing tools \nLearning to: \n▪ Calculate length needed for ring size \n▪ Form & solder ring band \n▪ Polishing & finishing using a flex shaft \n▪ Texturing using hammers\, chisels\, and burs \n▪ A toolbox rental is included with the class. No additional tools are required. \n• Materials\, polishing and texturing tools provided by instructor \n• Class to be held in clubhouse Jewelry Studio. Will overlap open studio hours but will extend into after hours. \n  \nCarmen Fraticelli has been silversmithing full-time for 3 years\, and part-time for over 10.  She supervises the Jewelry Studio several times a month to provide members with assistance in progressing their projects.
URL:https://hgms.org/event/textured-rings-class-09302023/
LOCATION:HGMS Clubhouse\, 10805 Brooklet Dr.\, Houston\, TX\, 77099\, United States
CATEGORIES:Classes
ATTACH;FMTTYPE=image/jpeg:https://hgms.org/wp-content/uploads/2023/05/Textured-Stacking-Rings-Carmen-6-17-23.jpg
ORGANIZER;CN="HGMS Education":MAILTO:classes@hgms.org
END:VEVENT
END:VCALENDAR