BEGIN:VCALENDAR
VERSION:2.0
PRODID:-//HGMS - Houston Gem &amp; Mineral Society - ECPv6.15.20//NONSGML v1.0//EN
CALSCALE:GREGORIAN
METHOD:PUBLISH
X-WR-CALNAME:HGMS - Houston Gem &amp; Mineral Society
X-ORIGINAL-URL:https://hgms.org
X-WR-CALDESC:Events for HGMS - Houston Gem &amp; Mineral Society
REFRESH-INTERVAL;VALUE=DURATION:PT1H
X-Robots-Tag:noindex
X-PUBLISHED-TTL:PT1H
BEGIN:VTIMEZONE
TZID:America/Chicago
BEGIN:DAYLIGHT
TZOFFSETFROM:-0600
TZOFFSETTO:-0500
TZNAME:CDT
DTSTART:20220313T080000
END:DAYLIGHT
BEGIN:STANDARD
TZOFFSETFROM:-0500
TZOFFSETTO:-0600
TZNAME:CST
DTSTART:20221106T070000
END:STANDARD
BEGIN:DAYLIGHT
TZOFFSETFROM:-0600
TZOFFSETTO:-0500
TZNAME:CDT
DTSTART:20230312T080000
END:DAYLIGHT
BEGIN:STANDARD
TZOFFSETFROM:-0500
TZOFFSETTO:-0600
TZNAME:CST
DTSTART:20231105T070000
END:STANDARD
BEGIN:DAYLIGHT
TZOFFSETFROM:-0600
TZOFFSETTO:-0500
TZNAME:CDT
DTSTART:20240310T080000
END:DAYLIGHT
BEGIN:STANDARD
TZOFFSETFROM:-0500
TZOFFSETTO:-0600
TZNAME:CST
DTSTART:20241103T070000
END:STANDARD
END:VTIMEZONE
BEGIN:VEVENT
DTSTART;TZID=America/Chicago:20230320T150000
DTEND;TZID=America/Chicago:20230320T180000
DTSTAMP:20260424T044432
CREATED:20230306T212100Z
LAST-MODIFIED:20230306T212100Z
UID:14841-1679324400-1679335200@hgms.org
SUMMARY:Tree of Life Wire Wrapped Pendant
DESCRIPTION:Dates & Time: Monday March 20th\, 3:00 – 6:00 PM  \nMaggie will teach you to wire wrap a Tree of Life figure onto a cabochon to create a pendant.  We will string your pendant onto 36 inches of 1.5 mm round leather to create an adjustable necklace for a finished piece that you  will proud to wear.  Students may choose between silver\, brass\, or copper colored craft wire to complement the cabochon of their choice.  Cabochons will be available for purchase starting at $8.00 each.  Students may also bring their own cabs to wrap.  You will leave with written instructions and resources to recreate these pendants at home. \nMaximum of 6 Students \nLOCATION: HGMS Clubhouse\, 10805 Brooklet Dr.\, Houston\, TX 77099 (in Silversmith Shop) \nTEACHER: Maggie Manley \nCOST: $45.00 Includes wire and tool usage & written instructions plus the Cost of cabochon to be selected by student.  Students may provide their own cabochon in lieu of purchasing one.  Cabochons should measure about 1-3/8” wide by 2” high \nNOTE: \nThis is an advanced beginner to intermediate level project.  Students should be comfortable with using needle-nose & round tip pliers a creating at least one simple wire wrapped project. \nClass registration is first-come/first-serve\, no cash refunds. \n   
URL:https://hgms.org/event/tree-of-life-wire-wrap-pendant-032023/
LOCATION:HGMS Clubhouse\, 10805 Brooklet Dr.\, Houston\, TX\, 77099\, United States
CATEGORIES:Classes
ATTACH;FMTTYPE=image/jpeg:https://hgms.org/wp-content/uploads/2023/01/Tree-of-Life-Pendant-1.jpg
ORGANIZER;CN="HGMS Education":MAILTO:classes@hgms.org
END:VEVENT
END:VCALENDAR