BEGIN:VCALENDAR
VERSION:2.0
PRODID:-//HGMS - Houston Gem &amp; Mineral Society - ECPv6.15.20//NONSGML v1.0//EN
CALSCALE:GREGORIAN
METHOD:PUBLISH
X-WR-CALNAME:HGMS - Houston Gem &amp; Mineral Society
X-ORIGINAL-URL:https://hgms.org
X-WR-CALDESC:Events for HGMS - Houston Gem &amp; Mineral Society
REFRESH-INTERVAL;VALUE=DURATION:PT1H
X-Robots-Tag:noindex
X-PUBLISHED-TTL:PT1H
BEGIN:VTIMEZONE
TZID:America/Chicago
BEGIN:DAYLIGHT
TZOFFSETFROM:-0600
TZOFFSETTO:-0500
TZNAME:CDT
DTSTART:20230312T080000
END:DAYLIGHT
BEGIN:STANDARD
TZOFFSETFROM:-0500
TZOFFSETTO:-0600
TZNAME:CST
DTSTART:20231105T070000
END:STANDARD
BEGIN:DAYLIGHT
TZOFFSETFROM:-0600
TZOFFSETTO:-0500
TZNAME:CDT
DTSTART:20240310T080000
END:DAYLIGHT
BEGIN:STANDARD
TZOFFSETFROM:-0500
TZOFFSETTO:-0600
TZNAME:CST
DTSTART:20241103T070000
END:STANDARD
BEGIN:DAYLIGHT
TZOFFSETFROM:-0600
TZOFFSETTO:-0500
TZNAME:CDT
DTSTART:20250309T080000
END:DAYLIGHT
BEGIN:STANDARD
TZOFFSETFROM:-0500
TZOFFSETTO:-0600
TZNAME:CST
DTSTART:20251102T070000
END:STANDARD
END:VTIMEZONE
BEGIN:VEVENT
DTSTART;TZID=America/Chicago:20240729T183000
DTEND;TZID=America/Chicago:20240729T220000
DTSTAMP:20260425T064643
CREATED:20240624T201518Z
LAST-MODIFIED:20240719T192644Z
UID:19411-1722277800-1722290400@hgms.org
SUMMARY:Advanced Shape Cabbing (Jul 29\, 2024)
DESCRIPTION:Date: Tuesday\, July 29th – 6:30-10:00 PM\n\nCost:  Member Cost:  $100.00; Non-Member Cost:  $125.00 (Hint:  It may be cost effective to join HGMS at $40/year).\nLocation: Center Classroom and Lapidary Shop\nInstructor: Taught by Sharon Halton\, Shop Manager\n\n\nDescription: This is an advanced class to learn how to make 2-sided cabochons\, hearts\, crosses\, and square shaped cabochons. \n\nStudents must have completed the basic class previously to attend this class. (Must have completed CABS 101 Class previously).\n\nMember price – $100\, non-members – $125\n5 person limit for this class\nAll supplies & equipment are provided.\n\n   
URL:https://hgms.org/event/advanced-shape-cabbing-jul-29-2024/
LOCATION:HGMS Clubhouse\, 10805 Brooklet Dr.\, Houston\, TX\, 77099\, United States
CATEGORIES:Classes
ATTACH;FMTTYPE=image/jpeg:https://hgms.org/wp-content/uploads/2024/06/Advanced-cabochons2-rotated.jpg
ORGANIZER;CN="HGMS Education":MAILTO:classes@hgms.org
END:VEVENT
END:VCALENDAR