BEGIN:VCALENDAR
VERSION:2.0
PRODID:-//HGMS - Houston Gem &amp; Mineral Society - ECPv6.15.18//NONSGML v1.0//EN
CALSCALE:GREGORIAN
METHOD:PUBLISH
X-ORIGINAL-URL:https://hgms.org
X-WR-CALDESC:Events for HGMS - Houston Gem &amp; Mineral Society
REFRESH-INTERVAL;VALUE=DURATION:PT1H
X-Robots-Tag:noindex
X-PUBLISHED-TTL:PT1H
BEGIN:VTIMEZONE
TZID:America/Chicago
BEGIN:DAYLIGHT
TZOFFSETFROM:-0600
TZOFFSETTO:-0500
TZNAME:CDT
DTSTART:20230312T080000
END:DAYLIGHT
BEGIN:STANDARD
TZOFFSETFROM:-0500
TZOFFSETTO:-0600
TZNAME:CST
DTSTART:20231105T070000
END:STANDARD
BEGIN:DAYLIGHT
TZOFFSETFROM:-0600
TZOFFSETTO:-0500
TZNAME:CDT
DTSTART:20240310T080000
END:DAYLIGHT
BEGIN:STANDARD
TZOFFSETFROM:-0500
TZOFFSETTO:-0600
TZNAME:CST
DTSTART:20241103T070000
END:STANDARD
BEGIN:DAYLIGHT
TZOFFSETFROM:-0600
TZOFFSETTO:-0500
TZNAME:CDT
DTSTART:20250309T080000
END:DAYLIGHT
BEGIN:STANDARD
TZOFFSETFROM:-0500
TZOFFSETTO:-0600
TZNAME:CST
DTSTART:20251102T070000
END:STANDARD
END:VTIMEZONE
BEGIN:VEVENT
DTSTART;TZID=America/Chicago:20240218T120000
DTEND;TZID=America/Chicago:20240218T160000
DTSTAMP:20260421T164629
CREATED:20240107T171625Z
LAST-MODIFIED:20240107T171625Z
UID:17835-1708257600-1708272000@hgms.org
SUMMARY:Beaded Bezel Cabochon Class (Feb 18\, 2024)
DESCRIPTION:Date:   Sunday\, February 18th\, from Noon to 4:00 PM \nCost:   Member Cost $45.00 ; Non-Member Cost $55.00 \nDescription:  Learn to create a beaded bezel on on one of your own cabochons. You will use Peyote stitch with small seed beads to surround your cabochon in colors designed to complement individual cabochons.  This is a beginner to moderate level class.  Beads\, needles\, and thread\, bead mats and tool usage are included.  Bring your own cabochon; or\, you may purchase one at the class (prices vary).  Bring magnification.  This simple and fast method creates beautiful and unique settings for your cabochons in just a few hours. Examples of Peyote projects will be available for understanding the versatility of this popular beading stitch. Oval cabochons are recommended for beginners; however\, this technique can be used on many shapes with a little experience. \nCost includes Beads\, thread\, and needle.  Cabochon provided by student\, or you may purchase a cabochon at the class. \nMaximum of 8-students \nInstructor: Class taught by Maggie Manley \nLocation: HGMS Clubhouse Center Classroom \n          \nBring:  Cabochon of your choice (small oval shape is easier to finish within class time frame.  Beading needle (#10 or 12)\, Magnification and project lamp\, if needed.  All other supplies provided (beads\, thread)\, tool usage is also included in cost of class. \n 
URL:https://hgms.org/event/beaded-bezel-cabochon-class-feb-18-2024/
LOCATION:HGMS Clubhouse\, 10805 Brooklet Dr.\, Houston\, TX\, 77099\, United States
CATEGORIES:Classes
ATTACH;FMTTYPE=image/jpeg:https://hgms.org/wp-content/uploads/2023/08/Beaded-Bezel-front-Copy.jpg
ORGANIZER;CN="HGMS Education":MAILTO:classes@hgms.org
END:VEVENT
END:VCALENDAR