BEGIN:VCALENDAR
VERSION:2.0
PRODID:-//HGMS - Houston Gem &amp; Mineral Society - ECPv6.15.20//NONSGML v1.0//EN
CALSCALE:GREGORIAN
METHOD:PUBLISH
X-ORIGINAL-URL:https://hgms.org
X-WR-CALDESC:Events for HGMS - Houston Gem &amp; Mineral Society
REFRESH-INTERVAL;VALUE=DURATION:PT1H
X-Robots-Tag:noindex
X-PUBLISHED-TTL:PT1H
BEGIN:VTIMEZONE
TZID:America/Chicago
BEGIN:DAYLIGHT
TZOFFSETFROM:-0600
TZOFFSETTO:-0500
TZNAME:CDT
DTSTART:20220313T080000
END:DAYLIGHT
BEGIN:STANDARD
TZOFFSETFROM:-0500
TZOFFSETTO:-0600
TZNAME:CST
DTSTART:20221106T070000
END:STANDARD
BEGIN:DAYLIGHT
TZOFFSETFROM:-0600
TZOFFSETTO:-0500
TZNAME:CDT
DTSTART:20230312T080000
END:DAYLIGHT
BEGIN:STANDARD
TZOFFSETFROM:-0500
TZOFFSETTO:-0600
TZNAME:CST
DTSTART:20231105T070000
END:STANDARD
BEGIN:DAYLIGHT
TZOFFSETFROM:-0600
TZOFFSETTO:-0500
TZNAME:CDT
DTSTART:20240310T080000
END:DAYLIGHT
BEGIN:STANDARD
TZOFFSETFROM:-0500
TZOFFSETTO:-0600
TZNAME:CST
DTSTART:20241103T070000
END:STANDARD
END:VTIMEZONE
BEGIN:VEVENT
DTSTART;TZID=America/Chicago:20230913T120000
DTEND;TZID=America/Chicago:20230913T160000
DTSTAMP:20260423T052948
CREATED:20230808T224440Z
LAST-MODIFIED:20230808T224440Z
UID:15860-1694606400-1694620800@hgms.org
SUMMARY:Tree of Life Wire Wrapped Pendant (Sept 13\, 2023)
DESCRIPTION:Wednesday\, September 13th from Noon to 4:00 PM.  \nWIRE WRAPPING – TREE OF LIFE PENDANT:  Learn to create a wire-wrapped tree-of-life onto a cabochon. Maggie Manley will teach you step-by-step to create a bezel / tree-of-life on a cabochon\, as shown on the attached photos.  With just a little patience and beginning wire wrapping skills you will be thrilled with your pendant. \nCOST:  $45.00 for HGMS members\, $55.00 for non-members + cost of cabochon\, if desired. \nMaximum of 6-students. \nWire is and tool usage is included. \nCabochon provided by student\, or may be purchased at the class. \n   
URL:https://hgms.org/event/tree-of-life-wire-wrapped-pendant-09132023/
LOCATION:HGMS Clubhouse\, 10805 Brooklet Dr.\, Houston\, TX\, 77099\, United States
CATEGORIES:Classes
ATTACH;FMTTYPE=image/jpeg:https://hgms.org/wp-content/uploads/2023/01/Tree-of-Life-Pendant-2.jpg
ORGANIZER;CN="HGMS Education":MAILTO:classes@hgms.org
END:VEVENT
BEGIN:VEVENT
DTSTART;TZID=America/Chicago:20230927T120000
DTEND;TZID=America/Chicago:20230927T160000
DTSTAMP:20260423T052948
CREATED:20230808T225618Z
LAST-MODIFIED:20230808T225618Z
UID:15864-1695816000-1695830400@hgms.org
SUMMARY:Beaded Bezel Cabochon (Sept 27\, 2023)
DESCRIPTION:Wednesday\, September 27th from Noon to 4:00 PM \nBEADED BEZEL CABOCHON:   Learn to create a beaded bezel on on one of your own cabochons. You will use Peyote stitch with small seed beads to surround your cabochon in colors designed to complement individual cabochons.  This is a beginner to moderate level class.  Beads\, needles\, and thread\, bead mats and tool usage are included.  Bring your own cabochon; or\, you may purchase one at the class (prices vary).  Bring magnification.  This simple and fast method creates beautiful and unique settings for your cabochons in just a few hours. Examples of Peyote projects will be available for understanding the versatility of this popular beading stitch. Oval cabochons are recommended for beginners; however\, this technique can be used on many shapes with a little experience.  Wednesday\, September 27th from Noon to 4:00 PM.   \nCOST:  $45.00 for HGMS members\, $55.00 for non-members. \nCost includes Beads\, thread\, and needle. \nCabochon provided by student\, or you may purchase a cabochon at the class. \nMaximum of 8-students. \nClass taught by Maggie Manley. \n  
URL:https://hgms.org/event/beaded-bezel-cabochon-sept-27-2023/
LOCATION:HGMS Clubhouse\, 10805 Brooklet Dr.\, Houston\, TX\, 77099\, United States
CATEGORIES:Classes
ATTACH;FMTTYPE=image/jpeg:https://hgms.org/wp-content/uploads/2023/08/Beaded-Bezel-front-Copy.jpg
ORGANIZER;CN="HGMS Education":MAILTO:classes@hgms.org
END:VEVENT
END:VCALENDAR