BEGIN:VCALENDAR
VERSION:2.0
PRODID:-//HGMS - Houston Gem &amp; Mineral Society - ECPv6.15.20//NONSGML v1.0//EN
CALSCALE:GREGORIAN
METHOD:PUBLISH
X-WR-CALNAME:HGMS - Houston Gem &amp; Mineral Society
X-ORIGINAL-URL:https://hgms.org
X-WR-CALDESC:Events for HGMS - Houston Gem &amp; Mineral Society
REFRESH-INTERVAL;VALUE=DURATION:PT1H
X-Robots-Tag:noindex
X-PUBLISHED-TTL:PT1H
BEGIN:VTIMEZONE
TZID:America/Chicago
BEGIN:DAYLIGHT
TZOFFSETFROM:-0600
TZOFFSETTO:-0500
TZNAME:CDT
DTSTART:20210314T080000
END:DAYLIGHT
BEGIN:STANDARD
TZOFFSETFROM:-0500
TZOFFSETTO:-0600
TZNAME:CST
DTSTART:20211107T070000
END:STANDARD
BEGIN:DAYLIGHT
TZOFFSETFROM:-0600
TZOFFSETTO:-0500
TZNAME:CDT
DTSTART:20220313T080000
END:DAYLIGHT
BEGIN:STANDARD
TZOFFSETFROM:-0500
TZOFFSETTO:-0600
TZNAME:CST
DTSTART:20221106T070000
END:STANDARD
BEGIN:DAYLIGHT
TZOFFSETFROM:-0600
TZOFFSETTO:-0500
TZNAME:CDT
DTSTART:20230312T080000
END:DAYLIGHT
BEGIN:STANDARD
TZOFFSETFROM:-0500
TZOFFSETTO:-0600
TZNAME:CST
DTSTART:20231105T070000
END:STANDARD
END:VTIMEZONE
BEGIN:VEVENT
DTSTART;TZID=America/Chicago:20220908T160000
DTEND;TZID=America/Chicago:20220908T200000
DTSTAMP:20260425T094705
CREATED:20220822T175112Z
LAST-MODIFIED:20220906T154224Z
UID:12213-1662652800-1662667200@hgms.org
SUMMARY:Intro to Enamels
DESCRIPTION:Dates & Time: Thursday\, September 8th from 4 PM to 8 PM \nINTRODUCTION TO ENAMELS CLASS will be taught by Jeanean Slamen on Thursday\, September 8th from 4 PM to 8 PM in the Center Classroom & Jewelry Studio. Join us to learn foundation enameling skills using a butane torch. This four hour class will explore both opaque and transparent lead-free enamels on copper forms using safe and efficient processes. \nCompleting this class will give you the skills to take more specialized enameling classes coming this Fall and work on your own at home or in the HGMS studio. For safety\, students must bring a close-fitting mask (not a pleated-style mask) to wear while sifting the enamel powders. \nCost: HGMS members $57; Non-Members $72. Cost includes a $12.00 Material Fee. \nThere is a minimum of two students and a maximum of five students per class session. Students must complete registration 48 hours prior to the class meeting so that materials and tool kits can be assembled. \nJeanean may provide additional enameling classes: Exciting Enameling Surfaces\, Foils & Wire in Enamels\, Drawing & Painting on Enamel Surfaces\, Textured Metal for Enameling\, Raku & Crackle Enamel\, Making Settings for Your Enamels \n  \nJeanean Slamen took an undergraduate metalsmithing class eight years ago while working toward a fine arts degree in painting. Since graduating she’s been a jewelry maker who occasionally paints.
URL:https://hgms.org/event/intro-to-enamels-09082022/
LOCATION:HGMS Clubhouse\, 10805 Brooklet Dr.\, Houston\, TX\, 77099\, United States
CATEGORIES:Classes
ATTACH;FMTTYPE=image/jpeg:https://hgms.org/wp-content/uploads/2022/08/P1.jpg
ORGANIZER;CN="HGMS Education":MAILTO:classes@hgms.org
END:VEVENT
BEGIN:VEVENT
DTSTART;TZID=America/Chicago:20220916T170000
DTEND;TZID=America/Chicago:20220916T200000
DTSTAMP:20260425T094705
CREATED:20220822T182250Z
LAST-MODIFIED:20220916T162843Z
UID:12218-1663347600-1663358400@hgms.org
SUMMARY:Small Torches for Jewelry Making Class
DESCRIPTION:Dates & Time: Friday\, September 16th from 5:00 PM to 8:00 PM \nSMALL TORCHES FOR JEWELRY MAKING (STJM-091622-JS) will be taught by Jeanean Slamen on Friday\, September 16th from 5:00 PM to 8:00 PM. This hands-on class will benefit aspiring jewelry makers who are “torch-curious”\, or hesitant about operating a torch. Affordable and portable butane “micro torches” come in a variety of sizes and capabilities. You’ll test test-drive several types of micro-torches in a safe environment while trying out annealing\, fusing\, melting and soldering fine silver and sterling silver. The instructor will discuss torch safety\, demonstrate torch techniques\, and discuss how to set up a soldering station at home. All materials are included in the class price. \nCost: HGMS Members $55.00; Non-Members $70.00 \nMinimum 2-students; Maximum 4-students \nNOTE: Registration for this class closes 48 hours prior to the start of class so that material kits can be prepared. \nJeanean Slamen fell in love with an undergraduate metalsmithing class eight years ago while working on a fine arts degree in painting. Since graduating\, she has been focused\non many areas of lapidary and metalsmithing. Jeanean intends to offer other jewelry making classes building on the skills taught in this class.
URL:https://hgms.org/event/small-torches-for-jewelry-making-class-09162022/
LOCATION:HGMS Clubhouse\, 10805 Brooklet Dr.\, Houston\, TX\, 77099\, United States
CATEGORIES:Classes
ATTACH;FMTTYPE=image/jpeg:https://hgms.org/wp-content/uploads/2022/02/small-torches_300x200.jpg
ORGANIZER;CN="HGMS Education":MAILTO:classes@hgms.org
END:VEVENT
BEGIN:VEVENT
DTSTART;TZID=America/Chicago:20220929T160000
DTEND;TZID=America/Chicago:20220929T200000
DTSTAMP:20260425T094705
CREATED:20220904T144828Z
LAST-MODIFIED:20220922T010835Z
UID:12275-1664467200-1664481600@hgms.org
SUMMARY:Intro to Enamels
DESCRIPTION:Dates & Time: Thursday\, September 29th from 4 PM to 8 PM \nINTRODUCTION TO ENAMELS CLASS will be taught by Jeanean Slamen on Thursday\, September 29th from 4 PM to 8 PM in the Center Classroom & Jewelry Studio. Join us to learn foundation enameling skills using a butane torch. This 4-hour class will explore both opaque and transparent lead-free enamels on copper forms using safe and efficient\nprocesses. \nCompleting this class will give you the skills to take more specialized enameling classes coming this Fall and work on your own at home or in the HGMS studio. \nFor safety\, students must bring a close-fitting mask (not a pleated-style mask) to wear while sifting the enamel powders. \nCost: HGMS members $57; Non-Members $72. Cost includes a $12.00 Material Fee. \n\nThere is a minimum of 2 students and a maximum of 5\nRegistration closes at 4:00 PM on Tuesday\, September 27th\nStudents must be 18 years of age or older to participate in this class \n\nJeanean is preparing to offer additional enameling classes including: Enameling Surfaces\, Foils & Wire in Enamels\, Drawing & Painting on Enamel Surfaces\, Textured Metal for Enameling\, Raku & Crackle Enamel\, Making Settings for Your Enamels
URL:https://hgms.org/event/intro-to-enamels-09292022/
LOCATION:HGMS Clubhouse\, 10805 Brooklet Dr.\, Houston\, TX\, 77099\, United States
CATEGORIES:Classes
ATTACH;FMTTYPE=image/jpeg:https://hgms.org/wp-content/uploads/2022/08/P1.jpg
ORGANIZER;CN="HGMS Education":MAILTO:classes@hgms.org
END:VEVENT
END:VCALENDAR