BEGIN:VCALENDAR
VERSION:2.0
PRODID:-//HGMS - Houston Gem &amp; Mineral Society - ECPv6.15.20//NONSGML v1.0//EN
CALSCALE:GREGORIAN
METHOD:PUBLISH
X-ORIGINAL-URL:https://hgms.org
X-WR-CALDESC:Events for HGMS - Houston Gem &amp; Mineral Society
REFRESH-INTERVAL;VALUE=DURATION:PT1H
X-Robots-Tag:noindex
X-PUBLISHED-TTL:PT1H
BEGIN:VTIMEZONE
TZID:America/Chicago
BEGIN:DAYLIGHT
TZOFFSETFROM:-0600
TZOFFSETTO:-0500
TZNAME:CDT
DTSTART:20220313T080000
END:DAYLIGHT
BEGIN:STANDARD
TZOFFSETFROM:-0500
TZOFFSETTO:-0600
TZNAME:CST
DTSTART:20221106T070000
END:STANDARD
BEGIN:DAYLIGHT
TZOFFSETFROM:-0600
TZOFFSETTO:-0500
TZNAME:CDT
DTSTART:20230312T080000
END:DAYLIGHT
BEGIN:STANDARD
TZOFFSETFROM:-0500
TZOFFSETTO:-0600
TZNAME:CST
DTSTART:20231105T070000
END:STANDARD
BEGIN:DAYLIGHT
TZOFFSETFROM:-0600
TZOFFSETTO:-0500
TZNAME:CDT
DTSTART:20240310T080000
END:DAYLIGHT
BEGIN:STANDARD
TZOFFSETFROM:-0500
TZOFFSETTO:-0600
TZNAME:CST
DTSTART:20241103T070000
END:STANDARD
END:VTIMEZONE
BEGIN:VEVENT
DTSTART;TZID=America/Chicago:20231016T090000
DTEND;TZID=America/Chicago:20231017T120000
DTSTAMP:20260424T044507
CREATED:20230903T214140Z
LAST-MODIFIED:20230903T214140Z
UID:16092-1697446800-1697544000@hgms.org
SUMMARY:Faceting 101 - 2 Day Class Oct 16-17
DESCRIPTION:FACETING 101: Monday\, October 16th and Tuesday\, October 17th\nThis 2-part class will give a basic understanding of the Faceting process. We will take a rough stone to a finished state\, learn how to use and care for Faceting equipment\, and discuss how to read Faceting diagrams. All equipment and supplies for this class will be provided. \nDate: October 16 (Part 1) and October 17 (Part 2)\nTime: 9am till noon each day. (First half of the class will be Monday\, October 16th.\nSecond half of class will be Tuesday\, October 17th\nLocation: HGMS Clubhouse\nCost: $225.00 for HGMS members; $250 for non-HGMS members\nClass size: Limited to two-students\nInstructor: Heidi Shelley \nIf you are interested in future Faceting classes E-mail:  Classes@HGMS.org to be placed on a list and Heidi may arrange for more faceting classes in the future
URL:https://hgms.org/event/faceting-101-oct-16-17/
LOCATION:HGMS Clubhouse\, 10805 Brooklet Dr.\, Houston\, TX\, 77099\, United States
CATEGORIES:Classes
ATTACH;FMTTYPE=image/jpeg:https://hgms.org/wp-content/uploads/2020/11/Faceting-Tile.jpg
ORGANIZER;CN="HGMS Education":MAILTO:classes@hgms.org
END:VEVENT
END:VCALENDAR