BEGIN:VCALENDAR
VERSION:2.0
PRODID:-//HGMS - Houston Gem &amp; Mineral Society - ECPv6.15.20//NONSGML v1.0//EN
CALSCALE:GREGORIAN
METHOD:PUBLISH
X-ORIGINAL-URL:https://hgms.org
X-WR-CALDESC:Events for HGMS - Houston Gem &amp; Mineral Society
REFRESH-INTERVAL;VALUE=DURATION:PT1H
X-Robots-Tag:noindex
X-PUBLISHED-TTL:PT1H
BEGIN:VTIMEZONE
TZID:America/Chicago
BEGIN:DAYLIGHT
TZOFFSETFROM:-0600
TZOFFSETTO:-0500
TZNAME:CDT
DTSTART:20230312T080000
END:DAYLIGHT
BEGIN:STANDARD
TZOFFSETFROM:-0500
TZOFFSETTO:-0600
TZNAME:CST
DTSTART:20231105T070000
END:STANDARD
BEGIN:DAYLIGHT
TZOFFSETFROM:-0600
TZOFFSETTO:-0500
TZNAME:CDT
DTSTART:20240310T080000
END:DAYLIGHT
BEGIN:STANDARD
TZOFFSETFROM:-0500
TZOFFSETTO:-0600
TZNAME:CST
DTSTART:20241103T070000
END:STANDARD
BEGIN:DAYLIGHT
TZOFFSETFROM:-0600
TZOFFSETTO:-0500
TZNAME:CDT
DTSTART:20250309T080000
END:DAYLIGHT
BEGIN:STANDARD
TZOFFSETFROM:-0500
TZOFFSETTO:-0600
TZNAME:CST
DTSTART:20251102T070000
END:STANDARD
END:VTIMEZONE
BEGIN:VEVENT
DTSTART;TZID=America/Chicago:20241125T120000
DTEND;TZID=America/Chicago:20241125T160000
DTSTAMP:20260425T114250
CREATED:20241021T161639Z
LAST-MODIFIED:20241021T162729Z
UID:20141-1732536000-1732550400@hgms.org
SUMMARY:Cabochon 101 (Nov 25\, 2024)
DESCRIPTION:Date:  Monday\, November 25th\, from 12 PM to 4 PM\n\nCost:  Member Cost:  $60.00; Non-Member Cost:  $85.00\nLocation: Center Classroom and Lapidary Shop\nInstructor: Taught by Sharon Halton\, Shop Manager\n\n\nDescription: This popular class covers the basic use of the Lapidary Shop equipment and teaches how to properly and efficiently cut\, shape\, and polish a cabochon.  The student will leave with one or two completed cabochons.  This class is highly recommended for anyone who wants to use the Lapidary Shop and it is a required class for the Advanced Shapes Class that is being newly introduced into HGMS Class listing. \n\nThere is a 5-person limit for this class; so\, sign up promptly as it is a popular class.\nAll supplies & equipment are provided.\nStudents must be 15 years +
URL:https://hgms.org/event/cabochon-101-nov-25-2024/
LOCATION:HGMS Clubhouse\, 10805 Brooklet Dr.\, Houston\, TX\, 77099\, United States
CATEGORIES:Classes
ATTACH;FMTTYPE=image/jpeg:https://hgms.org/wp-content/uploads/2023/05/cabs.jpg
ORGANIZER;CN="HGMS Education":MAILTO:classes@hgms.org
END:VEVENT
END:VCALENDAR