BEGIN:VCALENDAR
VERSION:2.0
PRODID:-//HGMS - Houston Gem &amp; Mineral Society - ECPv6.15.18//NONSGML v1.0//EN
CALSCALE:GREGORIAN
METHOD:PUBLISH
X-ORIGINAL-URL:https://hgms.org
X-WR-CALDESC:Events for HGMS - Houston Gem &amp; Mineral Society
REFRESH-INTERVAL;VALUE=DURATION:PT1H
X-Robots-Tag:noindex
X-PUBLISHED-TTL:PT1H
BEGIN:VTIMEZONE
TZID:America/Chicago
BEGIN:DAYLIGHT
TZOFFSETFROM:-0600
TZOFFSETTO:-0500
TZNAME:CDT
DTSTART:20230312T080000
END:DAYLIGHT
BEGIN:STANDARD
TZOFFSETFROM:-0500
TZOFFSETTO:-0600
TZNAME:CST
DTSTART:20231105T070000
END:STANDARD
BEGIN:DAYLIGHT
TZOFFSETFROM:-0600
TZOFFSETTO:-0500
TZNAME:CDT
DTSTART:20240310T080000
END:DAYLIGHT
BEGIN:STANDARD
TZOFFSETFROM:-0500
TZOFFSETTO:-0600
TZNAME:CST
DTSTART:20241103T070000
END:STANDARD
BEGIN:DAYLIGHT
TZOFFSETFROM:-0600
TZOFFSETTO:-0500
TZNAME:CDT
DTSTART:20250309T080000
END:DAYLIGHT
BEGIN:STANDARD
TZOFFSETFROM:-0500
TZOFFSETTO:-0600
TZNAME:CST
DTSTART:20251102T070000
END:STANDARD
END:VTIMEZONE
BEGIN:VEVENT
DTSTART;TZID=America/Chicago:20241108T090000
DTEND;TZID=America/Chicago:20241110T170000
DTSTAMP:20260419T140828
CREATED:20240909T032254Z
LAST-MODIFIED:20240909T032254Z
UID:19898-1731056400-1731258000@hgms.org
SUMMARY:HGMS Annual Show 2024
DESCRIPTION:Join us for the 71st Annual HGMS Gem\, Mineral\, Jewelry & Fossil Show November 8-10\, 2024! \nTimes: Friday\, November 8 and Saturday\, November 9\, 9am – 6pm. On Sunday\, November 10\, 10am – 5pm \nTickets: $12\, FREE Entry for age 10 & under \nFREE Parking at Humble Civic Center \nIf purchasing multiple tickets\, each individual ticket will have a separate QR code used for checking in at the event. \nUpon arrival you will receive a paper ticket stub for re-entry on subsequent days and for a chance at winning door prizes. Please proceed straight to the ticket-takers inside for check-in. \nIf one person is purchasing a group of tickets for attendees who might arrive at separate times\, remember to forward QR code email to them for individual check-in. When purchasing multiple tickets\, you will have the option to enter individual attendee names and emails for tickets to be sent directly to them at time of purchase.
URL:https://hgms.org/event/hgms-annual-show-2024/
LOCATION:Humble Civic Center\, 8233 Will Clayton Pkwy\, Humble\, TX\, 77338\, United States
CATEGORIES:Annual Show
ATTACH;FMTTYPE=image/jpeg:https://hgms.org/wp-content/uploads/2024/09/2024-postcard-front-web.jpg
END:VEVENT
END:VCALENDAR