BEGIN:VCALENDAR
VERSION:2.0
PRODID:-//HGMS - Houston Gem &amp; Mineral Society - ECPv6.15.20//NONSGML v1.0//EN
CALSCALE:GREGORIAN
METHOD:PUBLISH
X-ORIGINAL-URL:https://hgms.org
X-WR-CALDESC:Events for HGMS - Houston Gem &amp; Mineral Society
REFRESH-INTERVAL;VALUE=DURATION:PT1H
X-Robots-Tag:noindex
X-PUBLISHED-TTL:PT1H
BEGIN:VTIMEZONE
TZID:America/Chicago
BEGIN:DAYLIGHT
TZOFFSETFROM:-0600
TZOFFSETTO:-0500
TZNAME:CDT
DTSTART:20210314T080000
END:DAYLIGHT
BEGIN:STANDARD
TZOFFSETFROM:-0500
TZOFFSETTO:-0600
TZNAME:CST
DTSTART:20211107T070000
END:STANDARD
BEGIN:DAYLIGHT
TZOFFSETFROM:-0600
TZOFFSETTO:-0500
TZNAME:CDT
DTSTART:20220313T080000
END:DAYLIGHT
BEGIN:STANDARD
TZOFFSETFROM:-0500
TZOFFSETTO:-0600
TZNAME:CST
DTSTART:20221106T070000
END:STANDARD
BEGIN:DAYLIGHT
TZOFFSETFROM:-0600
TZOFFSETTO:-0500
TZNAME:CDT
DTSTART:20230312T080000
END:DAYLIGHT
BEGIN:STANDARD
TZOFFSETFROM:-0500
TZOFFSETTO:-0600
TZNAME:CST
DTSTART:20231105T070000
END:STANDARD
END:VTIMEZONE
BEGIN:VEVENT
DTSTART;TZID=America/Chicago:20221111T090000
DTEND;TZID=America/Chicago:20221113T170000
DTSTAMP:20260425T094702
CREATED:20220915T172113Z
LAST-MODIFIED:20220921T205823Z
UID:12852-1668157200-1668358800@hgms.org
SUMMARY:HGMS 2022 Annual Show
DESCRIPTION:HGMS 2022 Annual Show ticket – good for all 3 days. \nIf purchasing multiple tickets\, each individual ticket will have a separate QR code used for checking in at the event. \nUpon arrival you will receive a paper ticket stub for re-entry on subsequent days and for a chance at winning door prizes. Please proceed straight to the ticket-takers inside for check-in. \nIf one person is purchasing a group of tickets for attendees who might arrive at separate times\, remember to forward QR code email to them for individual check-in. When purchasing multiple tickets\, you will have the option to enter individual attendee names and emails for tickets to be sent directly to them at time of purchase.
URL:https://hgms.org/event/2022-annual-show-tickets/
LOCATION:Humble Civic Center\, 8233 Will Clayton Pkwy\, Humble\, TX\, 77338\, United States
CATEGORIES:Annual Show
ATTACH;FMTTYPE=image/jpeg:https://hgms.org/wp-content/uploads/2022/04/2022-flier-front-4-5x5-75_300dpi-websitel.jpg
END:VEVENT
BEGIN:VEVENT
DTSTART;TZID=America/Chicago:20221111T150000
DTEND;TZID=America/Chicago:20221111T173000
DTSTAMP:20260425T094702
CREATED:20221011T191032Z
LAST-MODIFIED:20221109T231255Z
UID:13062-1668178800-1668187800@hgms.org
SUMMARY:Beaded Spider
DESCRIPTION:Dates & Time: Friday\, November 11th – 3:00PM – 5:30PM \nMaggie Manley will teach you to make a beautiful beaded spider using wire and various beads. \nCost $25.00; All material and tools are provided; Duration 2-1/2 hours; Minimum age is 14. \nLocation:  Humble Civic Center\, main corridor\, adjacent to West entry.
URL:https://hgms.org/event/beaded-spider/
LOCATION:Humble Civic Center\, 8233 Will Clayton Pkwy\, Humble\, TX\, 77338\, United States
CATEGORIES:Annual Show Classes
ATTACH;FMTTYPE=image/jpeg:https://hgms.org/wp-content/uploads/2022/10/Beaded-Spider-rotated.jpg
END:VEVENT
BEGIN:VEVENT
DTSTART;TZID=America/Chicago:20221112T103000
DTEND;TZID=America/Chicago:20221112T120000
DTSTAMP:20260425T094702
CREATED:20221011T192111Z
LAST-MODIFIED:20221109T224825Z
UID:13067-1668249000-1668254400@hgms.org
SUMMARY:TWO SILVER STACKING RINGS
DESCRIPTION:Dates & Time: Saturday\, November 12th – 10:30AM – Noon \nIn this class you’ll learn to use a jeweler’s saw and a small butane torch to make at least two sterling silver stacking rings similar to the photo from beautiful patterned wire. \nThis class has a minimum of 3-students & maximum of 4-students.  Jeanean Slamen is the teacher.  Cost is $50.00; Fee includes all materials and tool usage; Duration is 1-1/2 hours.  Minimum age is 18 years. \nLocation:  Humble Civic Center\, main corridor\, adjacent to West entry.
URL:https://hgms.org/event/two-silver-stacking-rings/
LOCATION:Humble Civic Center\, 8233 Will Clayton Pkwy\, Humble\, TX\, 77338\, United States
CATEGORIES:Annual Show Classes
ATTACH;FMTTYPE=image/jpeg:https://hgms.org/wp-content/uploads/2022/10/stacking-rings_small-JS-Show-Class.jpg
ORGANIZER;CN="HGMS Education":MAILTO:classes@hgms.org
END:VEVENT
END:VCALENDAR