BEGIN:VCALENDAR
VERSION:2.0
PRODID:-//HGMS - Houston Gem &amp; Mineral Society - ECPv6.15.18//NONSGML v1.0//EN
CALSCALE:GREGORIAN
METHOD:PUBLISH
X-WR-CALNAME:HGMS - Houston Gem &amp; Mineral Society
X-ORIGINAL-URL:https://hgms.org
X-WR-CALDESC:Events for HGMS - Houston Gem &amp; Mineral Society
REFRESH-INTERVAL;VALUE=DURATION:PT1H
X-Robots-Tag:noindex
X-PUBLISHED-TTL:PT1H
BEGIN:VTIMEZONE
TZID:America/Chicago
BEGIN:DAYLIGHT
TZOFFSETFROM:-0600
TZOFFSETTO:-0500
TZNAME:CDT
DTSTART:20250309T080000
END:DAYLIGHT
BEGIN:STANDARD
TZOFFSETFROM:-0500
TZOFFSETTO:-0600
TZNAME:CST
DTSTART:20251102T070000
END:STANDARD
BEGIN:DAYLIGHT
TZOFFSETFROM:-0600
TZOFFSETTO:-0500
TZNAME:CDT
DTSTART:20260308T080000
END:DAYLIGHT
BEGIN:STANDARD
TZOFFSETFROM:-0500
TZOFFSETTO:-0600
TZNAME:CST
DTSTART:20261101T070000
END:STANDARD
BEGIN:DAYLIGHT
TZOFFSETFROM:-0600
TZOFFSETTO:-0500
TZNAME:CDT
DTSTART:20270314T080000
END:DAYLIGHT
BEGIN:STANDARD
TZOFFSETFROM:-0500
TZOFFSETTO:-0600
TZNAME:CST
DTSTART:20271107T070000
END:STANDARD
END:VTIMEZONE
BEGIN:VEVENT
DTSTART;TZID=America/Chicago:20260519T193000
DTEND;TZID=America/Chicago:20260519T210000
DTSTAMP:20260422T173523
CREATED:20211224T193622Z
LAST-MODIFIED:20211224T193622Z
UID:19230-1779219000-1779224400@hgms.org
SUMMARY:Paleo Section
DESCRIPTION:See the HGMS Events page for monthly topics and additional details.
URL:https://hgms.org/event/paleo-section/2026-05-19/
LOCATION:HGMS Clubhouse\, 10805 Brooklet Dr.\, Houston\, TX\, 77099\, United States
CATEGORIES:Meetings
END:VEVENT
BEGIN:VEVENT
DTSTART;TZID=America/Chicago:20260518T190000
DTEND;TZID=America/Chicago:20260518T210000
DTSTAMP:20260422T173523
CREATED:20250319T151411Z
LAST-MODIFIED:20250319T151411Z
UID:26350-1779130800-1779138000@hgms.org
SUMMARY:Lapidary Section
DESCRIPTION:See the HGMS Events page for monthly topic and additional details.
URL:https://hgms.org/event/lapidary-section/2026-05-18/
LOCATION:HGMS Clubhouse Main Meeting Room\, 10805 Brooklet\, Houston\, 77099\, United States
CATEGORIES:Meetings
END:VEVENT
BEGIN:VEVENT
DTSTART;TZID=America/Chicago:20260517T120000
DTEND;TZID=America/Chicago:20260517T170000
DTSTAMP:20260422T173523
CREATED:20260328T205154Z
LAST-MODIFIED:20260328T205216Z
UID:26614-1779019200-1779037200@hgms.org
SUMMARY:Forged Dangle Earrings (May 17\, 2026)
DESCRIPTION:Date: Sunday May 17\, 12:00 – 5:00 pm\nMax 6 students\, min 4  (sign up deadline is May 13)\nCost: $94 member; $117.50 nonmember – Adults Only\nLocation: HGMS Clubhouse jewelry studio\n\nLearn to make a pair of dangle earrings using blacksmith forging techniques modified for jewelry making! The class will cover creating intricate patterns with brass rods and using those to create simple dangle earrings. By using brass rods and gold-filled ear wires we will get the look of gold\, without the expense! Each student will create pair of earrings in their chosen length (from ½” to 2”).\n\nThis class is appropriate for the beginning silversmith. No prior metalsmithing knowledge is required. We will use the torch extensively\, but no soldering will be performed.\n\nStudents will learn to\no Forge patterns in wire rods\no Filling\, sawing and drilling\no Polishing\nMaterials provided by instructor\nClass to be held in clubhouse Jewelry Studio. Will overlap open studio hours but\nwill extend into after hours.\nStudents must bring a mask (N95 or KN95) – this is to protect your lungs\nfrom metal dust.
URL:https://hgms.org/event/forged-dangle-earrings-may-17-2026/
LOCATION:HGMS Clubhouse\, 10805 Brooklet Dr.\, Houston\, TX\, 77099\, United States
CATEGORIES:Classes
ATTACH;FMTTYPE=image/jpeg:https://hgms.org/wp-content/uploads/2026/03/Forged-dangle-earrings_silversmithing2.jpg
ORGANIZER;CN="HGMS Education":MAILTO:classes@hgms.org
END:VEVENT
BEGIN:VEVENT
DTSTART;TZID=America/Chicago:20260517T110000
DTEND;TZID=America/Chicago:20260517T160000
DTSTAMP:20260422T173523
CREATED:20250319T145402Z
LAST-MODIFIED:20250319T145402Z
UID:23051-1779015600-1779033600@hgms.org
SUMMARY:Open Shop - Sundays
DESCRIPTION:Shop available for HGMS Member Use Only – additional shop usage fees apply.
URL:https://hgms.org/event/open-shop-sundays/2026-05-17/
LOCATION:HGMS Clubhouse\, 10805 Brooklet Dr.\, Houston\, TX\, 77099\, United States
CATEGORIES:Open Shop
END:VEVENT
BEGIN:VEVENT
DTSTART;TZID=America/Chicago:20260516T100000
DTEND;TZID=America/Chicago:20260516T150000
DTSTAMP:20260422T173523
CREATED:20250319T145518Z
LAST-MODIFIED:20250319T145518Z
UID:23131-1778925600-1778943600@hgms.org
SUMMARY:Open Shop - Saturdays
DESCRIPTION:Shop available for HGMS Member Use Only – additional shop usage fees apply.
URL:https://hgms.org/event/open-shop-saturdays/2026-05-16/
LOCATION:HGMS Clubhouse\, 10805 Brooklet Dr.\, Houston\, TX\, 77099\, United States
CATEGORIES:Open Shop
END:VEVENT
BEGIN:VEVENT
DTSTART;TZID=America/Chicago:20260516T100000
DTEND;TZID=America/Chicago:20260516T120000
DTSTAMP:20260422T173523
CREATED:20211224T185336Z
LAST-MODIFIED:20211224T185336Z
UID:19208-1778925600-1778932800@hgms.org
SUMMARY:Youth Section
DESCRIPTION:Participants must be minimum age 5 to attend meetings and be accompanied by a parent or guardian at all times when at the clubhouse. Particpants must be active HGMS Youth Members or included in an active HGMS Family membership. \nMasks REQUIRED for all participants and observers. \nSee HGMS Events for additional program details.
URL:https://hgms.org/event/youth-section-10/2026-05-16/
LOCATION:TX
END:VEVENT
BEGIN:VEVENT
DTSTART;TZID=America/Chicago:20260515T080000
DTEND;TZID=America/Chicago:20260515T120000
DTSTAMP:20260422T173523
CREATED:20220805T220835Z
LAST-MODIFIED:20220805T220835Z
UID:19194-1778832000-1778846400@hgms.org
SUMMARY:Clubhouse Cleaning
DESCRIPTION:Our cleaning service comes every Friday between 8 am and 5 pm. Please avoid scheduling any activities (committee activities\, section meetings and classes) in the Club’s Main Meeting area.
URL:https://hgms.org/event/clubhouse-cleaning/2026-05-15/
LOCATION:TX
END:VEVENT
BEGIN:VEVENT
DTSTART;TZID=America/Chicago:20260514T100000
DTEND;TZID=America/Chicago:20260514T150000
DTSTAMP:20260422T173523
CREATED:20250319T145607Z
LAST-MODIFIED:20250319T145607Z
UID:23333-1778752800-1778770800@hgms.org
SUMMARY:Open Shop - Thursday
DESCRIPTION:Shop available for HGMS Member Use Only – additional shop usage fees apply.
URL:https://hgms.org/event/open-shop-thursday/2026-05-14/
LOCATION:HGMS Clubhouse\, 10805 Brooklet Dr.\, Houston\, TX\, 77099\, United States
CATEGORIES:Open Shop
END:VEVENT
BEGIN:VEVENT
DTSTART;TZID=America/Chicago:20260513T100000
DTEND;TZID=America/Chicago:20260513T200000
DTSTAMP:20260422T173523
CREATED:20250319T145714Z
LAST-MODIFIED:20250319T150154Z
UID:22895-1778666400-1778702400@hgms.org
SUMMARY:Open Shop - Wednesday
DESCRIPTION:Shop available for HGMS Member Use Only – additional shop usage fees apply.
URL:https://hgms.org/event/open-shop-wednesday/2026-05-13/
LOCATION:HGMS Clubhouse\, 10805 Brooklet Dr.\, Houston\, TX\, 77099\, United States
CATEGORIES:Open Shop
END:VEVENT
BEGIN:VEVENT
DTSTART;TZID=America/Chicago:20260510T110000
DTEND;TZID=America/Chicago:20260510T160000
DTSTAMP:20260422T173523
CREATED:20250319T145402Z
LAST-MODIFIED:20250319T145402Z
UID:23043-1778410800-1778428800@hgms.org
SUMMARY:Open Shop - Sundays
DESCRIPTION:Shop available for HGMS Member Use Only – additional shop usage fees apply.
URL:https://hgms.org/event/open-shop-sundays/2026-05-10/
LOCATION:HGMS Clubhouse\, 10805 Brooklet Dr.\, Houston\, TX\, 77099\, United States
CATEGORIES:Open Shop
END:VEVENT
BEGIN:VEVENT
DTSTART;TZID=America/Chicago:20260509T120000
DTEND;TZID=America/Chicago:20260509T170000
DTSTAMP:20260422T173523
CREATED:20260325T180242Z
LAST-MODIFIED:20260325T180302Z
UID:26581-1778328000-1778346000@hgms.org
SUMMARY:Wide Band Textured Rings Class (May 9\, 2026)
DESCRIPTION:Learn to make and texture a 6mm wide band ring from scratch. The class will cover creating rings and the fundamentals of finishing a piece (the key to making it look professional). If you’ve taken the Textured Stacking Rings class\, you’ll see how different working with a wide band from sheet is. Each student will create 1 silver ring. \nThis class is appropriate for the beginning silversmith or for expanding one’s knowledge of basic ring making. No prior metalsmithing knowledge is required. \n\nDate: May 9\, 2026 (sign up deadline is May 6)\n5 hour class (12:00 – 5:00pm)\nMax 6 students\, min 4\nCost: $130 member; $163 nonmember – ADULT ONLY\nStudents will learn to\n\nCalculate length needed for ring size\nForm & solder ring band\nPolishing & finishing\nTexturing using various tools\n\n\nMaterials provided by instructor\nClass to be held in clubhouse Jewelry Studio. Will overlap open studio hours but will extend into after hours.\nStudents must bring a mask (N95 or KN95) – this is to protect your lungs from metal dust.
URL:https://hgms.org/event/wide-band-textured-rings-class-may-9-2026/
LOCATION:HGMS Clubhouse\, 10805 Brooklet Dr.\, Houston\, TX\, 77099\, United States
CATEGORIES:Classes
ATTACH;FMTTYPE=image/jpeg:https://hgms.org/wp-content/uploads/2025/09/Wide-Band-Rings.jpg
ORGANIZER;CN="HGMS Education":MAILTO:classes@hgms.org
END:VEVENT
BEGIN:VEVENT
DTSTART;TZID=America/Chicago:20260509T100000
DTEND;TZID=America/Chicago:20260509T150000
DTSTAMP:20260422T173523
CREATED:20250319T145518Z
LAST-MODIFIED:20250319T145518Z
UID:23123-1778320800-1778338800@hgms.org
SUMMARY:Open Shop - Saturdays
DESCRIPTION:Shop available for HGMS Member Use Only – additional shop usage fees apply.
URL:https://hgms.org/event/open-shop-saturdays/2026-05-09/
LOCATION:HGMS Clubhouse\, 10805 Brooklet Dr.\, Houston\, TX\, 77099\, United States
CATEGORIES:Open Shop
END:VEVENT
BEGIN:VEVENT
DTSTART;TZID=America/Chicago:20260509T100000
DTEND;TZID=America/Chicago:20260509T130000
DTSTAMP:20260422T173523
CREATED:20211224T192957Z
LAST-MODIFIED:20211224T192957Z
UID:26327-1778320800-1778331600@hgms.org
SUMMARY:Beading Section
DESCRIPTION:See the HGMS Events page for monthly topic and additional details.
URL:https://hgms.org/event/beading-section-2-2023-10-21/2026-05-09/
LOCATION:HGMS Clubhouse\, 10805 Brooklet Dr.\, Houston\, TX\, 77099\, United States
CATEGORIES:Meetings
END:VEVENT
BEGIN:VEVENT
DTSTART;TZID=America/Chicago:20260508T080000
DTEND;TZID=America/Chicago:20260508T120000
DTSTAMP:20260422T173523
CREATED:20220805T220835Z
LAST-MODIFIED:20220805T220835Z
UID:19182-1778227200-1778241600@hgms.org
SUMMARY:Clubhouse Cleaning
DESCRIPTION:Our cleaning service comes every Friday between 8 am and 5 pm. Please avoid scheduling any activities (committee activities\, section meetings and classes) in the Club’s Main Meeting area.
URL:https://hgms.org/event/clubhouse-cleaning/2026-05-08/
LOCATION:TX
END:VEVENT
BEGIN:VEVENT
DTSTART;TZID=America/Chicago:20260507T100000
DTEND;TZID=America/Chicago:20260507T150000
DTSTAMP:20260422T173523
CREATED:20250319T145607Z
LAST-MODIFIED:20250319T145607Z
UID:23329-1778148000-1778166000@hgms.org
SUMMARY:Open Shop - Thursday
DESCRIPTION:Shop available for HGMS Member Use Only – additional shop usage fees apply.
URL:https://hgms.org/event/open-shop-thursday/2026-05-07/
LOCATION:HGMS Clubhouse\, 10805 Brooklet Dr.\, Houston\, TX\, 77099\, United States
CATEGORIES:Open Shop
END:VEVENT
BEGIN:VEVENT
DTSTART;TZID=America/Chicago:20260506T120000
DTEND;TZID=America/Chicago:20260506T150000
DTSTAMP:20260422T173523
CREATED:20211224T193453Z
LAST-MODIFIED:20250923T020422Z
UID:23834-1778068800-1778079600@hgms.org
SUMMARY:Day Light Section
DESCRIPTION:See the HGMS Events page for monthly topics and additional details.
URL:https://hgms.org/event/day-light-section/2026-05-06/
LOCATION:HGMS Clubhouse\, 10805 Brooklet Dr.\, Houston\, TX\, 77099\, United States
CATEGORIES:Meetings
END:VEVENT
BEGIN:VEVENT
DTSTART;TZID=America/Chicago:20260506T100000
DTEND;TZID=America/Chicago:20260506T200000
DTSTAMP:20260422T173523
CREATED:20250319T145714Z
LAST-MODIFIED:20250319T150153Z
UID:22894-1778061600-1778097600@hgms.org
SUMMARY:Open Shop - Wednesday
DESCRIPTION:Shop available for HGMS Member Use Only – additional shop usage fees apply.
URL:https://hgms.org/event/open-shop-wednesday/2026-05-06/
LOCATION:HGMS Clubhouse\, 10805 Brooklet Dr.\, Houston\, TX\, 77099\, United States
CATEGORIES:Open Shop
END:VEVENT
BEGIN:VEVENT
DTSTART;TZID=America/Chicago:20260505T193000
DTEND;TZID=America/Chicago:20260505T210000
DTSTAMP:20260422T173523
CREATED:20211224T184140Z
LAST-MODIFIED:20211224T184140Z
UID:19174-1778009400-1778014800@hgms.org
SUMMARY:Board Meeting
DESCRIPTION:This meeting is virtual.  Members who wish to observe the meeting may email president@hgms.org to receive the Zoom link.
URL:https://hgms.org/event/board-meeting-5/2026-05-05/
LOCATION:TX
CATEGORIES:Meetings
END:VEVENT
BEGIN:VEVENT
DTSTART;TZID=America/Chicago:20260503T110000
DTEND;TZID=America/Chicago:20260503T160000
DTSTAMP:20260422T173523
CREATED:20250319T145402Z
LAST-MODIFIED:20250319T145402Z
UID:23042-1777806000-1777824000@hgms.org
SUMMARY:Open Shop - Sundays
DESCRIPTION:Shop available for HGMS Member Use Only – additional shop usage fees apply.
URL:https://hgms.org/event/open-shop-sundays/2026-05-03/
LOCATION:HGMS Clubhouse\, 10805 Brooklet Dr.\, Houston\, TX\, 77099\, United States
CATEGORIES:Open Shop
END:VEVENT
BEGIN:VEVENT
DTSTART;TZID=America/Chicago:20260502T100000
DTEND;TZID=America/Chicago:20260502T150000
DTSTAMP:20260422T173523
CREATED:20250319T145518Z
LAST-MODIFIED:20250319T145518Z
UID:23122-1777716000-1777734000@hgms.org
SUMMARY:Open Shop - Saturdays
DESCRIPTION:Shop available for HGMS Member Use Only – additional shop usage fees apply.
URL:https://hgms.org/event/open-shop-saturdays/2026-05-02/
LOCATION:HGMS Clubhouse\, 10805 Brooklet Dr.\, Houston\, TX\, 77099\, United States
CATEGORIES:Open Shop
END:VEVENT
BEGIN:VEVENT
DTSTART;TZID=America/Chicago:20260502T100000
DTEND;TZID=America/Chicago:20260502T120000
DTSTAMP:20260422T173523
CREATED:20211224T185132Z
LAST-MODIFIED:20211224T185132Z
UID:19162-1777716000-1777723200@hgms.org
SUMMARY:Youth Section
DESCRIPTION:Participants must be minimum age 5 to attend meetings and be accompanied by a parent or guardian at all times when at the clubhouse. Particpants must be active HGMS Youth Members or included in an active HGMS Family membership. \nMasks REQUIRED for all participants and observers. \nSee HGMS Events for additional program details.
URL:https://hgms.org/event/youth-section-9-2022-02-05/2026-05-02/
LOCATION:HGMS Clubhouse\, 10805 Brooklet Dr.\, Houston\, TX\, 77099\, United States
CATEGORIES:Meetings
END:VEVENT
BEGIN:VEVENT
DTSTART;TZID=America/Chicago:20260501T080000
DTEND;TZID=America/Chicago:20260501T120000
DTSTAMP:20260422T173523
CREATED:20220805T220835Z
LAST-MODIFIED:20220805T220835Z
UID:19139-1777622400-1777636800@hgms.org
SUMMARY:Clubhouse Cleaning
DESCRIPTION:Our cleaning service comes every Friday between 8 am and 5 pm. Please avoid scheduling any activities (committee activities\, section meetings and classes) in the Club’s Main Meeting area.
URL:https://hgms.org/event/clubhouse-cleaning/2026-05-01/
LOCATION:TX
END:VEVENT
BEGIN:VEVENT
DTSTART;TZID=America/Chicago:20260430T100000
DTEND;TZID=America/Chicago:20260430T150000
DTSTAMP:20260422T173523
CREATED:20250319T145607Z
LAST-MODIFIED:20250319T145607Z
UID:23327-1777543200-1777561200@hgms.org
SUMMARY:Open Shop - Thursday
DESCRIPTION:Shop available for HGMS Member Use Only – additional shop usage fees apply.
URL:https://hgms.org/event/open-shop-thursday/2026-04-30/
LOCATION:HGMS Clubhouse\, 10805 Brooklet Dr.\, Houston\, TX\, 77099\, United States
CATEGORIES:Open Shop
END:VEVENT
BEGIN:VEVENT
DTSTART;TZID=America/Chicago:20260429T100000
DTEND;TZID=America/Chicago:20260429T200000
DTSTAMP:20260422T173523
CREATED:20250319T145714Z
LAST-MODIFIED:20250319T150153Z
UID:22893-1777456800-1777492800@hgms.org
SUMMARY:Open Shop - Wednesday
DESCRIPTION:Shop available for HGMS Member Use Only – additional shop usage fees apply.
URL:https://hgms.org/event/open-shop-wednesday/2026-04-29/
LOCATION:HGMS Clubhouse\, 10805 Brooklet Dr.\, Houston\, TX\, 77099\, United States
CATEGORIES:Open Shop
END:VEVENT
BEGIN:VEVENT
DTSTART;TZID=America/Chicago:20260428T193000
DTEND;TZID=America/Chicago:20260428T210000
DTSTAMP:20260422T173523
CREATED:20211224T182359Z
LAST-MODIFIED:20211224T182359Z
UID:19104-1777404600-1777410000@hgms.org
SUMMARY:General Meeting
DESCRIPTION:This meeting is open to members and visitors.  It occurs the 4th Tuesday of each month.  Check our Events page for monthly topics. \nHGMS Events \n 
URL:https://hgms.org/event/general-meeting-4/2026-04-28/
LOCATION:TX
CATEGORIES:Meetings
END:VEVENT
BEGIN:VEVENT
DTSTART;TZID=America/Chicago:20260426T120000
DTEND;TZID=America/Chicago:20260426T160000
DTSTAMP:20260422T173523
CREATED:20260319T195242Z
LAST-MODIFIED:20260319T195715Z
UID:26556-1777204800-1777219200@hgms.org
SUMMARY:Twisted Hoop Earrings Class (Apr 26\, 2026)
DESCRIPTION:Learn to make a pair of twisted hoop earrings from scratch! This class is appropriate for the beginning silversmith or for expanding one’s knowledge of basic silversmithing. Prior experience with silver soldering is highly recommended.\nThe class will cover the fundamentals of creating twists in square wire\, forming hoops\, and soldering earring posts. All pieces will be in sterling silver. Each student will leave with a pair of hoop earrings in the size of their choice (up to 5.5” length total). \n\nDate:  Sunday\, April 26th; Noon to 4:00 PM (Signup Deadline April 22)\n4-hour class (12:00 – 4:00pm)\nMax 6 students\, min 4\nCost – $115 members\, $144 non-member – Adults only\nClass will be held in the Jewelry Studio\, overlapping open clubhouse hours\nWe will discuss how to use these techniques to make other hoop earrings (simple or with twisted wire)
URL:https://hgms.org/event/twisted-hoop-earrings-apr-26-2026/
LOCATION:HGMS Clubhouse\, 10805 Brooklet Dr.\, Houston\, TX\, 77099\, United States
CATEGORIES:Classes
ATTACH;FMTTYPE=image/jpeg:https://hgms.org/wp-content/uploads/2024/02/twisted-hoop-earrings.jpg
ORGANIZER;CN="HGMS Education":MAILTO:classes@hgms.org
END:VEVENT
BEGIN:VEVENT
DTSTART;TZID=America/Chicago:20260426T110000
DTEND;TZID=America/Chicago:20260426T160000
DTSTAMP:20260422T173523
CREATED:20250319T145402Z
LAST-MODIFIED:20250319T145402Z
UID:23039-1777201200-1777219200@hgms.org
SUMMARY:Open Shop - Sundays
DESCRIPTION:Shop available for HGMS Member Use Only – additional shop usage fees apply.
URL:https://hgms.org/event/open-shop-sundays/2026-04-26/
LOCATION:HGMS Clubhouse\, 10805 Brooklet Dr.\, Houston\, TX\, 77099\, United States
CATEGORIES:Open Shop
END:VEVENT
BEGIN:VEVENT
DTSTART;TZID=America/Chicago:20260425T100000
DTEND;TZID=America/Chicago:20260425T150000
DTSTAMP:20260422T173523
CREATED:20250319T145518Z
LAST-MODIFIED:20250319T145518Z
UID:23120-1777111200-1777129200@hgms.org
SUMMARY:Open Shop - Saturdays
DESCRIPTION:Shop available for HGMS Member Use Only – additional shop usage fees apply.
URL:https://hgms.org/event/open-shop-saturdays/2026-04-25/
LOCATION:HGMS Clubhouse\, 10805 Brooklet Dr.\, Houston\, TX\, 77099\, United States
CATEGORIES:Open Shop
END:VEVENT
BEGIN:VEVENT
DTSTART;TZID=America/Chicago:20260424T080000
DTEND;TZID=America/Chicago:20260424T120000
DTSTAMP:20260422T173523
CREATED:20220805T220835Z
LAST-MODIFIED:20220805T220835Z
UID:19091-1777017600-1777032000@hgms.org
SUMMARY:Clubhouse Cleaning
DESCRIPTION:Our cleaning service comes every Friday between 8 am and 5 pm. Please avoid scheduling any activities (committee activities\, section meetings and classes) in the Club’s Main Meeting area.
URL:https://hgms.org/event/clubhouse-cleaning/2026-04-24/
LOCATION:TX
END:VEVENT
BEGIN:VEVENT
DTSTART;TZID=America/Chicago:20260423T100000
DTEND;TZID=America/Chicago:20260423T150000
DTSTAMP:20260422T173523
CREATED:20250319T145607Z
LAST-MODIFIED:20250319T145607Z
UID:23326-1776938400-1776956400@hgms.org
SUMMARY:Open Shop - Thursday
DESCRIPTION:Shop available for HGMS Member Use Only – additional shop usage fees apply.
URL:https://hgms.org/event/open-shop-thursday/2026-04-23/
LOCATION:HGMS Clubhouse\, 10805 Brooklet Dr.\, Houston\, TX\, 77099\, United States
CATEGORIES:Open Shop
END:VEVENT
END:VCALENDAR