BEGIN:VCALENDAR
VERSION:2.0
PRODID:-//HGMS - Houston Gem &amp; Mineral Society - ECPv6.15.18//NONSGML v1.0//EN
CALSCALE:GREGORIAN
METHOD:PUBLISH
X-WR-CALNAME:HGMS - Houston Gem &amp; Mineral Society
X-ORIGINAL-URL:https://hgms.org
X-WR-CALDESC:Events for HGMS - Houston Gem &amp; Mineral Society
REFRESH-INTERVAL;VALUE=DURATION:PT1H
X-Robots-Tag:noindex
X-PUBLISHED-TTL:PT1H
BEGIN:VTIMEZONE
TZID:America/Chicago
BEGIN:DAYLIGHT
TZOFFSETFROM:-0600
TZOFFSETTO:-0500
TZNAME:CDT
DTSTART:20250309T080000
END:DAYLIGHT
BEGIN:STANDARD
TZOFFSETFROM:-0500
TZOFFSETTO:-0600
TZNAME:CST
DTSTART:20251102T070000
END:STANDARD
BEGIN:DAYLIGHT
TZOFFSETFROM:-0600
TZOFFSETTO:-0500
TZNAME:CDT
DTSTART:20260308T080000
END:DAYLIGHT
BEGIN:STANDARD
TZOFFSETFROM:-0500
TZOFFSETTO:-0600
TZNAME:CST
DTSTART:20261101T070000
END:STANDARD
BEGIN:DAYLIGHT
TZOFFSETFROM:-0600
TZOFFSETTO:-0500
TZNAME:CDT
DTSTART:20270314T080000
END:DAYLIGHT
BEGIN:STANDARD
TZOFFSETFROM:-0500
TZOFFSETTO:-0600
TZNAME:CST
DTSTART:20271107T070000
END:STANDARD
END:VTIMEZONE
BEGIN:VEVENT
DTSTART;TZID=America/Chicago:20260819T100000
DTEND;TZID=America/Chicago:20260819T200000
DTSTAMP:20260422T173453
CREATED:20250319T145714Z
LAST-MODIFIED:20250319T150157Z
UID:22909-1787133600-1787169600@hgms.org
SUMMARY:Open Shop - Wednesday
DESCRIPTION:Shop available for HGMS Member Use Only – additional shop usage fees apply.
URL:https://hgms.org/event/open-shop-wednesday/2026-08-19/
LOCATION:HGMS Clubhouse\, 10805 Brooklet Dr.\, Houston\, TX\, 77099\, United States
CATEGORIES:Open Shop
END:VEVENT
BEGIN:VEVENT
DTSTART;TZID=America/Chicago:20260818T193000
DTEND;TZID=America/Chicago:20260818T210000
DTSTAMP:20260422T173453
CREATED:20211224T193622Z
LAST-MODIFIED:20211224T193622Z
UID:19706-1787081400-1787086800@hgms.org
SUMMARY:Paleo Section
DESCRIPTION:See the HGMS Events page for monthly topics and additional details.
URL:https://hgms.org/event/paleo-section/2026-08-18/
LOCATION:HGMS Clubhouse\, 10805 Brooklet Dr.\, Houston\, TX\, 77099\, United States
CATEGORIES:Meetings
END:VEVENT
BEGIN:VEVENT
DTSTART;TZID=America/Chicago:20260817T190000
DTEND;TZID=America/Chicago:20260817T210000
DTSTAMP:20260422T173453
CREATED:20250319T151411Z
LAST-MODIFIED:20250319T151411Z
UID:26353-1786993200-1787000400@hgms.org
SUMMARY:Lapidary Section
DESCRIPTION:See the HGMS Events page for monthly topic and additional details.
URL:https://hgms.org/event/lapidary-section/2026-08-17/
LOCATION:HGMS Clubhouse Main Meeting Room\, 10805 Brooklet\, Houston\, 77099\, United States
CATEGORIES:Meetings
END:VEVENT
BEGIN:VEVENT
DTSTART;TZID=America/Chicago:20260816T110000
DTEND;TZID=America/Chicago:20260816T160000
DTSTAMP:20260422T173453
CREATED:20250319T145402Z
LAST-MODIFIED:20250319T145402Z
UID:23088-1786878000-1786896000@hgms.org
SUMMARY:Open Shop - Sundays
DESCRIPTION:Shop available for HGMS Member Use Only – additional shop usage fees apply.
URL:https://hgms.org/event/open-shop-sundays/2026-08-16/
LOCATION:HGMS Clubhouse\, 10805 Brooklet Dr.\, Houston\, TX\, 77099\, United States
CATEGORIES:Open Shop
END:VEVENT
BEGIN:VEVENT
DTSTART;TZID=America/Chicago:20260815T100000
DTEND;TZID=America/Chicago:20260815T150000
DTSTAMP:20260422T173453
CREATED:20250319T145518Z
LAST-MODIFIED:20250319T145518Z
UID:23166-1786788000-1786806000@hgms.org
SUMMARY:Open Shop - Saturdays
DESCRIPTION:Shop available for HGMS Member Use Only – additional shop usage fees apply.
URL:https://hgms.org/event/open-shop-saturdays/2026-08-15/
LOCATION:HGMS Clubhouse\, 10805 Brooklet Dr.\, Houston\, TX\, 77099\, United States
CATEGORIES:Open Shop
END:VEVENT
BEGIN:VEVENT
DTSTART;TZID=America/Chicago:20260815T100000
DTEND;TZID=America/Chicago:20260815T120000
DTSTAMP:20260422T173453
CREATED:20211224T185336Z
LAST-MODIFIED:20211224T185336Z
UID:19673-1786788000-1786795200@hgms.org
SUMMARY:Youth Section
DESCRIPTION:Participants must be minimum age 5 to attend meetings and be accompanied by a parent or guardian at all times when at the clubhouse. Particpants must be active HGMS Youth Members or included in an active HGMS Family membership. \nMasks REQUIRED for all participants and observers. \nSee HGMS Events for additional program details.
URL:https://hgms.org/event/youth-section-10/2026-08-15/
LOCATION:TX
END:VEVENT
BEGIN:VEVENT
DTSTART;TZID=America/Chicago:20260814T080000
DTEND;TZID=America/Chicago:20260814T120000
DTSTAMP:20260422T173453
CREATED:20220805T220835Z
LAST-MODIFIED:20220805T220835Z
UID:19671-1786694400-1786708800@hgms.org
SUMMARY:Clubhouse Cleaning
DESCRIPTION:Our cleaning service comes every Friday between 8 am and 5 pm. Please avoid scheduling any activities (committee activities\, section meetings and classes) in the Club’s Main Meeting area.
URL:https://hgms.org/event/clubhouse-cleaning/2026-08-14/
LOCATION:TX
END:VEVENT
BEGIN:VEVENT
DTSTART;TZID=America/Chicago:20260813T100000
DTEND;TZID=America/Chicago:20260813T150000
DTSTAMP:20260422T173453
CREATED:20250319T145607Z
LAST-MODIFIED:20250319T145607Z
UID:23346-1786615200-1786633200@hgms.org
SUMMARY:Open Shop - Thursday
DESCRIPTION:Shop available for HGMS Member Use Only – additional shop usage fees apply.
URL:https://hgms.org/event/open-shop-thursday/2026-08-13/
LOCATION:HGMS Clubhouse\, 10805 Brooklet Dr.\, Houston\, TX\, 77099\, United States
CATEGORIES:Open Shop
END:VEVENT
BEGIN:VEVENT
DTSTART;TZID=America/Chicago:20260812T100000
DTEND;TZID=America/Chicago:20260812T200000
DTSTAMP:20260422T173453
CREATED:20250319T145714Z
LAST-MODIFIED:20250319T150157Z
UID:22908-1786528800-1786564800@hgms.org
SUMMARY:Open Shop - Wednesday
DESCRIPTION:Shop available for HGMS Member Use Only – additional shop usage fees apply.
URL:https://hgms.org/event/open-shop-wednesday/2026-08-12/
LOCATION:HGMS Clubhouse\, 10805 Brooklet Dr.\, Houston\, TX\, 77099\, United States
CATEGORIES:Open Shop
END:VEVENT
BEGIN:VEVENT
DTSTART;TZID=America/Chicago:20260809T110000
DTEND;TZID=America/Chicago:20260809T160000
DTSTAMP:20260422T173453
CREATED:20250319T145402Z
LAST-MODIFIED:20250319T145402Z
UID:23087-1786273200-1786291200@hgms.org
SUMMARY:Open Shop - Sundays
DESCRIPTION:Shop available for HGMS Member Use Only – additional shop usage fees apply.
URL:https://hgms.org/event/open-shop-sundays/2026-08-09/
LOCATION:HGMS Clubhouse\, 10805 Brooklet Dr.\, Houston\, TX\, 77099\, United States
CATEGORIES:Open Shop
END:VEVENT
BEGIN:VEVENT
DTSTART;TZID=America/Chicago:20260808T100000
DTEND;TZID=America/Chicago:20260808T150000
DTSTAMP:20260422T173453
CREATED:20250319T145518Z
LAST-MODIFIED:20250319T145518Z
UID:23164-1786183200-1786201200@hgms.org
SUMMARY:Open Shop - Saturdays
DESCRIPTION:Shop available for HGMS Member Use Only – additional shop usage fees apply.
URL:https://hgms.org/event/open-shop-saturdays/2026-08-08/
LOCATION:HGMS Clubhouse\, 10805 Brooklet Dr.\, Houston\, TX\, 77099\, United States
CATEGORIES:Open Shop
END:VEVENT
BEGIN:VEVENT
DTSTART;TZID=America/Chicago:20260808T100000
DTEND;TZID=America/Chicago:20260808T130000
DTSTAMP:20260422T173453
CREATED:20211224T192957Z
LAST-MODIFIED:20211224T192957Z
UID:26330-1786183200-1786194000@hgms.org
SUMMARY:Beading Section
DESCRIPTION:See the HGMS Events page for monthly topic and additional details.
URL:https://hgms.org/event/beading-section-2-2023-10-21/2026-08-08/
LOCATION:HGMS Clubhouse\, 10805 Brooklet Dr.\, Houston\, TX\, 77099\, United States
CATEGORIES:Meetings
END:VEVENT
BEGIN:VEVENT
DTSTART;TZID=America/Chicago:20260807T080000
DTEND;TZID=America/Chicago:20260807T120000
DTSTAMP:20260422T173453
CREATED:20220805T220835Z
LAST-MODIFIED:20220805T220835Z
UID:19658-1786089600-1786104000@hgms.org
SUMMARY:Clubhouse Cleaning
DESCRIPTION:Our cleaning service comes every Friday between 8 am and 5 pm. Please avoid scheduling any activities (committee activities\, section meetings and classes) in the Club’s Main Meeting area.
URL:https://hgms.org/event/clubhouse-cleaning/2026-08-07/
LOCATION:TX
END:VEVENT
BEGIN:VEVENT
DTSTART;TZID=America/Chicago:20260806T100000
DTEND;TZID=America/Chicago:20260806T150000
DTSTAMP:20260422T173453
CREATED:20250319T145607Z
LAST-MODIFIED:20250319T145607Z
UID:23345-1786010400-1786028400@hgms.org
SUMMARY:Open Shop - Thursday
DESCRIPTION:Shop available for HGMS Member Use Only – additional shop usage fees apply.
URL:https://hgms.org/event/open-shop-thursday/2026-08-06/
LOCATION:HGMS Clubhouse\, 10805 Brooklet Dr.\, Houston\, TX\, 77099\, United States
CATEGORIES:Open Shop
END:VEVENT
BEGIN:VEVENT
DTSTART;TZID=America/Chicago:20260805T120000
DTEND;TZID=America/Chicago:20260805T150000
DTSTAMP:20260422T173453
CREATED:20211224T193453Z
LAST-MODIFIED:20250923T020423Z
UID:23837-1785931200-1785942000@hgms.org
SUMMARY:Day Light Section
DESCRIPTION:See the HGMS Events page for monthly topics and additional details.
URL:https://hgms.org/event/day-light-section/2026-08-05/
LOCATION:HGMS Clubhouse\, 10805 Brooklet Dr.\, Houston\, TX\, 77099\, United States
CATEGORIES:Meetings
END:VEVENT
BEGIN:VEVENT
DTSTART;TZID=America/Chicago:20260805T100000
DTEND;TZID=America/Chicago:20260805T200000
DTSTAMP:20260422T173453
CREATED:20250319T145714Z
LAST-MODIFIED:20250319T150157Z
UID:22907-1785924000-1785960000@hgms.org
SUMMARY:Open Shop - Wednesday
DESCRIPTION:Shop available for HGMS Member Use Only – additional shop usage fees apply.
URL:https://hgms.org/event/open-shop-wednesday/2026-08-05/
LOCATION:HGMS Clubhouse\, 10805 Brooklet Dr.\, Houston\, TX\, 77099\, United States
CATEGORIES:Open Shop
END:VEVENT
BEGIN:VEVENT
DTSTART;TZID=America/Chicago:20260804T193000
DTEND;TZID=America/Chicago:20260804T210000
DTSTAMP:20260422T173453
CREATED:20211224T184140Z
LAST-MODIFIED:20211224T184140Z
UID:19652-1785871800-1785877200@hgms.org
SUMMARY:Board Meeting
DESCRIPTION:This meeting is virtual.  Members who wish to observe the meeting may email president@hgms.org to receive the Zoom link.
URL:https://hgms.org/event/board-meeting-5/2026-08-04/
LOCATION:TX
CATEGORIES:Meetings
END:VEVENT
BEGIN:VEVENT
DTSTART;TZID=America/Chicago:20260802T110000
DTEND;TZID=America/Chicago:20260802T160000
DTSTAMP:20260422T173453
CREATED:20250319T145402Z
LAST-MODIFIED:20250319T145402Z
UID:23085-1785668400-1785686400@hgms.org
SUMMARY:Open Shop - Sundays
DESCRIPTION:Shop available for HGMS Member Use Only – additional shop usage fees apply.
URL:https://hgms.org/event/open-shop-sundays/2026-08-02/
LOCATION:HGMS Clubhouse\, 10805 Brooklet Dr.\, Houston\, TX\, 77099\, United States
CATEGORIES:Open Shop
END:VEVENT
BEGIN:VEVENT
DTSTART;TZID=America/Chicago:20260801T100000
DTEND;TZID=America/Chicago:20260801T150000
DTSTAMP:20260422T173453
CREATED:20250319T145518Z
LAST-MODIFIED:20250319T145518Z
UID:23162-1785578400-1785596400@hgms.org
SUMMARY:Open Shop - Saturdays
DESCRIPTION:Shop available for HGMS Member Use Only – additional shop usage fees apply.
URL:https://hgms.org/event/open-shop-saturdays/2026-08-01/
LOCATION:HGMS Clubhouse\, 10805 Brooklet Dr.\, Houston\, TX\, 77099\, United States
CATEGORIES:Open Shop
END:VEVENT
BEGIN:VEVENT
DTSTART;TZID=America/Chicago:20260801T100000
DTEND;TZID=America/Chicago:20260801T120000
DTSTAMP:20260422T173453
CREATED:20211224T185132Z
LAST-MODIFIED:20211224T185132Z
UID:19639-1785578400-1785585600@hgms.org
SUMMARY:Youth Section
DESCRIPTION:Participants must be minimum age 5 to attend meetings and be accompanied by a parent or guardian at all times when at the clubhouse. Particpants must be active HGMS Youth Members or included in an active HGMS Family membership. \nMasks REQUIRED for all participants and observers. \nSee HGMS Events for additional program details.
URL:https://hgms.org/event/youth-section-9-2022-02-05/2026-08-01/
LOCATION:HGMS Clubhouse\, 10805 Brooklet Dr.\, Houston\, TX\, 77099\, United States
CATEGORIES:Meetings
END:VEVENT
BEGIN:VEVENT
DTSTART;TZID=America/Chicago:20260731T080000
DTEND;TZID=America/Chicago:20260731T120000
DTSTAMP:20260422T173453
CREATED:20220805T220835Z
LAST-MODIFIED:20220805T220835Z
UID:19635-1785484800-1785499200@hgms.org
SUMMARY:Clubhouse Cleaning
DESCRIPTION:Our cleaning service comes every Friday between 8 am and 5 pm. Please avoid scheduling any activities (committee activities\, section meetings and classes) in the Club’s Main Meeting area.
URL:https://hgms.org/event/clubhouse-cleaning/2026-07-31/
LOCATION:TX
END:VEVENT
BEGIN:VEVENT
DTSTART;TZID=America/Chicago:20260730T100000
DTEND;TZID=America/Chicago:20260730T150000
DTSTAMP:20260422T173453
CREATED:20250319T145607Z
LAST-MODIFIED:20250319T145607Z
UID:23344-1785405600-1785423600@hgms.org
SUMMARY:Open Shop - Thursday
DESCRIPTION:Shop available for HGMS Member Use Only – additional shop usage fees apply.
URL:https://hgms.org/event/open-shop-thursday/2026-07-30/
LOCATION:HGMS Clubhouse\, 10805 Brooklet Dr.\, Houston\, TX\, 77099\, United States
CATEGORIES:Open Shop
END:VEVENT
BEGIN:VEVENT
DTSTART;TZID=America/Chicago:20260729T100000
DTEND;TZID=America/Chicago:20260729T200000
DTSTAMP:20260422T173453
CREATED:20250319T145714Z
LAST-MODIFIED:20250319T150157Z
UID:22906-1785319200-1785355200@hgms.org
SUMMARY:Open Shop - Wednesday
DESCRIPTION:Shop available for HGMS Member Use Only – additional shop usage fees apply.
URL:https://hgms.org/event/open-shop-wednesday/2026-07-29/
LOCATION:HGMS Clubhouse\, 10805 Brooklet Dr.\, Houston\, TX\, 77099\, United States
CATEGORIES:Open Shop
END:VEVENT
BEGIN:VEVENT
DTSTART;TZID=America/Chicago:20260728T193000
DTEND;TZID=America/Chicago:20260728T210000
DTSTAMP:20260422T173453
CREATED:20211224T182359Z
LAST-MODIFIED:20211224T182359Z
UID:19584-1785267000-1785272400@hgms.org
SUMMARY:General Meeting
DESCRIPTION:This meeting is open to members and visitors.  It occurs the 4th Tuesday of each month.  Check our Events page for monthly topics. \nHGMS Events \n 
URL:https://hgms.org/event/general-meeting-4/2026-07-28/
LOCATION:TX
CATEGORIES:Meetings
END:VEVENT
BEGIN:VEVENT
DTSTART;TZID=America/Chicago:20260726T110000
DTEND;TZID=America/Chicago:20260726T160000
DTSTAMP:20260422T173453
CREATED:20250319T145402Z
LAST-MODIFIED:20250319T145402Z
UID:23082-1785063600-1785081600@hgms.org
SUMMARY:Open Shop - Sundays
DESCRIPTION:Shop available for HGMS Member Use Only – additional shop usage fees apply.
URL:https://hgms.org/event/open-shop-sundays/2026-07-26/
LOCATION:HGMS Clubhouse\, 10805 Brooklet Dr.\, Houston\, TX\, 77099\, United States
CATEGORIES:Open Shop
END:VEVENT
BEGIN:VEVENT
DTSTART;TZID=America/Chicago:20260725T100000
DTEND;TZID=America/Chicago:20260725T150000
DTSTAMP:20260422T173453
CREATED:20250319T145518Z
LAST-MODIFIED:20250319T145518Z
UID:23160-1784973600-1784991600@hgms.org
SUMMARY:Open Shop - Saturdays
DESCRIPTION:Shop available for HGMS Member Use Only – additional shop usage fees apply.
URL:https://hgms.org/event/open-shop-saturdays/2026-07-25/
LOCATION:HGMS Clubhouse\, 10805 Brooklet Dr.\, Houston\, TX\, 77099\, United States
CATEGORIES:Open Shop
END:VEVENT
BEGIN:VEVENT
DTSTART;TZID=America/Chicago:20260724T080000
DTEND;TZID=America/Chicago:20260724T120000
DTSTAMP:20260422T173453
CREATED:20220805T220835Z
LAST-MODIFIED:20220805T220835Z
UID:19549-1784880000-1784894400@hgms.org
SUMMARY:Clubhouse Cleaning
DESCRIPTION:Our cleaning service comes every Friday between 8 am and 5 pm. Please avoid scheduling any activities (committee activities\, section meetings and classes) in the Club’s Main Meeting area.
URL:https://hgms.org/event/clubhouse-cleaning/2026-07-24/
LOCATION:TX
END:VEVENT
BEGIN:VEVENT
DTSTART;TZID=America/Chicago:20260723T100000
DTEND;TZID=America/Chicago:20260723T150000
DTSTAMP:20260422T173453
CREATED:20250319T145607Z
LAST-MODIFIED:20250319T145607Z
UID:23343-1784800800-1784818800@hgms.org
SUMMARY:Open Shop - Thursday
DESCRIPTION:Shop available for HGMS Member Use Only – additional shop usage fees apply.
URL:https://hgms.org/event/open-shop-thursday/2026-07-23/
LOCATION:HGMS Clubhouse\, 10805 Brooklet Dr.\, Houston\, TX\, 77099\, United States
CATEGORIES:Open Shop
END:VEVENT
BEGIN:VEVENT
DTSTART;TZID=America/Chicago:20260722T100000
DTEND;TZID=America/Chicago:20260722T200000
DTSTAMP:20260422T173453
CREATED:20250319T145714Z
LAST-MODIFIED:20250319T150157Z
UID:22905-1784714400-1784750400@hgms.org
SUMMARY:Open Shop - Wednesday
DESCRIPTION:Shop available for HGMS Member Use Only – additional shop usage fees apply.
URL:https://hgms.org/event/open-shop-wednesday/2026-07-22/
LOCATION:HGMS Clubhouse\, 10805 Brooklet Dr.\, Houston\, TX\, 77099\, United States
CATEGORIES:Open Shop
END:VEVENT
BEGIN:VEVENT
DTSTART;TZID=America/Chicago:20260721T193000
DTEND;TZID=America/Chicago:20260721T210000
DTSTAMP:20260422T173453
CREATED:20211224T193622Z
LAST-MODIFIED:20211224T193622Z
UID:19543-1784662200-1784667600@hgms.org
SUMMARY:Paleo Section
DESCRIPTION:See the HGMS Events page for monthly topics and additional details.
URL:https://hgms.org/event/paleo-section/2026-07-21/
LOCATION:HGMS Clubhouse\, 10805 Brooklet Dr.\, Houston\, TX\, 77099\, United States
CATEGORIES:Meetings
END:VEVENT
END:VCALENDAR