BEGIN:VCALENDAR
VERSION:2.0
PRODID:-//HGMS - Houston Gem &amp; Mineral Society - ECPv6.15.20//NONSGML v1.0//EN
CALSCALE:GREGORIAN
METHOD:PUBLISH
X-WR-CALNAME:HGMS - Houston Gem &amp; Mineral Society
X-ORIGINAL-URL:https://hgms.org
X-WR-CALDESC:Events for HGMS - Houston Gem &amp; Mineral Society
REFRESH-INTERVAL;VALUE=DURATION:PT1H
X-Robots-Tag:noindex
X-PUBLISHED-TTL:PT1H
BEGIN:VTIMEZONE
TZID:America/Chicago
BEGIN:DAYLIGHT
TZOFFSETFROM:-0600
TZOFFSETTO:-0500
TZNAME:CDT
DTSTART:20240310T080000
END:DAYLIGHT
BEGIN:STANDARD
TZOFFSETFROM:-0500
TZOFFSETTO:-0600
TZNAME:CST
DTSTART:20241103T070000
END:STANDARD
BEGIN:DAYLIGHT
TZOFFSETFROM:-0600
TZOFFSETTO:-0500
TZNAME:CDT
DTSTART:20250309T080000
END:DAYLIGHT
BEGIN:STANDARD
TZOFFSETFROM:-0500
TZOFFSETTO:-0600
TZNAME:CST
DTSTART:20251102T070000
END:STANDARD
BEGIN:DAYLIGHT
TZOFFSETFROM:-0600
TZOFFSETTO:-0500
TZNAME:CDT
DTSTART:20260308T080000
END:DAYLIGHT
BEGIN:STANDARD
TZOFFSETFROM:-0500
TZOFFSETTO:-0600
TZNAME:CST
DTSTART:20261101T070000
END:STANDARD
END:VTIMEZONE
BEGIN:VEVENT
DTSTART;TZID=America/Chicago:20250904T100000
DTEND;TZID=America/Chicago:20250904T150000
DTSTAMP:20260425T090301
CREATED:20250319T145607Z
LAST-MODIFIED:20250319T145607Z
UID:23270-1756980000-1756998000@hgms.org
SUMMARY:Open Shop - Thursday
DESCRIPTION:Shop available for HGMS Member Use Only – additional shop usage fees apply.
URL:https://hgms.org/event/open-shop-thursday/2025-09-04/
LOCATION:HGMS Clubhouse\, 10805 Brooklet Dr.\, Houston\, TX\, 77099\, United States
CATEGORIES:Open Shop
END:VEVENT
BEGIN:VEVENT
DTSTART;TZID=America/Chicago:20250903T120000
DTEND;TZID=America/Chicago:20250903T150000
DTSTAMP:20260425T090301
CREATED:20211224T193453Z
LAST-MODIFIED:20250923T020419Z
UID:23826-1756900800-1756911600@hgms.org
SUMMARY:Day Light Section
DESCRIPTION:See the HGMS Events page for monthly topics and additional details.
URL:https://hgms.org/event/day-light-section/2025-09-03/
LOCATION:HGMS Clubhouse\, 10805 Brooklet Dr.\, Houston\, TX\, 77099\, United States
CATEGORIES:Meetings
END:VEVENT
BEGIN:VEVENT
DTSTART;TZID=America/Chicago:20250903T100000
DTEND;TZID=America/Chicago:20250903T200000
DTSTAMP:20260425T090301
CREATED:20250319T145714Z
LAST-MODIFIED:20250319T150144Z
UID:22859-1756893600-1756929600@hgms.org
SUMMARY:Open Shop - Wednesday
DESCRIPTION:Shop available for HGMS Member Use Only – additional shop usage fees apply.
URL:https://hgms.org/event/open-shop-wednesday/2025-09-03/
LOCATION:HGMS Clubhouse\, 10805 Brooklet Dr.\, Houston\, TX\, 77099\, United States
CATEGORIES:Open Shop
END:VEVENT
BEGIN:VEVENT
DTSTART;TZID=America/Chicago:20250902T193000
DTEND;TZID=America/Chicago:20250902T210000
DTSTAMP:20260425T090301
CREATED:20211224T184140Z
LAST-MODIFIED:20211224T184140Z
UID:16090-1756841400-1756846800@hgms.org
SUMMARY:Board Meeting
DESCRIPTION:This meeting is virtual.  Members who wish to observe the meeting may email president@hgms.org to receive the Zoom link.
URL:https://hgms.org/event/board-meeting-5/2025-09-02/
LOCATION:TX
CATEGORIES:Meetings
END:VEVENT
BEGIN:VEVENT
DTSTART;TZID=America/Chicago:20250831T110000
DTEND;TZID=America/Chicago:20250831T160000
DTSTAMP:20260425T090301
CREATED:20250319T145402Z
LAST-MODIFIED:20250319T145402Z
UID:22984-1756638000-1756656000@hgms.org
SUMMARY:Open Shop - Sundays
DESCRIPTION:Shop available for HGMS Member Use Only – additional shop usage fees apply.
URL:https://hgms.org/event/open-shop-sundays/2025-08-31/
LOCATION:HGMS Clubhouse\, 10805 Brooklet Dr.\, Houston\, TX\, 77099\, United States
CATEGORIES:Open Shop
END:VEVENT
BEGIN:VEVENT
DTSTART;TZID=America/Chicago:20250830T100000
DTEND;TZID=America/Chicago:20250830T150000
DTSTAMP:20260425T090301
CREATED:20250319T145518Z
LAST-MODIFIED:20250319T145518Z
UID:23026-1756548000-1756566000@hgms.org
SUMMARY:Open Shop - Saturdays
DESCRIPTION:Shop available for HGMS Member Use Only – additional shop usage fees apply.
URL:https://hgms.org/event/open-shop-saturdays/2025-08-30/
LOCATION:HGMS Clubhouse\, 10805 Brooklet Dr.\, Houston\, TX\, 77099\, United States
CATEGORIES:Open Shop
END:VEVENT
BEGIN:VEVENT
DTSTART;TZID=America/Chicago:20250829T080000
DTEND;TZID=America/Chicago:20250829T120000
DTSTAMP:20260425T090301
CREATED:20220805T220835Z
LAST-MODIFIED:20220805T220835Z
UID:16035-1756454400-1756468800@hgms.org
SUMMARY:Clubhouse Cleaning
DESCRIPTION:Our cleaning service comes every Friday between 8 am and 5 pm. Please avoid scheduling any activities (committee activities\, section meetings and classes) in the Club’s Main Meeting area.
URL:https://hgms.org/event/clubhouse-cleaning/2025-08-29/
LOCATION:TX
END:VEVENT
BEGIN:VEVENT
DTSTART;TZID=America/Chicago:20250828T100000
DTEND;TZID=America/Chicago:20250828T150000
DTSTAMP:20260425T090301
CREATED:20250319T145607Z
LAST-MODIFIED:20250319T145607Z
UID:23269-1756375200-1756393200@hgms.org
SUMMARY:Open Shop - Thursday
DESCRIPTION:Shop available for HGMS Member Use Only – additional shop usage fees apply.
URL:https://hgms.org/event/open-shop-thursday/2025-08-28/
LOCATION:HGMS Clubhouse\, 10805 Brooklet Dr.\, Houston\, TX\, 77099\, United States
CATEGORIES:Open Shop
END:VEVENT
BEGIN:VEVENT
DTSTART;TZID=America/Chicago:20250827T100000
DTEND;TZID=America/Chicago:20250827T200000
DTSTAMP:20260425T090301
CREATED:20250319T145714Z
LAST-MODIFIED:20250319T150144Z
UID:22858-1756288800-1756324800@hgms.org
SUMMARY:Open Shop - Wednesday
DESCRIPTION:Shop available for HGMS Member Use Only – additional shop usage fees apply.
URL:https://hgms.org/event/open-shop-wednesday/2025-08-27/
LOCATION:HGMS Clubhouse\, 10805 Brooklet Dr.\, Houston\, TX\, 77099\, United States
CATEGORIES:Open Shop
END:VEVENT
BEGIN:VEVENT
DTSTART;TZID=America/Chicago:20250826T193000
DTEND;TZID=America/Chicago:20250826T210000
DTSTAMP:20260425T090301
CREATED:20211224T182359Z
LAST-MODIFIED:20211224T182359Z
UID:16009-1756236600-1756242000@hgms.org
SUMMARY:General Meeting
DESCRIPTION:This meeting is open to members and visitors.  It occurs the 4th Tuesday of each month.  Check our Events page for monthly topics. \nHGMS Events \n 
URL:https://hgms.org/event/general-meeting-4/2025-08-26/
LOCATION:TX
CATEGORIES:Meetings
END:VEVENT
BEGIN:VEVENT
DTSTART;TZID=America/Chicago:20250824T110000
DTEND;TZID=America/Chicago:20250824T160000
DTSTAMP:20260425T090301
CREATED:20250319T145402Z
LAST-MODIFIED:20250319T145402Z
UID:22983-1756033200-1756051200@hgms.org
SUMMARY:Open Shop - Sundays
DESCRIPTION:Shop available for HGMS Member Use Only – additional shop usage fees apply.
URL:https://hgms.org/event/open-shop-sundays/2025-08-24/
LOCATION:HGMS Clubhouse\, 10805 Brooklet Dr.\, Houston\, TX\, 77099\, United States
CATEGORIES:Open Shop
END:VEVENT
BEGIN:VEVENT
DTSTART;TZID=America/Chicago:20250823T100000
DTEND;TZID=America/Chicago:20250823T150000
DTSTAMP:20260425T090301
CREATED:20250319T145518Z
LAST-MODIFIED:20250319T145518Z
UID:23024-1755943200-1755961200@hgms.org
SUMMARY:Open Shop - Saturdays
DESCRIPTION:Shop available for HGMS Member Use Only – additional shop usage fees apply.
URL:https://hgms.org/event/open-shop-saturdays/2025-08-23/
LOCATION:HGMS Clubhouse\, 10805 Brooklet Dr.\, Houston\, TX\, 77099\, United States
CATEGORIES:Open Shop
END:VEVENT
BEGIN:VEVENT
DTSTART;TZID=America/Chicago:20250822T080000
DTEND;TZID=America/Chicago:20250822T120000
DTSTAMP:20260425T090301
CREATED:20220805T220835Z
LAST-MODIFIED:20220805T220835Z
UID:15965-1755849600-1755864000@hgms.org
SUMMARY:Clubhouse Cleaning
DESCRIPTION:Our cleaning service comes every Friday between 8 am and 5 pm. Please avoid scheduling any activities (committee activities\, section meetings and classes) in the Club’s Main Meeting area.
URL:https://hgms.org/event/clubhouse-cleaning/2025-08-22/
LOCATION:TX
END:VEVENT
BEGIN:VEVENT
DTSTART;TZID=America/Chicago:20250821T100000
DTEND;TZID=America/Chicago:20250821T150000
DTSTAMP:20260425T090301
CREATED:20250319T145607Z
LAST-MODIFIED:20250319T145607Z
UID:23267-1755770400-1755788400@hgms.org
SUMMARY:Open Shop - Thursday
DESCRIPTION:Shop available for HGMS Member Use Only – additional shop usage fees apply.
URL:https://hgms.org/event/open-shop-thursday/2025-08-21/
LOCATION:HGMS Clubhouse\, 10805 Brooklet Dr.\, Houston\, TX\, 77099\, United States
CATEGORIES:Open Shop
END:VEVENT
BEGIN:VEVENT
DTSTART;TZID=America/Chicago:20250820T193000
DTEND;TZID=America/Chicago:20250820T210000
DTSTAMP:20260425T090301
CREATED:20211224T192728Z
LAST-MODIFIED:20250104T020739Z
UID:15955-1755718200-1755723600@hgms.org
SUMMARY:Mineral Section
DESCRIPTION:January 15th Meeting is Cancelled. \nMeetings are on the third Wednesday of the month and are hybrid\, in person and via Zoom. To join Zoom Meeting\, use link\nhttps://us02web.zoom.us/j/4517997588?pwd=SnZjckZBTnRMbHRxZitScE9WU3RWUT09 \nMeeting ID: 451 799 7588\nPasscode: 623955 \nSee the HGMS Events page for meeting topic.
URL:https://hgms.org/event/mineral-section/2025-08-20/
LOCATION:TX
CATEGORIES:Meetings
END:VEVENT
BEGIN:VEVENT
DTSTART;TZID=America/Chicago:20250820T100000
DTEND;TZID=America/Chicago:20250820T200000
DTSTAMP:20260425T090301
CREATED:20250319T145714Z
LAST-MODIFIED:20250319T150144Z
UID:22857-1755684000-1755720000@hgms.org
SUMMARY:Open Shop - Wednesday
DESCRIPTION:Shop available for HGMS Member Use Only – additional shop usage fees apply.
URL:https://hgms.org/event/open-shop-wednesday/2025-08-20/
LOCATION:HGMS Clubhouse\, 10805 Brooklet Dr.\, Houston\, TX\, 77099\, United States
CATEGORIES:Open Shop
END:VEVENT
BEGIN:VEVENT
DTSTART;TZID=America/Chicago:20250819T193000
DTEND;TZID=America/Chicago:20250819T210000
DTSTAMP:20260425T090301
CREATED:20211224T193622Z
LAST-MODIFIED:20211224T193622Z
UID:15947-1755631800-1755637200@hgms.org
SUMMARY:Paleo Section
DESCRIPTION:See the HGMS Events page for monthly topics and additional details.
URL:https://hgms.org/event/paleo-section/2025-08-19/
LOCATION:HGMS Clubhouse\, 10805 Brooklet Dr.\, Houston\, TX\, 77099\, United States
CATEGORIES:Meetings
END:VEVENT
BEGIN:VEVENT
DTSTART;TZID=America/Chicago:20250818T154500
DTEND;TZID=America/Chicago:20250818T190000
DTSTAMP:20260425T090301
CREATED:20250727T235651Z
LAST-MODIFIED:20250727T235651Z
UID:24167-1755531900-1755543600@hgms.org
SUMMARY:Basic Wire-wrapped Pendant Class (Aug 18\, 2025)
DESCRIPTION:Instructor: Susan Burch (25 years of Wire-Wrapping)\nLocation: HGMS Clubhouse – Large Meeting Room\nCost: $52.00 + $5.00\, if tool rental is needed\nDates: Monday\, Aug 18th from 3:45 PM to 7:00 PM (before Lapidary Section Mtg.) or\nSaturday\, August 9th from 10:00 AM to 2:30 PM \nTOOLS AND SUPPLIES TO BRING: (or rent tools @ $5.00/student) \n\nChain-nose pliers\nFlat-nose pliers\nRound-nose pliers\nFlush wire cutter\n6” or 12” ruler\nFile\nPolishing cloth\nPen and paper (for notes and designing)\n*Magnifying lenses (Suggested if you have difficulty seeing small things)\n\nMATERIALS PROVIDED: (Included in cost) \n\nSmall polishing cloth (provided)\n18 X 25 mm stone (provided\, or you can bring your own)\n22 ga. square copper wire. (provided)\n20 ga. 1/2 round copper wire. (provided)\n1/2” masking tape (provided)\n\nNOTE: *Wires and stones are small\, if finger dexterity or eyesight cause you difficulty\, please take that into\naccount when booking your spot. Tool Rental\, if needed is $5.00/student.
URL:https://hgms.org/event/basic-wire-wrapped-pendant-class-aug-18-2025/
LOCATION:HGMS Clubhouse\, 10805 Brooklet Dr.\, Houston\, TX\, 77099\, United States
CATEGORIES:Classes
ATTACH;FMTTYPE=image/jpeg:https://hgms.org/wp-content/uploads/2025/07/beg-wire-wrap-susan-burch.jpg
ORGANIZER;CN="HGMS Education":MAILTO:classes@hgms.org
END:VEVENT
BEGIN:VEVENT
DTSTART;TZID=America/Chicago:20250817T110000
DTEND;TZID=America/Chicago:20250817T160000
DTSTAMP:20260425T090301
CREATED:20250319T145402Z
LAST-MODIFIED:20250319T145402Z
UID:22982-1755428400-1755446400@hgms.org
SUMMARY:Open Shop - Sundays
DESCRIPTION:Shop available for HGMS Member Use Only – additional shop usage fees apply.
URL:https://hgms.org/event/open-shop-sundays/2025-08-17/
LOCATION:HGMS Clubhouse\, 10805 Brooklet Dr.\, Houston\, TX\, 77099\, United States
CATEGORIES:Open Shop
END:VEVENT
BEGIN:VEVENT
DTSTART;TZID=America/Chicago:20250816T100000
DTEND;TZID=America/Chicago:20250816T150000
DTSTAMP:20260425T090301
CREATED:20250319T145518Z
LAST-MODIFIED:20250319T145518Z
UID:23023-1755338400-1755356400@hgms.org
SUMMARY:Open Shop - Saturdays
DESCRIPTION:Shop available for HGMS Member Use Only – additional shop usage fees apply.
URL:https://hgms.org/event/open-shop-saturdays/2025-08-16/
LOCATION:HGMS Clubhouse\, 10805 Brooklet Dr.\, Houston\, TX\, 77099\, United States
CATEGORIES:Open Shop
END:VEVENT
BEGIN:VEVENT
DTSTART;TZID=America/Chicago:20250816T100000
DTEND;TZID=America/Chicago:20250816T120000
DTSTAMP:20260425T090301
CREATED:20211224T185336Z
LAST-MODIFIED:20211224T185336Z
UID:15907-1755338400-1755345600@hgms.org
SUMMARY:Youth Section
DESCRIPTION:Participants must be minimum age 5 to attend meetings and be accompanied by a parent or guardian at all times when at the clubhouse. Particpants must be active HGMS Youth Members or included in an active HGMS Family membership. \nMasks REQUIRED for all participants and observers. \nSee HGMS Events for additional program details.
URL:https://hgms.org/event/youth-section-10/2025-08-16/
LOCATION:TX
END:VEVENT
BEGIN:VEVENT
DTSTART;TZID=America/Chicago:20250815T080000
DTEND;TZID=America/Chicago:20250815T120000
DTSTAMP:20260425T090301
CREATED:20220805T220835Z
LAST-MODIFIED:20220805T220835Z
UID:15905-1755244800-1755259200@hgms.org
SUMMARY:Clubhouse Cleaning
DESCRIPTION:Our cleaning service comes every Friday between 8 am and 5 pm. Please avoid scheduling any activities (committee activities\, section meetings and classes) in the Club’s Main Meeting area.
URL:https://hgms.org/event/clubhouse-cleaning/2025-08-15/
LOCATION:TX
END:VEVENT
BEGIN:VEVENT
DTSTART;TZID=America/Chicago:20250814T100000
DTEND;TZID=America/Chicago:20250814T150000
DTSTAMP:20260425T090301
CREATED:20250319T145607Z
LAST-MODIFIED:20250319T145607Z
UID:23265-1755165600-1755183600@hgms.org
SUMMARY:Open Shop - Thursday
DESCRIPTION:Shop available for HGMS Member Use Only – additional shop usage fees apply.
URL:https://hgms.org/event/open-shop-thursday/2025-08-14/
LOCATION:HGMS Clubhouse\, 10805 Brooklet Dr.\, Houston\, TX\, 77099\, United States
CATEGORIES:Open Shop
END:VEVENT
BEGIN:VEVENT
DTSTART;TZID=America/Chicago:20250813T100000
DTEND;TZID=America/Chicago:20250813T200000
DTSTAMP:20260425T090301
CREATED:20250319T145714Z
LAST-MODIFIED:20250319T150144Z
UID:22856-1755079200-1755115200@hgms.org
SUMMARY:Open Shop - Wednesday
DESCRIPTION:Shop available for HGMS Member Use Only – additional shop usage fees apply.
URL:https://hgms.org/event/open-shop-wednesday/2025-08-13/
LOCATION:HGMS Clubhouse\, 10805 Brooklet Dr.\, Houston\, TX\, 77099\, United States
CATEGORIES:Open Shop
END:VEVENT
BEGIN:VEVENT
DTSTART;TZID=America/Chicago:20250810T110000
DTEND;TZID=America/Chicago:20250810T160000
DTSTAMP:20260425T090301
CREATED:20250319T145402Z
LAST-MODIFIED:20250319T145402Z
UID:22981-1754823600-1754841600@hgms.org
SUMMARY:Open Shop - Sundays
DESCRIPTION:Shop available for HGMS Member Use Only – additional shop usage fees apply.
URL:https://hgms.org/event/open-shop-sundays/2025-08-10/
LOCATION:HGMS Clubhouse\, 10805 Brooklet Dr.\, Houston\, TX\, 77099\, United States
CATEGORIES:Open Shop
END:VEVENT
BEGIN:VEVENT
DTSTART;TZID=America/Chicago:20250809T100000
DTEND;TZID=America/Chicago:20250809T150000
DTSTAMP:20260425T090301
CREATED:20250319T145518Z
LAST-MODIFIED:20250319T145518Z
UID:23021-1754733600-1754751600@hgms.org
SUMMARY:Open Shop - Saturdays
DESCRIPTION:Shop available for HGMS Member Use Only – additional shop usage fees apply.
URL:https://hgms.org/event/open-shop-saturdays/2025-08-09/
LOCATION:HGMS Clubhouse\, 10805 Brooklet Dr.\, Houston\, TX\, 77099\, United States
CATEGORIES:Open Shop
END:VEVENT
BEGIN:VEVENT
DTSTART;TZID=America/Chicago:20250809T100000
DTEND;TZID=America/Chicago:20250809T143000
DTSTAMP:20260425T090301
CREATED:20250714T214004Z
LAST-MODIFIED:20250714T214004Z
UID:24041-1754733600-1754749800@hgms.org
SUMMARY:Basic Wire-wrapped Pendant Class (Aug 9\, 2025)
DESCRIPTION:Instructor: Susan Burch (25 years of Wire-Wrapping)\nLocation: HGMS Clubhouse – Large Meeting Room\nCost: $52.00 + $5.00\, if tool rental is needed\nDates: Monday\, July 21st from 3:30 PM to 7:00 PM (before Lapidary Section Mtg.) or\nSaturday\, August 9th from 10:00 AM to 2:30 PM \nTOOLS AND SUPPLIES TO BRING: (or rent tools @ $5.00/student) \n\nChain-nose pliers\nFlat-nose pliers\nRound-nose pliers\nFlush wire cutter\n6” or 12” ruler\nFile\nPolishing cloth\nPen and paper (for notes and designing)\n*Magnifying lenses (Suggested if you have difficulty seeing small things)\n\nMATERIALS PROVIDED: (Included in cost) \n\nSmall polishing cloth (provided)\n18 X 25 mm stone (provided\, or you can bring your own)\n22 ga. square copper wire. (provided)\n20 ga. 1/2 round copper wire. (provided)\n1/2” masking tape (provided)\n\nNOTE: *Wires and stones are small\, if finger dexterity or eyesight cause you difficulty\, please take that into\naccount when booking your spot. Tool Rental\, if needed is $5.00/student.
URL:https://hgms.org/event/basic-wire-wrapped-pendant-class-aug-9-2025/
LOCATION:HGMS Clubhouse\, 10805 Brooklet Dr.\, Houston\, TX\, 77099\, United States
CATEGORIES:Classes
ATTACH;FMTTYPE=image/jpeg:https://hgms.org/wp-content/uploads/2025/07/beg-wire-wrap-susan-burch.jpg
ORGANIZER;CN="HGMS Education":MAILTO:classes@hgms.org
END:VEVENT
BEGIN:VEVENT
DTSTART;TZID=America/Chicago:20250808T080000
DTEND;TZID=America/Chicago:20250808T120000
DTSTAMP:20260425T090301
CREATED:20220805T220835Z
LAST-MODIFIED:20220805T220835Z
UID:15871-1754640000-1754654400@hgms.org
SUMMARY:Clubhouse Cleaning
DESCRIPTION:Our cleaning service comes every Friday between 8 am and 5 pm. Please avoid scheduling any activities (committee activities\, section meetings and classes) in the Club’s Main Meeting area.
URL:https://hgms.org/event/clubhouse-cleaning/2025-08-08/
LOCATION:TX
END:VEVENT
BEGIN:VEVENT
DTSTART;TZID=America/Chicago:20250807T100000
DTEND;TZID=America/Chicago:20250807T150000
DTSTAMP:20260425T090301
CREATED:20250319T145607Z
LAST-MODIFIED:20250319T145607Z
UID:23264-1754560800-1754578800@hgms.org
SUMMARY:Open Shop - Thursday
DESCRIPTION:Shop available for HGMS Member Use Only – additional shop usage fees apply.
URL:https://hgms.org/event/open-shop-thursday/2025-08-07/
LOCATION:HGMS Clubhouse\, 10805 Brooklet Dr.\, Houston\, TX\, 77099\, United States
CATEGORIES:Open Shop
END:VEVENT
BEGIN:VEVENT
DTSTART;TZID=America/Chicago:20250806T120000
DTEND;TZID=America/Chicago:20250806T150000
DTSTAMP:20260425T090301
CREATED:20211224T193453Z
LAST-MODIFIED:20250923T020419Z
UID:23825-1754481600-1754492400@hgms.org
SUMMARY:Day Light Section
DESCRIPTION:See the HGMS Events page for monthly topics and additional details.
URL:https://hgms.org/event/day-light-section/2025-08-06/
LOCATION:HGMS Clubhouse\, 10805 Brooklet Dr.\, Houston\, TX\, 77099\, United States
CATEGORIES:Meetings
END:VEVENT
END:VCALENDAR