BEGIN:VCALENDAR
VERSION:2.0
PRODID:-//HGMS - Houston Gem &amp; Mineral Society - ECPv6.15.18//NONSGML v1.0//EN
CALSCALE:GREGORIAN
METHOD:PUBLISH
X-ORIGINAL-URL:https://hgms.org
X-WR-CALDESC:Events for HGMS - Houston Gem &amp; Mineral Society
REFRESH-INTERVAL;VALUE=DURATION:PT1H
X-Robots-Tag:noindex
X-PUBLISHED-TTL:PT1H
BEGIN:VTIMEZONE
TZID:America/Chicago
BEGIN:DAYLIGHT
TZOFFSETFROM:-0600
TZOFFSETTO:-0500
TZNAME:CDT
DTSTART:20250309T080000
END:DAYLIGHT
BEGIN:STANDARD
TZOFFSETFROM:-0500
TZOFFSETTO:-0600
TZNAME:CST
DTSTART:20251102T070000
END:STANDARD
BEGIN:DAYLIGHT
TZOFFSETFROM:-0600
TZOFFSETTO:-0500
TZNAME:CDT
DTSTART:20260308T080000
END:DAYLIGHT
BEGIN:STANDARD
TZOFFSETFROM:-0500
TZOFFSETTO:-0600
TZNAME:CST
DTSTART:20261101T070000
END:STANDARD
BEGIN:DAYLIGHT
TZOFFSETFROM:-0600
TZOFFSETTO:-0500
TZNAME:CDT
DTSTART:20270314T080000
END:DAYLIGHT
BEGIN:STANDARD
TZOFFSETFROM:-0500
TZOFFSETTO:-0600
TZNAME:CST
DTSTART:20271107T070000
END:STANDARD
END:VTIMEZONE
BEGIN:VEVENT
DTSTART;TZID=America/Chicago:20260131T100000
DTEND;TZID=America/Chicago:20260131T150000
DTSTAMP:20260422T164915
CREATED:20250319T145518Z
LAST-MODIFIED:20250319T145518Z
UID:23089-1769853600-1769871600@hgms.org
SUMMARY:Open Shop - Saturdays
DESCRIPTION:Shop available for HGMS Member Use Only – additional shop usage fees apply.
URL:https://hgms.org/event/open-shop-saturdays/2026-01-31/
LOCATION:HGMS Clubhouse\, 10805 Brooklet Dr.\, Houston\, TX\, 77099\, United States
CATEGORIES:Open Shop
END:VEVENT
BEGIN:VEVENT
DTSTART;TZID=America/Chicago:20260201T110000
DTEND;TZID=America/Chicago:20260201T160000
DTSTAMP:20260422T164915
CREATED:20250319T145402Z
LAST-MODIFIED:20250319T145402Z
UID:23012-1769943600-1769961600@hgms.org
SUMMARY:Open Shop - Sundays
DESCRIPTION:Shop available for HGMS Member Use Only – additional shop usage fees apply.
URL:https://hgms.org/event/open-shop-sundays/2026-02-01/
LOCATION:HGMS Clubhouse\, 10805 Brooklet Dr.\, Houston\, TX\, 77099\, United States
CATEGORIES:Open Shop
END:VEVENT
BEGIN:VEVENT
DTSTART;TZID=America/Chicago:20260203T193000
DTEND;TZID=America/Chicago:20260203T210000
DTSTAMP:20260422T164915
CREATED:20211224T184140Z
LAST-MODIFIED:20211224T184140Z
UID:18519-1770147000-1770152400@hgms.org
SUMMARY:Board Meeting
DESCRIPTION:This meeting is virtual.  Members who wish to observe the meeting may email president@hgms.org to receive the Zoom link.
URL:https://hgms.org/event/board-meeting-5/2026-02-03/
LOCATION:TX
CATEGORIES:Meetings
END:VEVENT
BEGIN:VEVENT
DTSTART;TZID=America/Chicago:20260204T100000
DTEND;TZID=America/Chicago:20260204T200000
DTSTAMP:20260422T164915
CREATED:20250319T145714Z
LAST-MODIFIED:20250319T150150Z
UID:22881-1770199200-1770235200@hgms.org
SUMMARY:Open Shop - Wednesday
DESCRIPTION:Shop available for HGMS Member Use Only – additional shop usage fees apply.
URL:https://hgms.org/event/open-shop-wednesday/2026-02-04/
LOCATION:HGMS Clubhouse\, 10805 Brooklet Dr.\, Houston\, TX\, 77099\, United States
CATEGORIES:Open Shop
END:VEVENT
BEGIN:VEVENT
DTSTART;TZID=America/Chicago:20260204T120000
DTEND;TZID=America/Chicago:20260204T150000
DTSTAMP:20260422T164915
CREATED:20211224T193453Z
LAST-MODIFIED:20250923T020420Z
UID:23831-1770206400-1770217200@hgms.org
SUMMARY:Day Light Section
DESCRIPTION:See the HGMS Events page for monthly topics and additional details.
URL:https://hgms.org/event/day-light-section/2026-02-04/
LOCATION:HGMS Clubhouse\, 10805 Brooklet Dr.\, Houston\, TX\, 77099\, United States
CATEGORIES:Meetings
END:VEVENT
BEGIN:VEVENT
DTSTART;TZID=America/Chicago:20260205T100000
DTEND;TZID=America/Chicago:20260205T150000
DTSTAMP:20260422T164915
CREATED:20250319T145607Z
LAST-MODIFIED:20250319T145607Z
UID:23308-1770285600-1770303600@hgms.org
SUMMARY:Open Shop - Thursday
DESCRIPTION:Shop available for HGMS Member Use Only – additional shop usage fees apply.
URL:https://hgms.org/event/open-shop-thursday/2026-02-05/
LOCATION:HGMS Clubhouse\, 10805 Brooklet Dr.\, Houston\, TX\, 77099\, United States
CATEGORIES:Open Shop
END:VEVENT
BEGIN:VEVENT
DTSTART;TZID=America/Chicago:20260206T080000
DTEND;TZID=America/Chicago:20260206T120000
DTSTAMP:20260422T164915
CREATED:20220805T220835Z
LAST-MODIFIED:20220805T220835Z
UID:18557-1770364800-1770379200@hgms.org
SUMMARY:Clubhouse Cleaning
DESCRIPTION:Our cleaning service comes every Friday between 8 am and 5 pm. Please avoid scheduling any activities (committee activities\, section meetings and classes) in the Club’s Main Meeting area.
URL:https://hgms.org/event/clubhouse-cleaning/2026-02-06/
LOCATION:TX
END:VEVENT
BEGIN:VEVENT
DTSTART;TZID=America/Chicago:20260207T100000
DTEND;TZID=America/Chicago:20260207T120000
DTSTAMP:20260422T164915
CREATED:20211224T185132Z
LAST-MODIFIED:20211224T185132Z
UID:18561-1770458400-1770465600@hgms.org
SUMMARY:Youth Section
DESCRIPTION:Participants must be minimum age 5 to attend meetings and be accompanied by a parent or guardian at all times when at the clubhouse. Particpants must be active HGMS Youth Members or included in an active HGMS Family membership. \nMasks REQUIRED for all participants and observers. \nSee HGMS Events for additional program details.
URL:https://hgms.org/event/youth-section-9-2022-02-05/2026-02-07/
LOCATION:HGMS Clubhouse\, 10805 Brooklet Dr.\, Houston\, TX\, 77099\, United States
CATEGORIES:Meetings
END:VEVENT
BEGIN:VEVENT
DTSTART;TZID=America/Chicago:20260207T100000
DTEND;TZID=America/Chicago:20260207T150000
DTSTAMP:20260422T164915
CREATED:20250319T145518Z
LAST-MODIFIED:20250319T145518Z
UID:23091-1770458400-1770476400@hgms.org
SUMMARY:Open Shop - Saturdays
DESCRIPTION:Shop available for HGMS Member Use Only – additional shop usage fees apply.
URL:https://hgms.org/event/open-shop-saturdays/2026-02-07/
LOCATION:HGMS Clubhouse\, 10805 Brooklet Dr.\, Houston\, TX\, 77099\, United States
CATEGORIES:Open Shop
END:VEVENT
BEGIN:VEVENT
DTSTART;TZID=America/Chicago:20260208T110000
DTEND;TZID=America/Chicago:20260208T160000
DTSTAMP:20260422T164915
CREATED:20250319T145402Z
LAST-MODIFIED:20250319T145402Z
UID:23014-1770548400-1770566400@hgms.org
SUMMARY:Open Shop - Sundays
DESCRIPTION:Shop available for HGMS Member Use Only – additional shop usage fees apply.
URL:https://hgms.org/event/open-shop-sundays/2026-02-08/
LOCATION:HGMS Clubhouse\, 10805 Brooklet Dr.\, Houston\, TX\, 77099\, United States
CATEGORIES:Open Shop
END:VEVENT
BEGIN:VEVENT
DTSTART;TZID=America/Chicago:20260211T100000
DTEND;TZID=America/Chicago:20260211T200000
DTSTAMP:20260422T164915
CREATED:20250319T145714Z
LAST-MODIFIED:20250319T150150Z
UID:22882-1770804000-1770840000@hgms.org
SUMMARY:Open Shop - Wednesday
DESCRIPTION:Shop available for HGMS Member Use Only – additional shop usage fees apply.
URL:https://hgms.org/event/open-shop-wednesday/2026-02-11/
LOCATION:HGMS Clubhouse\, 10805 Brooklet Dr.\, Houston\, TX\, 77099\, United States
CATEGORIES:Open Shop
END:VEVENT
BEGIN:VEVENT
DTSTART;TZID=America/Chicago:20260212T100000
DTEND;TZID=America/Chicago:20260212T150000
DTSTAMP:20260422T164915
CREATED:20250319T145607Z
LAST-MODIFIED:20250319T145607Z
UID:23310-1770890400-1770908400@hgms.org
SUMMARY:Open Shop - Thursday
DESCRIPTION:Shop available for HGMS Member Use Only – additional shop usage fees apply.
URL:https://hgms.org/event/open-shop-thursday/2026-02-12/
LOCATION:HGMS Clubhouse\, 10805 Brooklet Dr.\, Houston\, TX\, 77099\, United States
CATEGORIES:Open Shop
END:VEVENT
BEGIN:VEVENT
DTSTART;TZID=America/Chicago:20260213T080000
DTEND;TZID=America/Chicago:20260213T120000
DTSTAMP:20260422T164915
CREATED:20220805T220835Z
LAST-MODIFIED:20220805T220835Z
UID:18627-1770969600-1770984000@hgms.org
SUMMARY:Clubhouse Cleaning
DESCRIPTION:Our cleaning service comes every Friday between 8 am and 5 pm. Please avoid scheduling any activities (committee activities\, section meetings and classes) in the Club’s Main Meeting area.
URL:https://hgms.org/event/clubhouse-cleaning/2026-02-13/
LOCATION:TX
END:VEVENT
BEGIN:VEVENT
DTSTART;TZID=America/Chicago:20260214T100000
DTEND;TZID=America/Chicago:20260214T150000
DTSTAMP:20260422T164915
CREATED:20250319T145518Z
LAST-MODIFIED:20250319T145518Z
UID:23093-1771063200-1771081200@hgms.org
SUMMARY:Open Shop - Saturdays
DESCRIPTION:Shop available for HGMS Member Use Only – additional shop usage fees apply.
URL:https://hgms.org/event/open-shop-saturdays/2026-02-14/
LOCATION:HGMS Clubhouse\, 10805 Brooklet Dr.\, Houston\, TX\, 77099\, United States
CATEGORIES:Open Shop
END:VEVENT
BEGIN:VEVENT
DTSTART;TZID=America/Chicago:20260215T110000
DTEND;TZID=America/Chicago:20260215T160000
DTSTAMP:20260422T164915
CREATED:20250319T145402Z
LAST-MODIFIED:20250319T145402Z
UID:23016-1771153200-1771171200@hgms.org
SUMMARY:Open Shop - Sundays
DESCRIPTION:Shop available for HGMS Member Use Only – additional shop usage fees apply.
URL:https://hgms.org/event/open-shop-sundays/2026-02-15/
LOCATION:HGMS Clubhouse\, 10805 Brooklet Dr.\, Houston\, TX\, 77099\, United States
CATEGORIES:Open Shop
END:VEVENT
BEGIN:VEVENT
DTSTART;TZID=America/Chicago:20260217T193000
DTEND;TZID=America/Chicago:20260217T210000
DTSTAMP:20260422T164915
CREATED:20211224T193622Z
LAST-MODIFIED:20211224T193622Z
UID:18652-1771356600-1771362000@hgms.org
SUMMARY:Paleo Section
DESCRIPTION:See the HGMS Events page for monthly topics and additional details.
URL:https://hgms.org/event/paleo-section/2026-02-17/
LOCATION:HGMS Clubhouse\, 10805 Brooklet Dr.\, Houston\, TX\, 77099\, United States
CATEGORIES:Meetings
END:VEVENT
BEGIN:VEVENT
DTSTART;TZID=America/Chicago:20260218T100000
DTEND;TZID=America/Chicago:20260218T200000
DTSTAMP:20260422T164915
CREATED:20250319T145714Z
LAST-MODIFIED:20250319T150150Z
UID:22883-1771408800-1771444800@hgms.org
SUMMARY:Open Shop - Wednesday
DESCRIPTION:Shop available for HGMS Member Use Only – additional shop usage fees apply.
URL:https://hgms.org/event/open-shop-wednesday/2026-02-18/
LOCATION:HGMS Clubhouse\, 10805 Brooklet Dr.\, Houston\, TX\, 77099\, United States
CATEGORIES:Open Shop
END:VEVENT
BEGIN:VEVENT
DTSTART;TZID=America/Chicago:20260218T193000
DTEND;TZID=America/Chicago:20260218T210000
DTSTAMP:20260422T164915
CREATED:20211224T192728Z
LAST-MODIFIED:20250104T020740Z
UID:18657-1771443000-1771448400@hgms.org
SUMMARY:Mineral Section
DESCRIPTION:January 15th Meeting is Cancelled. \nMeetings are on the third Wednesday of the month and are hybrid\, in person and via Zoom. To join Zoom Meeting\, use link\nhttps://us02web.zoom.us/j/4517997588?pwd=SnZjckZBTnRMbHRxZitScE9WU3RWUT09 \nMeeting ID: 451 799 7588\nPasscode: 623955 \nSee the HGMS Events page for meeting topic.
URL:https://hgms.org/event/mineral-section/2026-02-18/
LOCATION:TX
CATEGORIES:Meetings
END:VEVENT
BEGIN:VEVENT
DTSTART;TZID=America/Chicago:20260219T100000
DTEND;TZID=America/Chicago:20260219T150000
DTSTAMP:20260422T164915
CREATED:20250319T145607Z
LAST-MODIFIED:20250319T145607Z
UID:23311-1771495200-1771513200@hgms.org
SUMMARY:Open Shop - Thursday
DESCRIPTION:Shop available for HGMS Member Use Only – additional shop usage fees apply.
URL:https://hgms.org/event/open-shop-thursday/2026-02-19/
LOCATION:HGMS Clubhouse\, 10805 Brooklet Dr.\, Houston\, TX\, 77099\, United States
CATEGORIES:Open Shop
END:VEVENT
BEGIN:VEVENT
DTSTART;TZID=America/Chicago:20260219T180000
DTEND;TZID=America/Chicago:20260219T200000
DTSTAMP:20260422T164915
CREATED:20211224T193300Z
LAST-MODIFIED:20250923T014955Z
UID:24478-1771524000-1771531200@hgms.org
SUMMARY:Faceting Section
DESCRIPTION:This meeting is currently virtual.  Please email faceting@hgms.org for Zoom link. \nSee the HGMS Events page for monthly topic and additional details.
URL:https://hgms.org/event/faceting-section-2022-04-13/2026-02-19/
LOCATION:TX
END:VEVENT
BEGIN:VEVENT
DTSTART;TZID=America/Chicago:20260220T080000
DTEND;TZID=America/Chicago:20260220T120000
DTSTAMP:20260422T164915
CREATED:20220805T220835Z
LAST-MODIFIED:20220805T220835Z
UID:18660-1771574400-1771588800@hgms.org
SUMMARY:Clubhouse Cleaning
DESCRIPTION:Our cleaning service comes every Friday between 8 am and 5 pm. Please avoid scheduling any activities (committee activities\, section meetings and classes) in the Club’s Main Meeting area.
URL:https://hgms.org/event/clubhouse-cleaning/2026-02-20/
LOCATION:TX
END:VEVENT
BEGIN:VEVENT
DTSTART;TZID=America/Chicago:20260221T100000
DTEND;TZID=America/Chicago:20260221T120000
DTSTAMP:20260422T164915
CREATED:20211224T185336Z
LAST-MODIFIED:20211224T185336Z
UID:18667-1771668000-1771675200@hgms.org
SUMMARY:Youth Section
DESCRIPTION:Participants must be minimum age 5 to attend meetings and be accompanied by a parent or guardian at all times when at the clubhouse. Particpants must be active HGMS Youth Members or included in an active HGMS Family membership. \nMasks REQUIRED for all participants and observers. \nSee HGMS Events for additional program details.
URL:https://hgms.org/event/youth-section-10/2026-02-21/
LOCATION:TX
END:VEVENT
BEGIN:VEVENT
DTSTART;TZID=America/Chicago:20260221T100000
DTEND;TZID=America/Chicago:20260221T150000
DTSTAMP:20260422T164915
CREATED:20250319T145518Z
LAST-MODIFIED:20250319T145518Z
UID:23096-1771668000-1771686000@hgms.org
SUMMARY:Open Shop - Saturdays
DESCRIPTION:Shop available for HGMS Member Use Only – additional shop usage fees apply.
URL:https://hgms.org/event/open-shop-saturdays/2026-02-21/
LOCATION:HGMS Clubhouse\, 10805 Brooklet Dr.\, Houston\, TX\, 77099\, United States
CATEGORIES:Open Shop
END:VEVENT
BEGIN:VEVENT
DTSTART;TZID=America/Chicago:20260222T110000
DTEND;TZID=America/Chicago:20260222T160000
DTSTAMP:20260422T164915
CREATED:20250319T145402Z
LAST-MODIFIED:20250319T145402Z
UID:23018-1771758000-1771776000@hgms.org
SUMMARY:Open Shop - Sundays
DESCRIPTION:Shop available for HGMS Member Use Only – additional shop usage fees apply.
URL:https://hgms.org/event/open-shop-sundays/2026-02-22/
LOCATION:HGMS Clubhouse\, 10805 Brooklet Dr.\, Houston\, TX\, 77099\, United States
CATEGORIES:Open Shop
END:VEVENT
BEGIN:VEVENT
DTSTART;TZID=America/Chicago:20260224T193000
DTEND;TZID=America/Chicago:20260224T210000
DTSTAMP:20260422T164915
CREATED:20211224T182359Z
LAST-MODIFIED:20211224T182359Z
UID:18716-1771961400-1771966800@hgms.org
SUMMARY:General Meeting
DESCRIPTION:This meeting is open to members and visitors.  It occurs the 4th Tuesday of each month.  Check our Events page for monthly topics. \nHGMS Events \n 
URL:https://hgms.org/event/general-meeting-4/2026-02-24/
LOCATION:TX
CATEGORIES:Meetings
END:VEVENT
BEGIN:VEVENT
DTSTART;TZID=America/Chicago:20260225T100000
DTEND;TZID=America/Chicago:20260225T200000
DTSTAMP:20260422T164915
CREATED:20250319T145714Z
LAST-MODIFIED:20250319T150150Z
UID:22884-1772013600-1772049600@hgms.org
SUMMARY:Open Shop - Wednesday
DESCRIPTION:Shop available for HGMS Member Use Only – additional shop usage fees apply.
URL:https://hgms.org/event/open-shop-wednesday/2026-02-25/
LOCATION:HGMS Clubhouse\, 10805 Brooklet Dr.\, Houston\, TX\, 77099\, United States
CATEGORIES:Open Shop
END:VEVENT
BEGIN:VEVENT
DTSTART;TZID=America/Chicago:20260226T100000
DTEND;TZID=America/Chicago:20260226T150000
DTSTAMP:20260422T164915
CREATED:20250319T145607Z
LAST-MODIFIED:20250319T145607Z
UID:23313-1772100000-1772118000@hgms.org
SUMMARY:Open Shop - Thursday
DESCRIPTION:Shop available for HGMS Member Use Only – additional shop usage fees apply.
URL:https://hgms.org/event/open-shop-thursday/2026-02-26/
LOCATION:HGMS Clubhouse\, 10805 Brooklet Dr.\, Houston\, TX\, 77099\, United States
CATEGORIES:Open Shop
END:VEVENT
BEGIN:VEVENT
DTSTART;TZID=America/Chicago:20260227T080000
DTEND;TZID=America/Chicago:20260227T120000
DTSTAMP:20260422T164915
CREATED:20220805T220835Z
LAST-MODIFIED:20220805T220835Z
UID:18730-1772179200-1772193600@hgms.org
SUMMARY:Clubhouse Cleaning
DESCRIPTION:Our cleaning service comes every Friday between 8 am and 5 pm. Please avoid scheduling any activities (committee activities\, section meetings and classes) in the Club’s Main Meeting area.
URL:https://hgms.org/event/clubhouse-cleaning/2026-02-27/
LOCATION:TX
END:VEVENT
BEGIN:VEVENT
DTSTART;TZID=America/Chicago:20260228T100000
DTEND;TZID=America/Chicago:20260228T150000
DTSTAMP:20260422T164915
CREATED:20250319T145518Z
LAST-MODIFIED:20250319T145518Z
UID:23099-1772272800-1772290800@hgms.org
SUMMARY:Open Shop - Saturdays
DESCRIPTION:Shop available for HGMS Member Use Only – additional shop usage fees apply.
URL:https://hgms.org/event/open-shop-saturdays/2026-02-28/
LOCATION:HGMS Clubhouse\, 10805 Brooklet Dr.\, Houston\, TX\, 77099\, United States
CATEGORIES:Open Shop
END:VEVENT
BEGIN:VEVENT
DTSTART;TZID=America/Chicago:20260228T100000
DTEND;TZID=America/Chicago:20260301T170000
DTSTAMP:20260422T164915
CREATED:20260218T160619Z
LAST-MODIFIED:20260218T160630Z
UID:26371-1772272800-1772384400@hgms.org
SUMMARY:Clear Lake Gem & Mineral Show
DESCRIPTION:
URL:https://hgms.org/event/clear-lake-gem-mineral-show/
LOCATION:TX
END:VEVENT
END:VCALENDAR