BEGIN:VCALENDAR
VERSION:2.0
PRODID:-//HGMS - Houston Gem &amp; Mineral Society - ECPv6.15.18//NONSGML v1.0//EN
CALSCALE:GREGORIAN
METHOD:PUBLISH
X-WR-CALNAME:HGMS - Houston Gem &amp; Mineral Society
X-ORIGINAL-URL:https://hgms.org
X-WR-CALDESC:Events for HGMS - Houston Gem &amp; Mineral Society
REFRESH-INTERVAL;VALUE=DURATION:PT1H
X-Robots-Tag:noindex
X-PUBLISHED-TTL:PT1H
BEGIN:VTIMEZONE
TZID:America/Chicago
BEGIN:DAYLIGHT
TZOFFSETFROM:-0600
TZOFFSETTO:-0500
TZNAME:CDT
DTSTART:20250309T080000
END:DAYLIGHT
BEGIN:STANDARD
TZOFFSETFROM:-0500
TZOFFSETTO:-0600
TZNAME:CST
DTSTART:20251102T070000
END:STANDARD
BEGIN:DAYLIGHT
TZOFFSETFROM:-0600
TZOFFSETTO:-0500
TZNAME:CDT
DTSTART:20260308T080000
END:DAYLIGHT
BEGIN:STANDARD
TZOFFSETFROM:-0500
TZOFFSETTO:-0600
TZNAME:CST
DTSTART:20261101T070000
END:STANDARD
BEGIN:DAYLIGHT
TZOFFSETFROM:-0600
TZOFFSETTO:-0500
TZNAME:CDT
DTSTART:20270314T080000
END:DAYLIGHT
BEGIN:STANDARD
TZOFFSETFROM:-0500
TZOFFSETTO:-0600
TZNAME:CST
DTSTART:20271107T070000
END:STANDARD
END:VTIMEZONE
BEGIN:VEVENT
DTSTART;TZID=America/Chicago:20260913T110000
DTEND;TZID=America/Chicago:20260913T160000
DTSTAMP:20260422T172517
CREATED:20250319T145402Z
LAST-MODIFIED:20250319T145402Z
UID:23097-1789297200-1789315200@hgms.org
SUMMARY:Open Shop - Sundays
DESCRIPTION:Shop available for HGMS Member Use Only – additional shop usage fees apply.
URL:https://hgms.org/event/open-shop-sundays/2026-09-13/
LOCATION:HGMS Clubhouse\, 10805 Brooklet Dr.\, Houston\, TX\, 77099\, United States
CATEGORIES:Open Shop
END:VEVENT
BEGIN:VEVENT
DTSTART;TZID=America/Chicago:20260912T100000
DTEND;TZID=America/Chicago:20260912T150000
DTSTAMP:20260422T172517
CREATED:20250319T145518Z
LAST-MODIFIED:20250319T145518Z
UID:23179-1789207200-1789225200@hgms.org
SUMMARY:Open Shop - Saturdays
DESCRIPTION:Shop available for HGMS Member Use Only – additional shop usage fees apply.
URL:https://hgms.org/event/open-shop-saturdays/2026-09-12/
LOCATION:HGMS Clubhouse\, 10805 Brooklet Dr.\, Houston\, TX\, 77099\, United States
CATEGORIES:Open Shop
END:VEVENT
BEGIN:VEVENT
DTSTART;TZID=America/Chicago:20260912T100000
DTEND;TZID=America/Chicago:20260912T130000
DTSTAMP:20260422T172517
CREATED:20211224T192957Z
LAST-MODIFIED:20211224T192957Z
UID:26331-1789207200-1789218000@hgms.org
SUMMARY:Beading Section
DESCRIPTION:See the HGMS Events page for monthly topic and additional details.
URL:https://hgms.org/event/beading-section-2-2023-10-21/2026-09-12/
LOCATION:HGMS Clubhouse\, 10805 Brooklet Dr.\, Houston\, TX\, 77099\, United States
CATEGORIES:Meetings
END:VEVENT
BEGIN:VEVENT
DTSTART;TZID=America/Chicago:20260911T080000
DTEND;TZID=America/Chicago:20260911T120000
DTSTAMP:20260422T172517
CREATED:20220805T220835Z
LAST-MODIFIED:20220805T220835Z
UID:19916-1789113600-1789128000@hgms.org
SUMMARY:Clubhouse Cleaning
DESCRIPTION:Our cleaning service comes every Friday between 8 am and 5 pm. Please avoid scheduling any activities (committee activities\, section meetings and classes) in the Club’s Main Meeting area.
URL:https://hgms.org/event/clubhouse-cleaning/2026-09-11/
LOCATION:TX
END:VEVENT
BEGIN:VEVENT
DTSTART;TZID=America/Chicago:20260910T100000
DTEND;TZID=America/Chicago:20260910T150000
DTSTAMP:20260422T172517
CREATED:20250319T145607Z
LAST-MODIFIED:20250319T145607Z
UID:23350-1789034400-1789052400@hgms.org
SUMMARY:Open Shop - Thursday
DESCRIPTION:Shop available for HGMS Member Use Only – additional shop usage fees apply.
URL:https://hgms.org/event/open-shop-thursday/2026-09-10/
LOCATION:HGMS Clubhouse\, 10805 Brooklet Dr.\, Houston\, TX\, 77099\, United States
CATEGORIES:Open Shop
END:VEVENT
BEGIN:VEVENT
DTSTART;TZID=America/Chicago:20260909T100000
DTEND;TZID=America/Chicago:20260909T200000
DTSTAMP:20260422T172517
CREATED:20250319T145714Z
LAST-MODIFIED:20250319T150158Z
UID:22912-1788948000-1788984000@hgms.org
SUMMARY:Open Shop - Wednesday
DESCRIPTION:Shop available for HGMS Member Use Only – additional shop usage fees apply.
URL:https://hgms.org/event/open-shop-wednesday/2026-09-09/
LOCATION:HGMS Clubhouse\, 10805 Brooklet Dr.\, Houston\, TX\, 77099\, United States
CATEGORIES:Open Shop
END:VEVENT
BEGIN:VEVENT
DTSTART;TZID=America/Chicago:20260906T110000
DTEND;TZID=America/Chicago:20260906T160000
DTSTAMP:20260422T172517
CREATED:20250319T145402Z
LAST-MODIFIED:20250319T145402Z
UID:23095-1788692400-1788710400@hgms.org
SUMMARY:Open Shop - Sundays
DESCRIPTION:Shop available for HGMS Member Use Only – additional shop usage fees apply.
URL:https://hgms.org/event/open-shop-sundays/2026-09-06/
LOCATION:HGMS Clubhouse\, 10805 Brooklet Dr.\, Houston\, TX\, 77099\, United States
CATEGORIES:Open Shop
END:VEVENT
BEGIN:VEVENT
DTSTART;TZID=America/Chicago:20260905T100000
DTEND;TZID=America/Chicago:20260905T150000
DTSTAMP:20260422T172517
CREATED:20250319T145518Z
LAST-MODIFIED:20250319T145518Z
UID:23176-1788602400-1788620400@hgms.org
SUMMARY:Open Shop - Saturdays
DESCRIPTION:Shop available for HGMS Member Use Only – additional shop usage fees apply.
URL:https://hgms.org/event/open-shop-saturdays/2026-09-05/
LOCATION:HGMS Clubhouse\, 10805 Brooklet Dr.\, Houston\, TX\, 77099\, United States
CATEGORIES:Open Shop
END:VEVENT
BEGIN:VEVENT
DTSTART;TZID=America/Chicago:20260905T100000
DTEND;TZID=America/Chicago:20260905T120000
DTSTAMP:20260422T172517
CREATED:20211224T185132Z
LAST-MODIFIED:20211224T185132Z
UID:19885-1788602400-1788609600@hgms.org
SUMMARY:Youth Section
DESCRIPTION:Participants must be minimum age 5 to attend meetings and be accompanied by a parent or guardian at all times when at the clubhouse. Particpants must be active HGMS Youth Members or included in an active HGMS Family membership. \nMasks REQUIRED for all participants and observers. \nSee HGMS Events for additional program details.
URL:https://hgms.org/event/youth-section-9-2022-02-05/2026-09-05/
LOCATION:HGMS Clubhouse\, 10805 Brooklet Dr.\, Houston\, TX\, 77099\, United States
CATEGORIES:Meetings
END:VEVENT
BEGIN:VEVENT
DTSTART;TZID=America/Chicago:20260904T080000
DTEND;TZID=America/Chicago:20260904T120000
DTSTAMP:20260422T172517
CREATED:20220805T220835Z
LAST-MODIFIED:20220805T220835Z
UID:19883-1788508800-1788523200@hgms.org
SUMMARY:Clubhouse Cleaning
DESCRIPTION:Our cleaning service comes every Friday between 8 am and 5 pm. Please avoid scheduling any activities (committee activities\, section meetings and classes) in the Club’s Main Meeting area.
URL:https://hgms.org/event/clubhouse-cleaning/2026-09-04/
LOCATION:TX
END:VEVENT
BEGIN:VEVENT
DTSTART;TZID=America/Chicago:20260903T100000
DTEND;TZID=America/Chicago:20260903T150000
DTSTAMP:20260422T172517
CREATED:20250319T145607Z
LAST-MODIFIED:20250319T145607Z
UID:23349-1788429600-1788447600@hgms.org
SUMMARY:Open Shop - Thursday
DESCRIPTION:Shop available for HGMS Member Use Only – additional shop usage fees apply.
URL:https://hgms.org/event/open-shop-thursday/2026-09-03/
LOCATION:HGMS Clubhouse\, 10805 Brooklet Dr.\, Houston\, TX\, 77099\, United States
CATEGORIES:Open Shop
END:VEVENT
BEGIN:VEVENT
DTSTART;TZID=America/Chicago:20260902T120000
DTEND;TZID=America/Chicago:20260902T150000
DTSTAMP:20260422T172517
CREATED:20211224T193453Z
LAST-MODIFIED:20250923T020423Z
UID:23838-1788350400-1788361200@hgms.org
SUMMARY:Day Light Section
DESCRIPTION:See the HGMS Events page for monthly topics and additional details.
URL:https://hgms.org/event/day-light-section/2026-09-02/
LOCATION:HGMS Clubhouse\, 10805 Brooklet Dr.\, Houston\, TX\, 77099\, United States
CATEGORIES:Meetings
END:VEVENT
BEGIN:VEVENT
DTSTART;TZID=America/Chicago:20260902T100000
DTEND;TZID=America/Chicago:20260902T200000
DTSTAMP:20260422T172517
CREATED:20250319T145714Z
LAST-MODIFIED:20250319T150158Z
UID:22911-1788343200-1788379200@hgms.org
SUMMARY:Open Shop - Wednesday
DESCRIPTION:Shop available for HGMS Member Use Only – additional shop usage fees apply.
URL:https://hgms.org/event/open-shop-wednesday/2026-09-02/
LOCATION:HGMS Clubhouse\, 10805 Brooklet Dr.\, Houston\, TX\, 77099\, United States
CATEGORIES:Open Shop
END:VEVENT
BEGIN:VEVENT
DTSTART;TZID=America/Chicago:20260901T193000
DTEND;TZID=America/Chicago:20260901T210000
DTSTAMP:20260422T172517
CREATED:20211224T184140Z
LAST-MODIFIED:20211224T184140Z
UID:19874-1788291000-1788296400@hgms.org
SUMMARY:Board Meeting
DESCRIPTION:This meeting is virtual.  Members who wish to observe the meeting may email president@hgms.org to receive the Zoom link.
URL:https://hgms.org/event/board-meeting-5/2026-09-01/
LOCATION:TX
CATEGORIES:Meetings
END:VEVENT
BEGIN:VEVENT
DTSTART;TZID=America/Chicago:20260830T110000
DTEND;TZID=America/Chicago:20260830T160000
DTSTAMP:20260422T172517
CREATED:20250319T145402Z
LAST-MODIFIED:20250319T145402Z
UID:23092-1788087600-1788105600@hgms.org
SUMMARY:Open Shop - Sundays
DESCRIPTION:Shop available for HGMS Member Use Only – additional shop usage fees apply.
URL:https://hgms.org/event/open-shop-sundays/2026-08-30/
LOCATION:HGMS Clubhouse\, 10805 Brooklet Dr.\, Houston\, TX\, 77099\, United States
CATEGORIES:Open Shop
END:VEVENT
BEGIN:VEVENT
DTSTART;TZID=America/Chicago:20260829T100000
DTEND;TZID=America/Chicago:20260829T150000
DTSTAMP:20260422T172517
CREATED:20250319T145518Z
LAST-MODIFIED:20250319T145518Z
UID:23173-1787997600-1788015600@hgms.org
SUMMARY:Open Shop - Saturdays
DESCRIPTION:Shop available for HGMS Member Use Only – additional shop usage fees apply.
URL:https://hgms.org/event/open-shop-saturdays/2026-08-29/
LOCATION:HGMS Clubhouse\, 10805 Brooklet Dr.\, Houston\, TX\, 77099\, United States
CATEGORIES:Open Shop
END:VEVENT
BEGIN:VEVENT
DTSTART;TZID=America/Chicago:20260828T080000
DTEND;TZID=America/Chicago:20260828T120000
DTSTAMP:20260422T172517
CREATED:20220805T220835Z
LAST-MODIFIED:20220805T220835Z
UID:19796-1787904000-1787918400@hgms.org
SUMMARY:Clubhouse Cleaning
DESCRIPTION:Our cleaning service comes every Friday between 8 am and 5 pm. Please avoid scheduling any activities (committee activities\, section meetings and classes) in the Club’s Main Meeting area.
URL:https://hgms.org/event/clubhouse-cleaning/2026-08-28/
LOCATION:TX
END:VEVENT
BEGIN:VEVENT
DTSTART;TZID=America/Chicago:20260827T100000
DTEND;TZID=America/Chicago:20260827T150000
DTSTAMP:20260422T172517
CREATED:20250319T145607Z
LAST-MODIFIED:20250319T145607Z
UID:23348-1787824800-1787842800@hgms.org
SUMMARY:Open Shop - Thursday
DESCRIPTION:Shop available for HGMS Member Use Only – additional shop usage fees apply.
URL:https://hgms.org/event/open-shop-thursday/2026-08-27/
LOCATION:HGMS Clubhouse\, 10805 Brooklet Dr.\, Houston\, TX\, 77099\, United States
CATEGORIES:Open Shop
END:VEVENT
BEGIN:VEVENT
DTSTART;TZID=America/Chicago:20260826T100000
DTEND;TZID=America/Chicago:20260826T200000
DTSTAMP:20260422T172517
CREATED:20250319T145714Z
LAST-MODIFIED:20250319T150158Z
UID:22910-1787738400-1787774400@hgms.org
SUMMARY:Open Shop - Wednesday
DESCRIPTION:Shop available for HGMS Member Use Only – additional shop usage fees apply.
URL:https://hgms.org/event/open-shop-wednesday/2026-08-26/
LOCATION:HGMS Clubhouse\, 10805 Brooklet Dr.\, Houston\, TX\, 77099\, United States
CATEGORIES:Open Shop
END:VEVENT
BEGIN:VEVENT
DTSTART;TZID=America/Chicago:20260825T193000
DTEND;TZID=America/Chicago:20260825T210000
DTSTAMP:20260422T172517
CREATED:20211224T182359Z
LAST-MODIFIED:20211224T182359Z
UID:19762-1787686200-1787691600@hgms.org
SUMMARY:General Meeting
DESCRIPTION:This meeting is open to members and visitors.  It occurs the 4th Tuesday of each month.  Check our Events page for monthly topics. \nHGMS Events \n 
URL:https://hgms.org/event/general-meeting-4/2026-08-25/
LOCATION:TX
CATEGORIES:Meetings
END:VEVENT
BEGIN:VEVENT
DTSTART;TZID=America/Chicago:20260823T110000
DTEND;TZID=America/Chicago:20260823T160000
DTSTAMP:20260422T172517
CREATED:20250319T145402Z
LAST-MODIFIED:20250319T145402Z
UID:23090-1787482800-1787500800@hgms.org
SUMMARY:Open Shop - Sundays
DESCRIPTION:Shop available for HGMS Member Use Only – additional shop usage fees apply.
URL:https://hgms.org/event/open-shop-sundays/2026-08-23/
LOCATION:HGMS Clubhouse\, 10805 Brooklet Dr.\, Houston\, TX\, 77099\, United States
CATEGORIES:Open Shop
END:VEVENT
BEGIN:VEVENT
DTSTART;TZID=America/Chicago:20260822T100000
DTEND;TZID=America/Chicago:20260822T150000
DTSTAMP:20260422T172517
CREATED:20250319T145518Z
LAST-MODIFIED:20250319T145518Z
UID:23170-1787392800-1787410800@hgms.org
SUMMARY:Open Shop - Saturdays
DESCRIPTION:Shop available for HGMS Member Use Only – additional shop usage fees apply.
URL:https://hgms.org/event/open-shop-saturdays/2026-08-22/
LOCATION:HGMS Clubhouse\, 10805 Brooklet Dr.\, Houston\, TX\, 77099\, United States
CATEGORIES:Open Shop
END:VEVENT
BEGIN:VEVENT
DTSTART;TZID=America/Chicago:20260821T080000
DTEND;TZID=America/Chicago:20260821T120000
DTSTAMP:20260422T172517
CREATED:20220805T220835Z
LAST-MODIFIED:20220805T220835Z
UID:19731-1787299200-1787313600@hgms.org
SUMMARY:Clubhouse Cleaning
DESCRIPTION:Our cleaning service comes every Friday between 8 am and 5 pm. Please avoid scheduling any activities (committee activities\, section meetings and classes) in the Club’s Main Meeting area.
URL:https://hgms.org/event/clubhouse-cleaning/2026-08-21/
LOCATION:TX
END:VEVENT
BEGIN:VEVENT
DTSTART;TZID=America/Chicago:20260820T180000
DTEND;TZID=America/Chicago:20260820T200000
DTSTAMP:20260422T172517
CREATED:20211224T193300Z
LAST-MODIFIED:20250923T015004Z
UID:24484-1787248800-1787256000@hgms.org
SUMMARY:Faceting Section
DESCRIPTION:This meeting is currently virtual.  Please email faceting@hgms.org for Zoom link. \nSee the HGMS Events page for monthly topic and additional details.
URL:https://hgms.org/event/faceting-section-2022-04-13/2026-08-20/
LOCATION:TX
END:VEVENT
BEGIN:VEVENT
DTSTART;TZID=America/Chicago:20260820T100000
DTEND;TZID=America/Chicago:20260820T150000
DTSTAMP:20260422T172517
CREATED:20250319T145607Z
LAST-MODIFIED:20250319T145607Z
UID:23347-1787220000-1787238000@hgms.org
SUMMARY:Open Shop - Thursday
DESCRIPTION:Shop available for HGMS Member Use Only – additional shop usage fees apply.
URL:https://hgms.org/event/open-shop-thursday/2026-08-20/
LOCATION:HGMS Clubhouse\, 10805 Brooklet Dr.\, Houston\, TX\, 77099\, United States
CATEGORIES:Open Shop
END:VEVENT
BEGIN:VEVENT
DTSTART;TZID=America/Chicago:20260819T193000
DTEND;TZID=America/Chicago:20260819T210000
DTSTAMP:20260422T172517
CREATED:20211224T192728Z
LAST-MODIFIED:20250104T020742Z
UID:19723-1787167800-1787173200@hgms.org
SUMMARY:Mineral Section
DESCRIPTION:January 15th Meeting is Cancelled. \nMeetings are on the third Wednesday of the month and are hybrid\, in person and via Zoom. To join Zoom Meeting\, use link\nhttps://us02web.zoom.us/j/4517997588?pwd=SnZjckZBTnRMbHRxZitScE9WU3RWUT09 \nMeeting ID: 451 799 7588\nPasscode: 623955 \nSee the HGMS Events page for meeting topic.
URL:https://hgms.org/event/mineral-section/2026-08-19/
LOCATION:TX
CATEGORIES:Meetings
END:VEVENT
BEGIN:VEVENT
DTSTART;TZID=America/Chicago:20260819T100000
DTEND;TZID=America/Chicago:20260819T200000
DTSTAMP:20260422T172517
CREATED:20250319T145714Z
LAST-MODIFIED:20250319T150157Z
UID:22909-1787133600-1787169600@hgms.org
SUMMARY:Open Shop - Wednesday
DESCRIPTION:Shop available for HGMS Member Use Only – additional shop usage fees apply.
URL:https://hgms.org/event/open-shop-wednesday/2026-08-19/
LOCATION:HGMS Clubhouse\, 10805 Brooklet Dr.\, Houston\, TX\, 77099\, United States
CATEGORIES:Open Shop
END:VEVENT
BEGIN:VEVENT
DTSTART;TZID=America/Chicago:20260818T193000
DTEND;TZID=America/Chicago:20260818T210000
DTSTAMP:20260422T172517
CREATED:20211224T193622Z
LAST-MODIFIED:20211224T193622Z
UID:19706-1787081400-1787086800@hgms.org
SUMMARY:Paleo Section
DESCRIPTION:See the HGMS Events page for monthly topics and additional details.
URL:https://hgms.org/event/paleo-section/2026-08-18/
LOCATION:HGMS Clubhouse\, 10805 Brooklet Dr.\, Houston\, TX\, 77099\, United States
CATEGORIES:Meetings
END:VEVENT
BEGIN:VEVENT
DTSTART;TZID=America/Chicago:20260817T190000
DTEND;TZID=America/Chicago:20260817T210000
DTSTAMP:20260422T172517
CREATED:20250319T151411Z
LAST-MODIFIED:20250319T151411Z
UID:26353-1786993200-1787000400@hgms.org
SUMMARY:Lapidary Section
DESCRIPTION:See the HGMS Events page for monthly topic and additional details.
URL:https://hgms.org/event/lapidary-section/2026-08-17/
LOCATION:HGMS Clubhouse Main Meeting Room\, 10805 Brooklet\, Houston\, 77099\, United States
CATEGORIES:Meetings
END:VEVENT
BEGIN:VEVENT
DTSTART;TZID=America/Chicago:20260816T110000
DTEND;TZID=America/Chicago:20260816T160000
DTSTAMP:20260422T172517
CREATED:20250319T145402Z
LAST-MODIFIED:20250319T145402Z
UID:23088-1786878000-1786896000@hgms.org
SUMMARY:Open Shop - Sundays
DESCRIPTION:Shop available for HGMS Member Use Only – additional shop usage fees apply.
URL:https://hgms.org/event/open-shop-sundays/2026-08-16/
LOCATION:HGMS Clubhouse\, 10805 Brooklet Dr.\, Houston\, TX\, 77099\, United States
CATEGORIES:Open Shop
END:VEVENT
END:VCALENDAR