BEGIN:VCALENDAR
VERSION:2.0
PRODID:-//HGMS - Houston Gem &amp; Mineral Society - ECPv6.15.20//NONSGML v1.0//EN
CALSCALE:GREGORIAN
METHOD:PUBLISH
X-WR-CALNAME:HGMS - Houston Gem &amp; Mineral Society
X-ORIGINAL-URL:https://hgms.org
X-WR-CALDESC:Events for HGMS - Houston Gem &amp; Mineral Society
REFRESH-INTERVAL;VALUE=DURATION:PT1H
X-Robots-Tag:noindex
X-PUBLISHED-TTL:PT1H
BEGIN:VTIMEZONE
TZID:America/Chicago
BEGIN:DAYLIGHT
TZOFFSETFROM:-0600
TZOFFSETTO:-0500
TZNAME:CDT
DTSTART:20210314T080000
END:DAYLIGHT
BEGIN:STANDARD
TZOFFSETFROM:-0500
TZOFFSETTO:-0600
TZNAME:CST
DTSTART:20211107T070000
END:STANDARD
BEGIN:DAYLIGHT
TZOFFSETFROM:-0600
TZOFFSETTO:-0500
TZNAME:CDT
DTSTART:20220313T080000
END:DAYLIGHT
BEGIN:STANDARD
TZOFFSETFROM:-0500
TZOFFSETTO:-0600
TZNAME:CST
DTSTART:20221106T070000
END:STANDARD
BEGIN:DAYLIGHT
TZOFFSETFROM:-0600
TZOFFSETTO:-0500
TZNAME:CDT
DTSTART:20230312T080000
END:DAYLIGHT
BEGIN:STANDARD
TZOFFSETFROM:-0500
TZOFFSETTO:-0600
TZNAME:CST
DTSTART:20231105T070000
END:STANDARD
END:VTIMEZONE
BEGIN:VEVENT
DTSTART;VALUE=DATE:20220101
DTEND;VALUE=DATE:20220102
DTSTAMP:20260424T155027
CREATED:20211224T185132Z
LAST-MODIFIED:20211225T010524Z
UID:8621-1640995200-1641081599@hgms.org
SUMMARY:NO Youth Section
DESCRIPTION:The Youth Section will NOT meet on Saturday\, January 1\, 2022.  See you at the next meeting on January 15!
URL:https://hgms.org/event/youth-section-9/
LOCATION:HGMS Clubhouse\, 10805 Brooklet Dr.\, Houston\, TX\, 77099\, United States
CATEGORIES:Meetings
END:VEVENT
BEGIN:VEVENT
DTSTART;TZID=America/Chicago:20220104T193000
DTEND;TZID=America/Chicago:20220104T210000
DTSTAMP:20260424T155027
CREATED:20211224T184140Z
LAST-MODIFIED:20211224T195146Z
UID:8596-1641324600-1641330000@hgms.org
SUMMARY:Board Meeting
DESCRIPTION:This meeting is virtual.  Members who wish to observe the meeting may email president@hgms.org to receive the Zoom link.
URL:https://hgms.org/event/board-meeting-5/2022-01-04/
CATEGORIES:Meetings
END:VEVENT
BEGIN:VEVENT
DTSTART;TZID=America/Chicago:20220105T120000
DTEND;TZID=America/Chicago:20220105T150000
DTSTAMP:20260424T155027
CREATED:20211224T193453Z
LAST-MODIFIED:20250923T020404Z
UID:9281-1641384000-1641394800@hgms.org
SUMMARY:Day Light Section
DESCRIPTION:See the HGMS Events page for monthly topics and additional details.
URL:https://hgms.org/event/day-light-section/2022-01-05/
LOCATION:HGMS Clubhouse\, 10805 Brooklet Dr.\, Houston\, TX\, 77099\, United States
CATEGORIES:Meetings
END:VEVENT
BEGIN:VEVENT
DTSTART;TZID=America/Chicago:20220115T123000
DTEND;TZID=America/Chicago:20220115T153000
DTSTAMP:20260424T155027
CREATED:20211224T192957Z
LAST-MODIFIED:20260227T165744Z
UID:9228-1642249800-1642260600@hgms.org
SUMMARY:Beading Section
DESCRIPTION:See the HGMS Events page for monthly topic and additional details.
URL:https://hgms.org/event/beading-section-2/
LOCATION:HGMS Clubhouse\, 10805 Brooklet Dr.\, Houston\, TX\, 77099\, United States
CATEGORIES:Meetings
END:VEVENT
BEGIN:VEVENT
DTSTART;TZID=America/Chicago:20220118T193000
DTEND;TZID=America/Chicago:20220118T210000
DTSTAMP:20260424T155027
CREATED:20211224T193622Z
LAST-MODIFIED:20220807T175640Z
UID:9306-1642534200-1642539600@hgms.org
SUMMARY:Paleo Section
DESCRIPTION:See the HGMS Events page for monthly topics and additional details.
URL:https://hgms.org/event/paleo-section/2022-01-18/
LOCATION:HGMS Clubhouse\, 10805 Brooklet Dr.\, Houston\, TX\, 77099\, United States
CATEGORIES:Meetings
END:VEVENT
BEGIN:VEVENT
DTSTART;TZID=America/Chicago:20220119T193000
DTEND;TZID=America/Chicago:20220119T210000
DTSTAMP:20260424T155027
CREATED:20211224T192728Z
LAST-MODIFIED:20250104T020721Z
UID:9206-1642620600-1642626000@hgms.org
SUMMARY:Mineral Section
DESCRIPTION:January 15th Meeting is Cancelled. \nMeetings are on the third Wednesday of the month and are hybrid\, in person and via Zoom. To join Zoom Meeting\, use link\nhttps://us02web.zoom.us/j/4517997588?pwd=SnZjckZBTnRMbHRxZitScE9WU3RWUT09 \nMeeting ID: 451 799 7588\nPasscode: 623955 \nSee the HGMS Events page for meeting topic.
URL:https://hgms.org/event/mineral-section/2022-01-19/
CATEGORIES:Meetings
END:VEVENT
BEGIN:VEVENT
DTSTART;TZID=America/Chicago:20220125T193000
DTEND;TZID=America/Chicago:20220125T210000
DTSTAMP:20260424T155027
CREATED:20211224T182359Z
LAST-MODIFIED:20211224T182359Z
UID:8573-1643139000-1643144400@hgms.org
SUMMARY:General Meeting
DESCRIPTION:This meeting is open to members and visitors.  It occurs the 4th Tuesday of each month.  Check our Events page for monthly topics. \nHGMS Events \n 
URL:https://hgms.org/event/general-meeting-4/2022-01-25/
CATEGORIES:Meetings
END:VEVENT
END:VCALENDAR