BEGIN:VCALENDAR
VERSION:2.0
PRODID:-//HGMS - Houston Gem &amp; Mineral Society - ECPv6.15.20//NONSGML v1.0//EN
CALSCALE:GREGORIAN
METHOD:PUBLISH
X-WR-CALNAME:HGMS - Houston Gem &amp; Mineral Society
X-ORIGINAL-URL:https://hgms.org
X-WR-CALDESC:Events for HGMS - Houston Gem &amp; Mineral Society
REFRESH-INTERVAL;VALUE=DURATION:PT1H
X-Robots-Tag:noindex
X-PUBLISHED-TTL:PT1H
BEGIN:VTIMEZONE
TZID:America/Chicago
BEGIN:DAYLIGHT
TZOFFSETFROM:-0600
TZOFFSETTO:-0500
TZNAME:CDT
DTSTART:20200308T080000
END:DAYLIGHT
BEGIN:STANDARD
TZOFFSETFROM:-0500
TZOFFSETTO:-0600
TZNAME:CST
DTSTART:20201101T070000
END:STANDARD
BEGIN:DAYLIGHT
TZOFFSETFROM:-0600
TZOFFSETTO:-0500
TZNAME:CDT
DTSTART:20210314T080000
END:DAYLIGHT
BEGIN:STANDARD
TZOFFSETFROM:-0500
TZOFFSETTO:-0600
TZNAME:CST
DTSTART:20211107T070000
END:STANDARD
BEGIN:DAYLIGHT
TZOFFSETFROM:-0600
TZOFFSETTO:-0500
TZNAME:CDT
DTSTART:20220313T080000
END:DAYLIGHT
BEGIN:STANDARD
TZOFFSETFROM:-0500
TZOFFSETTO:-0600
TZNAME:CST
DTSTART:20221106T070000
END:STANDARD
END:VTIMEZONE
BEGIN:VEVENT
DTSTART;TZID=America/Chicago:20211201T130000
DTEND;TZID=America/Chicago:20211201T130000
DTSTAMP:20260425T115650
CREATED:20211031T184423Z
LAST-MODIFIED:20211031T184423Z
UID:7990-1638363600-1638363600@hgms.org
SUMMARY:Day Light Holiday Party
DESCRIPTION:In person meeting — HOLIDAY PARTY
URL:https://hgms.org/event/day-light-holiday-party/
LOCATION:HGMS Clubhouse\, 10805 Brooklet Dr.\, Houston\, TX\, 77099\, United States
CATEGORIES:Meetings
END:VEVENT
BEGIN:VEVENT
DTSTART;TZID=America/Chicago:20211204T100000
DTEND;TZID=America/Chicago:20211204T120000
DTSTAMP:20260425T115650
CREATED:20211031T184440Z
LAST-MODIFIED:20211031T184440Z
UID:7995-1638612000-1638619200@hgms.org
SUMMARY:Youth Section
DESCRIPTION:Participants must be minimum age 5 to attend meetings and be accompanied by a parent or guardian at all times when at the clubhouse.  Masks REQUIRED.
URL:https://hgms.org/event/youth-section-7/
LOCATION:HGMS Clubhouse\, 10805 Brooklet Dr.\, Houston\, TX\, 77099\, United States
CATEGORIES:Meetings
END:VEVENT
BEGIN:VEVENT
DTSTART;TZID=America/Chicago:20211207T193000
DTEND;TZID=America/Chicago:20211207T213000
DTSTAMP:20260425T115650
CREATED:20211031T184408Z
LAST-MODIFIED:20211031T184408Z
UID:7987-1638905400-1638912600@hgms.org
SUMMARY:Board Meeting
DESCRIPTION:Members may observe the meeting; email President@hgms.org to request the Zoom link.
URL:https://hgms.org/event/board-meeting-4/
CATEGORIES:Meetings
END:VEVENT
BEGIN:VEVENT
DTSTART;VALUE=DATE:20211208
DTEND;VALUE=DATE:20211209
DTSTAMP:20260425T115650
CREATED:20211031T184424Z
LAST-MODIFIED:20211031T185333Z
UID:7991-1638921600-1639007999@hgms.org
SUMMARY:NO Faceting Meeting
DESCRIPTION:NO GEMSTONES AND FACETING MEETING IN DECEMBER
URL:https://hgms.org/event/faceting-meeting-3/
LOCATION:HGMS Clubhouse\, 10805 Brooklet Dr.\, Houston\, TX\, 77099\, United States
CATEGORIES:Meetings
END:VEVENT
BEGIN:VEVENT
DTSTART;TZID=America/Chicago:20211211T183000
DTEND;TZID=America/Chicago:20211211T210000
DTSTAMP:20260425T115650
CREATED:20211031T184440Z
LAST-MODIFIED:20211206T204405Z
UID:7994-1639247400-1639256400@hgms.org
SUMMARY:Club Holiday Party
DESCRIPTION:Members only event: Potluck dinner & live auction
URL:https://hgms.org/event/club-holiday-party/
LOCATION:Unitarian Fellowship of Houston\, 1504 Wirt Road\, Houston\, TX\, 77055\, United States
CATEGORIES:Meetings
END:VEVENT
BEGIN:VEVENT
DTSTART;TZID=America/Chicago:20211215T193000
DTEND;TZID=America/Chicago:20211215T210000
DTSTAMP:20260425T115650
CREATED:20211031T184424Z
LAST-MODIFIED:20211031T184424Z
UID:7992-1639596600-1639602000@hgms.org
SUMMARY:Mineral Meeting
DESCRIPTION:This meeting is virtual.  Join Zoom Meeting\nhttps://us02web.zoom.us/j/4517997588?pwd=SnZjckZBTnRMbHRxZitScE9WU3RWUT09 \nMeeting ID: 451 799 7588\nPasscode: 623955
URL:https://hgms.org/event/mineral-meeting-4/
LOCATION:HGMS Clubhouse\, 10805 Brooklet Dr.\, Houston\, TX\, 77099\, United States
CATEGORIES:Meetings
END:VEVENT
BEGIN:VEVENT
DTSTART;VALUE=DATE:20211218
DTEND;VALUE=DATE:20211219
DTSTAMP:20260425T115650
CREATED:20211031T184440Z
LAST-MODIFIED:20211031T185440Z
UID:7996-1639785600-1639871999@hgms.org
SUMMARY:NO Youth Meeting
DESCRIPTION:NO YOUTH MEETING TODAY
URL:https://hgms.org/event/youth-section-8/
LOCATION:HGMS Clubhouse\, 10805 Brooklet Dr.\, Houston\, TX\, 77099\, United States
CATEGORIES:Meetings
END:VEVENT
BEGIN:VEVENT
DTSTART;TZID=America/Chicago:20211218T123000
DTEND;TZID=America/Chicago:20211218T153000
DTSTAMP:20260425T115650
CREATED:20211031T184423Z
LAST-MODIFIED:20211105T152233Z
UID:7989-1639830600-1639841400@hgms.org
SUMMARY:Beading Meeting
DESCRIPTION:The Beading Section will meet in person.  Program to be announced.
URL:https://hgms.org/event/no-beading-meeting/
LOCATION:HGMS Clubhouse\, 10805 Brooklet Dr.\, Houston\, TX\, 77099\, United States
CATEGORIES:Meetings
END:VEVENT
BEGIN:VEVENT
DTSTART;VALUE=DATE:20211220
DTEND;VALUE=DATE:20211221
DTSTAMP:20260425T115650
CREATED:20211031T184439Z
LAST-MODIFIED:20211031T184439Z
UID:7993-1639958400-1640044799@hgms.org
SUMMARY:NO Lapidary Meeting
DESCRIPTION:NO LAPIDARY MEETING IN DECEMBER
URL:https://hgms.org/event/no-lapidary-meeting/
LOCATION:HGMS Clubhouse\, 10805 Brooklet Dr.\, Houston\, TX\, 77099\, United States
CATEGORIES:Meetings
END:VEVENT
BEGIN:VEVENT
DTSTART;VALUE=DATE:20211221
DTEND;VALUE=DATE:20211222
DTSTAMP:20260425T115650
CREATED:20211102T004736Z
LAST-MODIFIED:20211102T004736Z
UID:8022-1640044800-1640131199@hgms.org
SUMMARY:NO Paleo Meeting
DESCRIPTION:NO PALEO MEETING IN DECEMBER
URL:https://hgms.org/event/no-paleo-meeting/
CATEGORIES:Meetings
END:VEVENT
BEGIN:VEVENT
DTSTART;VALUE=DATE:20211228
DTEND;VALUE=DATE:20211229
DTSTAMP:20260425T115650
CREATED:20211031T184422Z
LAST-MODIFIED:20211031T184422Z
UID:7988-1640649600-1640735999@hgms.org
SUMMARY:NO General Meeting
DESCRIPTION:NO GENERAL  MEETING IN DECEMBER
URL:https://hgms.org/event/no-general-meeting/
LOCATION:HGMS Clubhouse\, 10805 Brooklet Dr.\, Houston\, TX\, 77099\, United States
CATEGORIES:Meetings
END:VEVENT
END:VCALENDAR