BEGIN:VCALENDAR
VERSION:2.0
PRODID:-//HGMS - Houston Gem &amp; Mineral Society - ECPv6.15.20//NONSGML v1.0//EN
CALSCALE:GREGORIAN
METHOD:PUBLISH
X-WR-CALNAME:HGMS - Houston Gem &amp; Mineral Society
X-ORIGINAL-URL:https://hgms.org
X-WR-CALDESC:Events for HGMS - Houston Gem &amp; Mineral Society
REFRESH-INTERVAL;VALUE=DURATION:PT1H
X-Robots-Tag:noindex
X-PUBLISHED-TTL:PT1H
BEGIN:VTIMEZONE
TZID:America/Chicago
BEGIN:DAYLIGHT
TZOFFSETFROM:-0600
TZOFFSETTO:-0500
TZNAME:CDT
DTSTART:20200308T080000
END:DAYLIGHT
BEGIN:STANDARD
TZOFFSETFROM:-0500
TZOFFSETTO:-0600
TZNAME:CST
DTSTART:20201101T070000
END:STANDARD
BEGIN:DAYLIGHT
TZOFFSETFROM:-0600
TZOFFSETTO:-0500
TZNAME:CDT
DTSTART:20210314T080000
END:DAYLIGHT
BEGIN:STANDARD
TZOFFSETFROM:-0500
TZOFFSETTO:-0600
TZNAME:CST
DTSTART:20211107T070000
END:STANDARD
BEGIN:DAYLIGHT
TZOFFSETFROM:-0600
TZOFFSETTO:-0500
TZNAME:CDT
DTSTART:20220313T080000
END:DAYLIGHT
BEGIN:STANDARD
TZOFFSETFROM:-0500
TZOFFSETTO:-0600
TZNAME:CST
DTSTART:20221106T070000
END:STANDARD
END:VTIMEZONE
BEGIN:VEVENT
DTSTART;TZID=America/Chicago:20211002T100000
DTEND;TZID=America/Chicago:20211002T120000
DTSTAMP:20260425T162915
CREATED:20210909T163506Z
LAST-MODIFIED:20210909T163506Z
UID:7528-1633168800-1633176000@hgms.org
SUMMARY:Youth Section
DESCRIPTION:Participants must be minimum age 5 to attend meetings and be accompanied by a parent or guardian at all times when at the clubhouse.  Masks REQUIRED.
URL:https://hgms.org/event/youth-section-3/
LOCATION:HGMS Clubhouse\, 10805 Brooklet Dr.\, Houston\, TX\, 77099\, United States
CATEGORIES:Meetings
END:VEVENT
BEGIN:VEVENT
DTSTART;TZID=America/Chicago:20211005T193000
DTEND;TZID=America/Chicago:20211005T213000
DTSTAMP:20260425T162915
CREATED:20210920T170259Z
LAST-MODIFIED:20210920T170259Z
UID:7577-1633462200-1633469400@hgms.org
SUMMARY:Board Meeting
DESCRIPTION:Members may observe the meeting; email President@hgms.org to request the Zoom link.
URL:https://hgms.org/event/board-meeting-2/
LOCATION:HGMS Clubhouse\, 10805 Brooklet Dr.\, Houston\, TX\, 77099\, United States
CATEGORIES:Meetings
END:VEVENT
BEGIN:VEVENT
DTSTART;TZID=America/Chicago:20211006T130000
DTEND;TZID=America/Chicago:20211006T150000
DTSTAMP:20260425T162915
CREATED:20210920T170313Z
LAST-MODIFIED:20210920T170313Z
UID:7581-1633525200-1633532400@hgms.org
SUMMARY:Day Light Meeting
DESCRIPTION:How to silver solder taught by Neal. Please bring the cabochons that you made in August. The cost for this session is $5.00; Register by emailing Daylight@hgms.org
URL:https://hgms.org/event/day-light-meeting-2/
LOCATION:HGMS Clubhouse\, 10805 Brooklet Dr.\, Houston\, TX\, 77099\, United States
CATEGORIES:Meetings
END:VEVENT
BEGIN:VEVENT
DTSTART;TZID=America/Chicago:20211013T183000
DTEND;TZID=America/Chicago:20211013T203000
DTSTAMP:20260425T162915
CREATED:20210920T170314Z
LAST-MODIFIED:20210920T170314Z
UID:7582-1634149800-1634157000@hgms.org
SUMMARY:Faceting Meeting
DESCRIPTION:This meeting is virtual.  Email faceting@hgms.org for the Zoom link.
URL:https://hgms.org/event/faceting-meeting/
LOCATION:HGMS Clubhouse\, 10805 Brooklet Dr.\, Houston\, TX\, 77099\, United States
CATEGORIES:Meetings
END:VEVENT
BEGIN:VEVENT
DTSTART;TZID=America/Chicago:20211016T100000
DTEND;TZID=America/Chicago:20211016T100000
DTSTAMP:20260425T162915
CREATED:20210920T170229Z
LAST-MODIFIED:20210920T170229Z
UID:7568-1634378400-1634378400@hgms.org
SUMMARY:Youth Section
DESCRIPTION:Participants must be minimum age 5 to attend meetings and be accompanied by a parent or guardian at all times when at the clubhouse.  Masks REQUIRED.
URL:https://hgms.org/event/youth-section-4/
LOCATION:HGMS Clubhouse\, 10805 Brooklet Dr.\, Houston\, TX\, 77099\, United States
CATEGORIES:Meetings
END:VEVENT
BEGIN:VEVENT
DTSTART;TZID=America/Chicago:20211016T123000
DTEND;TZID=America/Chicago:20211016T153000
DTSTAMP:20260425T162915
CREATED:20210920T170313Z
LAST-MODIFIED:20210920T170313Z
UID:7580-1634387400-1634398200@hgms.org
SUMMARY:Beading Meeting
DESCRIPTION:This meeting is in person at the HGMS Clubhouse.
URL:https://hgms.org/event/beading-meeting/
LOCATION:HGMS Clubhouse\, 10805 Brooklet Dr.\, Houston\, TX\, 77099\, United States
CATEGORIES:Meetings
END:VEVENT
BEGIN:VEVENT
DTSTART;TZID=America/Chicago:20211018T193000
DTEND;TZID=America/Chicago:20211018T210000
DTSTAMP:20260425T162915
CREATED:20210920T170328Z
LAST-MODIFIED:20210920T170328Z
UID:7584-1634585400-1634590800@hgms.org
SUMMARY:Lapidary Meeting
DESCRIPTION:This meeting is in person at the HGMS Clubhouse.
URL:https://hgms.org/event/lapidary-meeting-2/
LOCATION:HGMS Clubhouse\, 10805 Brooklet Dr.\, Houston\, TX\, 77099\, United States
CATEGORIES:Meetings
END:VEVENT
BEGIN:VEVENT
DTSTART;TZID=America/Chicago:20211020T193000
DTEND;TZID=America/Chicago:20211020T210000
DTSTAMP:20260425T162915
CREATED:20210920T170314Z
LAST-MODIFIED:20210920T170314Z
UID:7583-1634758200-1634763600@hgms.org
SUMMARY:Mineral Meeting
DESCRIPTION:This meeting is virtual.  Join Zoom Meeting\nhttps://us02web.zoom.us/j/4517997588?pwd=SnZjckZBTnRMbHRxZitScE9WU3RWUT09 \nMeeting ID: 451 799 7588\nPasscode: 623955
URL:https://hgms.org/event/mineral-meeting-2/
LOCATION:HGMS Clubhouse\, 10805 Brooklet Dr.\, Houston\, TX\, 77099\, United States
CATEGORIES:Meetings
END:VEVENT
BEGIN:VEVENT
DTSTART;TZID=America/Chicago:20211026T193000
DTEND;TZID=America/Chicago:20211026T193000
DTSTAMP:20260425T162915
CREATED:20210920T170229Z
LAST-MODIFIED:20211010T130818Z
UID:7567-1635276600-1635276600@hgms.org
SUMMARY:Paleo Meeting
DESCRIPTION:The Paleo Section meeting normally scheduled for the 3rd Tuesday (Oct 19) will be held at the General Meeting time on Oct 26 because Paleo is supplying the speaker. Dr. Spaw will be doing a presentation via zoom on Trace Fossils. \n 
URL:https://hgms.org/event/paleo-meeting-2/
LOCATION:HGMS Clubhouse\, 10805 Brooklet Dr.\, Houston\, TX\, 77099\, United States
CATEGORIES:Meetings
END:VEVENT
BEGIN:VEVENT
DTSTART;TZID=America/Chicago:20211026T193000
DTEND;TZID=America/Chicago:20211026T210000
DTSTAMP:20260425T162915
CREATED:20210920T170259Z
LAST-MODIFIED:20210920T170259Z
UID:7578-1635276600-1635282000@hgms.org
SUMMARY:General Meeting
DESCRIPTION:This meeting is in person at the HGMS Clubhouse.
URL:https://hgms.org/event/general-meeting-2/
LOCATION:HGMS Clubhouse\, 10805 Brooklet Dr.\, Houston\, TX\, 77099\, United States
CATEGORIES:Meetings
END:VEVENT
END:VCALENDAR